BEGIN:VCALENDAR
VERSION:2.0
PRODID:-//Wilde Lake Community Association - ECPv6.15.3//NONSGML v1.0//EN
CALSCALE:GREGORIAN
METHOD:PUBLISH
X-ORIGINAL-URL:https://www.wildelake.org
X-WR-CALDESC:Events for Wilde Lake Community Association
REFRESH-INTERVAL;VALUE=DURATION:PT1H
X-Robots-Tag:noindex
X-PUBLISHED-TTL:PT1H
BEGIN:VTIMEZONE
TZID:America/New_York
BEGIN:DAYLIGHT
TZOFFSETFROM:-0500
TZOFFSETTO:-0400
TZNAME:EDT
DTSTART:20250309T070000
END:DAYLIGHT
BEGIN:STANDARD
TZOFFSETFROM:-0400
TZOFFSETTO:-0500
TZNAME:EST
DTSTART:20251102T060000
END:STANDARD
END:VTIMEZONE
BEGIN:VEVENT
DTSTART;TZID=America/New_York:20251108T100000
DTEND;TZID=America/New_York:20251108T120000
DTSTAMP:20260421T225256
CREATED:20250905T153404Z
LAST-MODIFIED:20250905T153404Z
UID:8833-1762596000-1762603200@www.wildelake.org
SUMMARY:Adopt-a-Spot Cleanup with Wilde Lake CARES: Bryant Woods
DESCRIPTION:Join the Wilde Lake CARES team for some fall maintenance at our Bryant Woods Adopt-a-Spot. Meet behind the 10290 block of Wilde Lake Terrace at 10AM. Follow the pathway behind the rowhouses to find the spot. Please dress appropriately for pulling weeds and working outdoors. This is a family friendly event so bring the whole gang!
URL:https://www.wildelake.org/single-cal-event/adopt-a-spot-cleanup-with-wilde-lake-cares-bryant-woods-2/
LOCATION:Wilde Lake Terrace Adopt-a-Spot\, Wilde Lake Terrace\, Columbia\, MD\, 21044\, United States
CATEGORIES:Events
END:VEVENT
BEGIN:VEVENT
DTSTART;TZID=America/New_York:20251108T160000
DTEND;TZID=America/New_York:20251108T173000
DTSTAMP:20260421T225256
CREATED:20251010T153454Z
LAST-MODIFIED:20251010T153454Z
UID:8991-1762617600-1762623000@www.wildelake.org
SUMMARY:Heart of Maryland Chorus Presents: Night at the Harmony Museum\, Nov. 8
DESCRIPTION:The guards at the Museum of Harmony have been trying to compete as a barbershop quartet and make it onto the International Stage for years now but they just do not have the right stuff. But there is a way they could do it\, if they steal the “Mystical Pitch Pipe of King Sharpe Wit” which has magical properties and brings to life all of the exhibits of the museum each night. These museum exhibits have a dream of their own to sing as a chorus in competition\, but this means the magical pitch pipe must remain in their possession. Will the newly hired night-guard be able to thwart the plans of the thieving older guards and keep harmony where it belongs in the museum? \nJoin the Heart of Maryland Chorus for Night at the Harmony Museum\, their annual show featuring the Heart of Maryland and guest quartets. After the show\, stay for the Afterglow\, featuring food\, snacks\, desserts\, beverages\, and more barbershop entertainment.  \nDoors open at 3:30 pm. Tickets are $30 plus a service fee and are available now at Heart of Maryland’s online box office.
URL:https://www.wildelake.org/single-cal-event/heart-of-maryland-chorus-presents-night-at-the-harmony-museum-nov-8/
LOCATION:Slayton House\, 10400 Cross Fox Lane\, Columbia\, MD\, 21044
CATEGORIES:Theatrical Productions
END:VEVENT
END:VCALENDAR