BEGIN:VCALENDAR
VERSION:2.0
PRODID:-//Wilde Lake Community Association - ECPv6.15.3//NONSGML v1.0//EN
CALSCALE:GREGORIAN
METHOD:PUBLISH
X-ORIGINAL-URL:https://www.wildelake.org
X-WR-CALDESC:Events for Wilde Lake Community Association
REFRESH-INTERVAL;VALUE=DURATION:PT1H
X-Robots-Tag:noindex
X-PUBLISHED-TTL:PT1H
BEGIN:VTIMEZONE
TZID:America/New_York
BEGIN:DAYLIGHT
TZOFFSETFROM:-0500
TZOFFSETTO:-0400
TZNAME:EDT
DTSTART:20250309T070000
END:DAYLIGHT
BEGIN:STANDARD
TZOFFSETFROM:-0400
TZOFFSETTO:-0500
TZNAME:EST
DTSTART:20251102T060000
END:STANDARD
END:VTIMEZONE
BEGIN:VEVENT
DTSTART;TZID=America/New_York:20250806T180000
DTEND;TZID=America/New_York:20250806T200000
DTSTAMP:20260422T045239
CREATED:20250523T161436Z
LAST-MODIFIED:20250523T161436Z
UID:8320-1754503200-1754510400@www.wildelake.org
SUMMARY:Wilde Lake + Town Center Pool Party\, August 6
DESCRIPTION:Join Columbia Town Center & Wilde Lake communities for the Annual Pool Party Bash on Wednesday\, August 6 from 6-8PM! Whether you’re diving in or just chilling poolside\, there’s something for everyone: \n\nFood for attendees\nMusic to keep the energy high\nGames\nThe opportunity to meet neighbors\, make new friends\, and enjoy the summer fun!\n\nBring your swimsuit\, towel\, and your best pool party attitude!\nAll residents of both villages are welcome – don’t miss out! \nTo register\, visit Eventbrite: Wilde Lake + Town Center 2025 Pool Party. \nPre-registration is required as space is limited. Proof of residency is required to enter.
URL:https://www.wildelake.org/single-cal-event/wilde-lake-town-center-pool-party-august-6/
LOCATION:Faulkner Ridge Pool\, 10518 Marble Faun Lane\, Columbia\, MD\, 21228\, United States
CATEGORIES:Events
END:VEVENT
END:VCALENDAR