BEGIN:VCALENDAR
VERSION:2.0
PRODID:-//Wilde Lake Community Association - ECPv6.15.3//NONSGML v1.0//EN
CALSCALE:GREGORIAN
METHOD:PUBLISH
X-ORIGINAL-URL:https://www.wildelake.org
X-WR-CALDESC:Events for Wilde Lake Community Association
REFRESH-INTERVAL;VALUE=DURATION:PT1H
X-Robots-Tag:noindex
X-PUBLISHED-TTL:PT1H
BEGIN:VTIMEZONE
TZID:America/New_York
BEGIN:DAYLIGHT
TZOFFSETFROM:-0500
TZOFFSETTO:-0400
TZNAME:EDT
DTSTART:20250309T070000
END:DAYLIGHT
BEGIN:STANDARD
TZOFFSETFROM:-0400
TZOFFSETTO:-0500
TZNAME:EST
DTSTART:20251102T060000
END:STANDARD
END:VTIMEZONE
BEGIN:VEVENT
DTSTART;TZID=America/New_York:20250718T093000
DTEND;TZID=America/New_York:20250718T113000
DTSTAMP:20260422T044046
CREATED:20250523T135712Z
LAST-MODIFIED:20250523T135712Z
UID:8315-1752831000-1752838200@www.wildelake.org
SUMMARY:Hooked on Fishing\, July 18
DESCRIPTION:Join Wilde Lake Community Association\, Columbia Association\, and the Maryland Department of Natural Resources for a fishing tutorial for children ages 8-15! \nLearn casting technique\, fishing etiquette and identification\, catch and release\, safety and more right at beautiful Wilde Lake Park. There is no cost to attend\, but advance registration is required as space is limited!  \nFor details and to register\, visit Eventbrite.
URL:https://www.wildelake.org/single-cal-event/hooked-on-fishing-july-18/
LOCATION:Wilde Lake Park\, 10002 Hyla Brook Rd.
CATEGORIES:Events
END:VEVENT
END:VCALENDAR