BEGIN:VCALENDAR
VERSION:2.0
PRODID:-//Wilde Lake Community Association - ECPv6.15.3//NONSGML v1.0//EN
CALSCALE:GREGORIAN
METHOD:PUBLISH
X-ORIGINAL-URL:https://www.wildelake.org
X-WR-CALDESC:Events for Wilde Lake Community Association
REFRESH-INTERVAL;VALUE=DURATION:PT1H
X-Robots-Tag:noindex
X-PUBLISHED-TTL:PT1H
BEGIN:VTIMEZONE
TZID:America/New_York
BEGIN:DAYLIGHT
TZOFFSETFROM:-0500
TZOFFSETTO:-0400
TZNAME:EDT
DTSTART:20250309T070000
END:DAYLIGHT
BEGIN:STANDARD
TZOFFSETFROM:-0400
TZOFFSETTO:-0500
TZNAME:EST
DTSTART:20251102T060000
END:STANDARD
END:VTIMEZONE
BEGIN:VEVENT
DTSTART;TZID=America/New_York:20250710T180000
DTEND;TZID=America/New_York:20250710T200000
DTSTAMP:20260422T073826
CREATED:20250710T124736Z
LAST-MODIFIED:20250710T124736Z
UID:8585-1752170400-1752177600@www.wildelake.org
SUMMARY:Kimco Summer Concert Series: Breaking 12
DESCRIPTION:Join neighbors and friends in the Wilde Lake Village Center on Thursday\, July 10 from 6-8PM to enjoy a live performance from Breaking 12! Breaking 12 performs a mix of timeless hits you’ll recognize from the 80s and 90 along with fresh original music. Grab dinner\, snacks\, or coffee from one of our Village merchants and make an evening of it! \nRegistration is not required. If required due to inclement weather\, rain dates will be posted on the Shoppes at Wilde Lake website.
URL:https://www.wildelake.org/single-cal-event/kimco-summer-concert-series-breaking-12/
LOCATION:Wilde Lake Village Green\, 5325 Village Center Dr\, Columbia\, MD\, 21044\, United States
CATEGORIES:Events
END:VEVENT
END:VCALENDAR