BEGIN:VCALENDAR
VERSION:2.0
PRODID:-//Wilde Lake Community Association - ECPv6.15.3//NONSGML v1.0//EN
CALSCALE:GREGORIAN
METHOD:PUBLISH
X-WR-CALNAME:Wilde Lake Community Association
X-ORIGINAL-URL:https://www.wildelake.org
X-WR-CALDESC:Events for Wilde Lake Community Association
REFRESH-INTERVAL;VALUE=DURATION:PT1H
X-Robots-Tag:noindex
X-PUBLISHED-TTL:PT1H
BEGIN:VTIMEZONE
TZID:America/New_York
BEGIN:DAYLIGHT
TZOFFSETFROM:-0500
TZOFFSETTO:-0400
TZNAME:EDT
DTSTART:20250309T070000
END:DAYLIGHT
BEGIN:STANDARD
TZOFFSETFROM:-0400
TZOFFSETTO:-0500
TZNAME:EST
DTSTART:20251102T060000
END:STANDARD
END:VTIMEZONE
BEGIN:VEVENT
DTSTART;TZID=America/New_York:20250426T100000
DTEND;TZID=America/New_York:20250426T120000
DTSTAMP:20260422T164934
CREATED:20250304T155851Z
LAST-MODIFIED:20250319T132105Z
UID:8045-1745661600-1745668800@www.wildelake.org
SUMMARY:BWES Spring Cleanup with BWES PTA and Wilde Lake CARES
DESCRIPTION:Join the Bryant Woods Elementary School PTA and Wilde Lake CARES to help clean up the BWES schoolyard and surrounding community on Saturday\, April 26 starting at 10AM. Please dress appropriately for pulling weeds and working outdoors. This is a family friendly event so bring the whole gang! \nNo registration or RSVP required. Questions? Contact pta.bryantwoods@gmail.com. \n 
URL:https://www.wildelake.org/single-cal-event/bwes-spring-cleanup-with-bwes-pta-and-wilde-lake-cares/
LOCATION:Bryant Woods Elementary School\, 5450 Blue Heron Lane\, Columbia\, MD\, 21044\, United States
CATEGORIES:Events
END:VEVENT
BEGIN:VEVENT
DTSTART;TZID=America/New_York:20250426T100000
DTEND;TZID=America/New_York:20250426T140000
DTSTAMP:20260422T164934
CREATED:20250129T180139Z
LAST-MODIFIED:20250425T124525Z
UID:7785-1745661600-1745676000@www.wildelake.org
SUMMARY:Earth Day Festival & Plant Exchange
DESCRIPTION:Please note that the Earth Day Festival scheduled for Saturday\, April 26 has been canceled due to the weather forecast. The Wilde Lake CARES Plant Exchange and HC DrugFree drive-thru medication and sharps disposal events will take place as scheduled\, rain or shine. Please see below for details on those events. Thank you! \n 
URL:https://www.wildelake.org/single-cal-event/earth-day-festival/
LOCATION:Slayton House Green\, 10400 Cross Fox Lane\, Columbia\, MD\, 21044
CATEGORIES:Events
END:VEVENT
END:VCALENDAR