BEGIN:VCALENDAR
VERSION:2.0
PRODID:-//Wilde Lake Community Association - ECPv6.15.3//NONSGML v1.0//EN
CALSCALE:GREGORIAN
METHOD:PUBLISH
X-WR-CALNAME:Wilde Lake Community Association
X-ORIGINAL-URL:https://www.wildelake.org
X-WR-CALDESC:Events for Wilde Lake Community Association
REFRESH-INTERVAL;VALUE=DURATION:PT1H
X-Robots-Tag:noindex
X-PUBLISHED-TTL:PT1H
BEGIN:VTIMEZONE
TZID:America/New_York
BEGIN:DAYLIGHT
TZOFFSETFROM:-0500
TZOFFSETTO:-0400
TZNAME:EDT
DTSTART:20250309T070000
END:DAYLIGHT
BEGIN:STANDARD
TZOFFSETFROM:-0400
TZOFFSETTO:-0500
TZNAME:EST
DTSTART:20251102T060000
END:STANDARD
END:VTIMEZONE
BEGIN:VEVENT
DTSTART;TZID=America/New_York:20251026T100000
DTEND;TZID=America/New_York:20251026T120000
DTSTAMP:20260422T011628
CREATED:20250905T153859Z
LAST-MODIFIED:20250905T154747Z
UID:8835-1761472800-1761480000@www.wildelake.org
SUMMARY:Adopt-a-Spot Cleanup with Wilde Lake CARES: Rouse Rock
DESCRIPTION:Join the Wilde Lake CARES team for some fall maintenance at our signature Adopt-a-Spot in Wilde Lake Park. Meet in the main parking lot off Hyla Brook Road (by the dock) at 10AM. Please dress appropriately for pulling weeds and working outdoors. This is a family friendly event so bring the whole gang!
URL:https://www.wildelake.org/single-cal-event/adopt-a-spot-cleanup-with-wilde-lake-cares-rouse-rock-2/
LOCATION:Wilde Lake Park Adopt-a-Spot\, 10027 Hyla Brook Road\, Columbia\, MD\, 21044\, United States
CATEGORIES:Events
END:VEVENT
END:VCALENDAR