BEGIN:VCALENDAR
VERSION:2.0
PRODID:-//Wilde Lake Community Association - ECPv6.15.3//NONSGML v1.0//EN
CALSCALE:GREGORIAN
METHOD:PUBLISH
X-WR-CALNAME:Wilde Lake Community Association
X-ORIGINAL-URL:https://www.wildelake.org
X-WR-CALDESC:Events for Wilde Lake Community Association
REFRESH-INTERVAL;VALUE=DURATION:PT1H
X-Robots-Tag:noindex
X-PUBLISHED-TTL:PT1H
BEGIN:VTIMEZONE
TZID:America/New_York
BEGIN:DAYLIGHT
TZOFFSETFROM:-0500
TZOFFSETTO:-0400
TZNAME:EDT
DTSTART:20250309T070000
END:DAYLIGHT
BEGIN:STANDARD
TZOFFSETFROM:-0400
TZOFFSETTO:-0500
TZNAME:EST
DTSTART:20251102T060000
END:STANDARD
END:VTIMEZONE
BEGIN:VEVENT
DTSTART;TZID=America/New_York:20250405T090000
DTEND;TZID=America/New_York:20250405T110000
DTSTAMP:20260422T151544
CREATED:20250211T154153Z
LAST-MODIFIED:20250321T165300Z
UID:7944-1743843600-1743850800@www.wildelake.org
SUMMARY:Columbia Cleans Day 2025
DESCRIPTION:Columbia Cleans Day is a community-wide volunteer event where residents across Columbia come together to clean up parks\, pathways\, and public spaces. This annual initiative with Columbia Association and Wilde Lake CARES fosters community pride\, environmental stewardship\, and a cleaner\, greener community for all. We hope you will volunteer at our event! Please register before 3/26/25 to give our team a headcount for supplies. Trash bags\, trash pickers\, gloves\, sanitizer\, and vests will be provided. Register here!
URL:https://www.wildelake.org/single-cal-event/columbia-cleans-day-2025/
LOCATION:Running Brook Pool\, 5730 Columbia Rd\, Columbia\, MD\, 21044\, United States
CATEGORIES:Events
END:VEVENT
BEGIN:VEVENT
DTSTART;TZID=America/New_York:20250426T100000
DTEND;TZID=America/New_York:20250426T120000
DTSTAMP:20260422T151544
CREATED:20250304T155851Z
LAST-MODIFIED:20250319T132105Z
UID:8045-1745661600-1745668800@www.wildelake.org
SUMMARY:BWES Spring Cleanup with BWES PTA and Wilde Lake CARES
DESCRIPTION:Join the Bryant Woods Elementary School PTA and Wilde Lake CARES to help clean up the BWES schoolyard and surrounding community on Saturday\, April 26 starting at 10AM. Please dress appropriately for pulling weeds and working outdoors. This is a family friendly event so bring the whole gang! \nNo registration or RSVP required. Questions? Contact pta.bryantwoods@gmail.com. \n 
URL:https://www.wildelake.org/single-cal-event/bwes-spring-cleanup-with-bwes-pta-and-wilde-lake-cares/
LOCATION:Bryant Woods Elementary School\, 5450 Blue Heron Lane\, Columbia\, MD\, 21044\, United States
CATEGORIES:Events
END:VEVENT
BEGIN:VEVENT
DTSTART;TZID=America/New_York:20250426T100000
DTEND;TZID=America/New_York:20250426T140000
DTSTAMP:20260422T151544
CREATED:20250129T180139Z
LAST-MODIFIED:20250425T124525Z
UID:7785-1745661600-1745676000@www.wildelake.org
SUMMARY:Earth Day Festival & Plant Exchange
DESCRIPTION:Please note that the Earth Day Festival scheduled for Saturday\, April 26 has been canceled due to the weather forecast. The Wilde Lake CARES Plant Exchange and HC DrugFree drive-thru medication and sharps disposal events will take place as scheduled\, rain or shine. Please see below for details on those events. Thank you! \n 
URL:https://www.wildelake.org/single-cal-event/earth-day-festival/
LOCATION:Slayton House Green\, 10400 Cross Fox Lane\, Columbia\, MD\, 21044
CATEGORIES:Events
END:VEVENT
BEGIN:VEVENT
DTSTART;TZID=America/New_York:20250427T090000
DTEND;TZID=America/New_York:20250427T110000
DTSTAMP:20260422T151544
CREATED:20250304T152909Z
LAST-MODIFIED:20250304T153249Z
UID:8032-1745744400-1745751600@www.wildelake.org
SUMMARY:Adopt-a-Spot Cleanup with Wilde Lake CARES - Snowy Reach
DESCRIPTION:Join the Wilde Lake CARES team for some spring maintenance at the Snowy Reach Adopt a Spot in the Running Brook neighborhood. Meet at the Open Space parcel at the bottom of Snowy Reach off West Running Brook Road on Sunday\, April 27 at 9AM. Please dress appropriately for pulling weeds and working outdoors. This is a family friendly event so bring the whole gang! \nRegistration is not required\, but feel free to respond to and share CARES’ Facebook Event!
URL:https://www.wildelake.org/single-cal-event/adopt-a-spot-cleanup-with-wilde-lake-cares-snowy-reach/
LOCATION:Snowy Reach Adopt-a-Spot\, 4951 Snowy Reach\, Columbia\, MD\, 21044\, United States
CATEGORIES:Events
END:VEVENT
BEGIN:VEVENT
DTSTART;TZID=America/New_York:20250427T150000
DTEND;TZID=America/New_York:20250427T173000
DTSTAMP:20260422T151544
CREATED:20250421T163431Z
LAST-MODIFIED:20250421T163533Z
UID:8192-1745766000-1745775000@www.wildelake.org
SUMMARY:Raw Element Dance Company Presents: 2B Continued\, April 27
DESCRIPTION:Join Raw Element for a one-of-a-kind event at the Slayton House Theater (10400 Cross Fox Lane) on Sunday\, April 27\, 2025 that will leave you wanting more! Experience live performances from talented artists\, interactive moments\, and a vibrant atmosphere that celebrates the Raw Element season. Whether you’re a music lover\, art enthusiast\, or just looking for a fun time\, this event is not to be missed. \nDoors open at 2:30PM and the show starts at 3PM. Tickets are $25/each online. Remaining tickets will be available at the door for $35/each on the day of the performance. \n 
URL:https://www.wildelake.org/single-cal-event/raw-element-dance-company-presents-2b-continued-april-27/
LOCATION:Slayton House\, 10400 Cross Fox Lane\, Columbia\, MD\, 21044
CATEGORIES:Events
END:VEVENT
END:VCALENDAR