BEGIN:VCALENDAR
VERSION:2.0
PRODID:-//Wilde Lake Community Association - ECPv6.15.3//NONSGML v1.0//EN
CALSCALE:GREGORIAN
METHOD:PUBLISH
X-ORIGINAL-URL:https://www.wildelake.org
X-WR-CALDESC:Events for Wilde Lake Community Association
REFRESH-INTERVAL;VALUE=DURATION:PT1H
X-Robots-Tag:noindex
X-PUBLISHED-TTL:PT1H
BEGIN:VTIMEZONE
TZID:America/New_York
BEGIN:DAYLIGHT
TZOFFSETFROM:-0500
TZOFFSETTO:-0400
TZNAME:EDT
DTSTART:20260308T070000
END:DAYLIGHT
BEGIN:STANDARD
TZOFFSETFROM:-0400
TZOFFSETTO:-0500
TZNAME:EST
DTSTART:20261101T060000
END:STANDARD
END:VTIMEZONE
BEGIN:VEVENT
DTSTART;TZID=America/New_York:20260207T193000
DTEND;TZID=America/New_York:20260207T213000
DTSTAMP:20260421T213221
CREATED:20260109T191533Z
LAST-MODIFIED:20260114T181833Z
UID:9332-1770492600-1770499800@www.wildelake.org
SUMMARY:Silhouette Stages: Decades Cabaret\, Feb. 7
DESCRIPTION:Mark your calendars to join Silhouette Stages for its Winter Cabaret at Slayton House (10400 Cross Fox Lane) on Saturday\, February 7\, 2026 at 7:30PM. \nFrom Silhouette: “You’ve heard about Taylor Swift’s Eras\, but you’ve never experienced Silhouette Stages Decades – yet!” Cabaret artists will be performing songs\, dances\, and other acts made popular from the 1970s through the 2000s. \nTickets are $15 general admission and available at Silhouette’s online box office.
URL:https://www.wildelake.org/single-cal-event/silhouette-stages-decades-cabaret-feb-7/
LOCATION:Slayton House\, 10400 Cross Fox Lane\, Columbia\, MD\, 21044
CATEGORIES:Theatrical Productions
END:VEVENT
END:VCALENDAR