BEGIN:VCALENDAR
VERSION:2.0
PRODID:-//Wilde Lake Community Association - ECPv6.15.3//NONSGML v1.0//EN
CALSCALE:GREGORIAN
METHOD:PUBLISH
X-WR-CALNAME:Wilde Lake Community Association
X-ORIGINAL-URL:https://www.wildelake.org
X-WR-CALDESC:Events for Wilde Lake Community Association
REFRESH-INTERVAL;VALUE=DURATION:PT1H
X-Robots-Tag:noindex
X-PUBLISHED-TTL:PT1H
BEGIN:VTIMEZONE
TZID:America/New_York
BEGIN:DAYLIGHT
TZOFFSETFROM:-0500
TZOFFSETTO:-0400
TZNAME:EDT
DTSTART:20260308T070000
END:DAYLIGHT
BEGIN:STANDARD
TZOFFSETFROM:-0400
TZOFFSETTO:-0500
TZNAME:EST
DTSTART:20261101T060000
END:STANDARD
END:VTIMEZONE
BEGIN:VEVENT
DTSTART;TZID=America/New_York:20260425T120000
DTEND;TZID=America/New_York:20260425T123000
DTSTAMP:20260421T224340
CREATED:20260305T193143Z
LAST-MODIFIED:20260407T135918Z
UID:9559-1777118400-1777120200@www.wildelake.org
SUMMARY:Wilde Lake CARES Plant Exchange\, April 25
DESCRIPTION:Save the date for the 9th Annual Wilde Lake CARES plant exchange! \nTrade your extra or unwanted seedlings\, seeds\, or plants for seedlings\, seeds\, and plants donated by other gardeners. This event is open to everyone and is a great way to add a variety of plants native to Maryland to your gardens. \nThe exchange will start at noon sharp on Saturday\, April 25 on the Wilde Lake Village Green near Slayton House (10400 Cross Fox Lane). Plan to vote in the Wilde Lake Village Elections before or after! \nLearn more about the event here and on the Wilde Lake CARES Facebook page.
URL:https://www.wildelake.org/single-cal-event/wilde-lake-cares-plant-exchange-april-25/
LOCATION:Wilde Lake Village Green\, 5325 Village Center Dr\, Columbia\, MD\, 21044\, United States
CATEGORIES:Events
END:VEVENT
BEGIN:VEVENT
DTSTART;TZID=America/New_York:20260426T100000
DTEND;TZID=America/New_York:20260426T120000
DTSTAMP:20260421T224340
CREATED:20260305T191649Z
LAST-MODIFIED:20260305T191649Z
UID:9555-1777197600-1777204800@www.wildelake.org
SUMMARY:Adopt-a-Spot Cleanup with Wilde Lake CARES - Snowy Reach
DESCRIPTION:Join the Wilde Lake CARES team for some spring maintenance at its Snowy Reach Adopt a Spot in Running Brook. Meet at the bottom of the Snowy Reach cul-de-sac at 10AM on Sunday\, April 26. Please dress appropriately for pulling weeds and working outdoors. This is a family friendly event so bring the whole gang! \nRegistration is not required. For updates\, visit Wilde Lake CARES’ Facebook page.
URL:https://www.wildelake.org/single-cal-event/adopt-a-spot-cleanup-with-wilde-lake-cares-snowy-reach-3/
LOCATION:Snowy Reach Adopt-a-Spot\, 4951 Snowy Reach\, Columbia\, MD\, 21044\, United States
CATEGORIES:Events
END:VEVENT
END:VCALENDAR