BEGIN:VCALENDAR
VERSION:2.0
PRODID:-//Wilde Lake Community Association - ECPv6.15.3//NONSGML v1.0//EN
CALSCALE:GREGORIAN
METHOD:PUBLISH
X-WR-CALNAME:Wilde Lake Community Association
X-ORIGINAL-URL:https://www.wildelake.org
X-WR-CALDESC:Events for Wilde Lake Community Association
REFRESH-INTERVAL;VALUE=DURATION:PT1H
X-Robots-Tag:noindex
X-PUBLISHED-TTL:PT1H
BEGIN:VTIMEZONE
TZID:America/New_York
BEGIN:DAYLIGHT
TZOFFSETFROM:-0500
TZOFFSETTO:-0400
TZNAME:EDT
DTSTART:20250309T070000
END:DAYLIGHT
BEGIN:STANDARD
TZOFFSETFROM:-0400
TZOFFSETTO:-0500
TZNAME:EST
DTSTART:20251102T060000
END:STANDARD
END:VTIMEZONE
BEGIN:VEVENT
DTSTART;TZID=America/New_York:20250623T090000
DTEND;TZID=America/New_York:20250703T150000
DTSTAMP:20260421T103138
CREATED:20250206T171523Z
LAST-MODIFIED:20250206T171523Z
UID:7935-1750669200-1751554800@www.wildelake.org
SUMMARY:Camp at Slayton House: CCTA Rising Stars\, June 23-July 3
DESCRIPTION:For kids 6-12! Click the image below or visit https://cctarts.shop/programs/rising-stars/ for more information and to register.
URL:https://www.wildelake.org/single-cal-event/camp-at-slayton-house-ccta-rising-stars-june-23-july-3/
LOCATION:Slayton House\, 10400 Cross Fox Lane\, Columbia\, MD\, 21044
CATEGORIES:Camp
END:VEVENT
BEGIN:VEVENT
DTSTART;VALUE=DATE:20250619
DTEND;VALUE=DATE:20250620
DTSTAMP:20260421T103138
CREATED:20250617T183008Z
LAST-MODIFIED:20250617T183103Z
UID:8497-1750291200-1750377599@www.wildelake.org
SUMMARY:WLCA Offices + Slayton House Closed\, June 19
DESCRIPTION:WLCA offices and Slayton House will be closed on Thursday\, June 19 for the Juneteenth holiday. We will reopen at 9AM on Friday\, June 20. Happy Juneteenth! \nLooking to celebrate locally? Join Columbia Association and your neighbors and friends for Juneteenth at the Lakefront from 2-8:30PM!
URL:https://www.wildelake.org/single-cal-event/wlca-offices-slayton-house-closed-june-19/
LOCATION:Slayton House\, 10400 Cross Fox Lane\, Columbia\, MD\, 21044
CATEGORIES:Closings
END:VEVENT
BEGIN:VEVENT
DTSTART;TZID=America/New_York:20250615T090000
DTEND;TZID=America/New_York:20250615T110000
DTSTAMP:20260421T103138
CREATED:20250610T143115Z
LAST-MODIFIED:20250611T134700Z
UID:8438-1749978000-1749985200@www.wildelake.org
SUMMARY:HoCo Native Landscaping Tour: Wilde Lake\, June 15
DESCRIPTION:Sunday\, June 15 | 9-11AM | Additional information about the tour available at 2025 HoCo Native Landscaping Series \nCome see what our neighbors in Wilde Lake’s Running Brook neighborhood are doing to support pollinators and our environment through native landscaping! \n\nFrom Wilde Lake CARES:\n \n\nThe Howard County Landscaping Tour is in Wilde Lake this Sunday\, June 15th from 9:00 to 11:00 am.  The houses are all in Running Brook and we will be giving out free Threadleaf Blue Star (Amsonia hubrichtii) plants. \nEach of the three properties is different\, but all are Bay-Wise certified and Bee City registered. Each has projects to mitigate stormwater runoff and has replaced sections of lawn with native trees\, shrubs and perennials. \nYou can expect to see a beautiful sidewalk planting strip (aka hellstrip)\, a small pond with native aquatic plants\, layered gardens surrounding the houses with native perimeter and foundation plantings\, and a cul-de-sac with violets as groundcover rather than grass. Use this link for complete details:  2025 HoCo Native Landscaping Series. \nEach tour is mostly self-guided. Homeowners will be there to answer questions and help you get the most out of each visit. Homeowners interested in seeing how native plants help with stormwater management while blending in beautifully with traditional landscaping techniques are encouraged to attend tours in their neighborhood and beyond. \nParticipating homeowners contribute to the health of our climate\, environment\, waterways\, and beneficial wildlife. They have removed many invasive plants\, improved soil health\, and controlled stormwater runoff and erosion. \nThanks to Chesapeake Bay Trust’s Community Engagement and Restoration Grant and Howard County Bee City\, and additional support from community sponsors\, we will be giving out $10\,000 worth of free native plants to tour visitors.  In addition to a free quart-sized native perennial for the first 55 households at every yard\, there will be a lottery with the opportunity to win a free native tree\, shrub\, or $25 gift certificate. \nNo RSVP required. This event is rain or shine! Please consider carpooling as parking is limited\, or bike or walk (CA Pathways resources and map).  
URL:https://www.wildelake.org/single-cal-event/hoco-native-landscaping-tour-wilde-lake-june-15/
LOCATION:Various
CATEGORIES:Events
END:VEVENT
BEGIN:VEVENT
DTSTART;TZID=America/New_York:20250610T183000
DTEND;TZID=America/New_York:20250610T193000
DTSTAMP:20260421T103138
CREATED:20250408T170252Z
LAST-MODIFIED:20250602T160354Z
UID:8158-1749580200-1749583800@www.wildelake.org
SUMMARY:RAC Meeting\, June 10
DESCRIPTION:Applications for the Resident Architectural Committee (RAC) meeting on Tuesday\, June 10 are due by 4:30PM on Tuesday\, May 3. The Application for Exterior Alteration form and additional information about the application process can be found at https://wildelake.org/covenants. Please note that this meeting will start at 6:30PM.  \nRAC meetings are currently held virtually and are open to the public. Up to date agendas can always be found on our website: RAC Agenda. \nFor Zoom information or to offer input on any pending application\, please email Lexi Levy Milani\, covenant advisor\, at covenants@wildelake.org. Input must be received by 4:30PM the day prior to the meeting. Thank you!
URL:https://www.wildelake.org/single-cal-event/rac-meeting-june-10/
LOCATION:Zoom
CATEGORIES:Meetings
END:VEVENT
BEGIN:VEVENT
DTSTART;TZID=America/New_York:20250602T183000
DTEND;TZID=America/New_York:20250602T203000
DTSTAMP:20260421T103138
CREATED:20250509T001150Z
LAST-MODIFIED:20250509T001150Z
UID:8249-1748889000-1748896200@www.wildelake.org
SUMMARY:Wilde Lake Village Board Meeting
DESCRIPTION:
URL:https://www.wildelake.org/single-cal-event/wilde-lake-village-board-meeting-2/
LOCATION:Slayton House\, 10400 Cross Fox Lane\, Columbia\, MD\, 21044
CATEGORIES:Meetings
END:VEVENT
BEGIN:VEVENT
DTSTART;TZID=America/New_York:20250527T190000
DTEND;TZID=America/New_York:20250527T200000
DTSTAMP:20260421T103138
CREATED:20250408T170138Z
LAST-MODIFIED:20250408T170138Z
UID:8156-1748372400-1748376000@www.wildelake.org
SUMMARY:RAC Meeting\, May 27
DESCRIPTION:Applications for the Resident Architectural Committee (RAC) meeting on Tuesday\, May 27 are due by 4:30PM on Tuesday\, May 20. The Application for Exterior Alteration form and additional information about the application process can be found at https://wildelake.org/covenants. \nRAC meetings are currently held virtually and are open to the public. Up to date agendas can always be found on our website: RAC Agenda. \nFor Zoom information or to offer input on any pending application\, please email Lexi Levy Milani\, covenant advisor\, at covenants@wildelake.org. Input must be received by 4:30PM the day prior to the meeting. Thank you!
URL:https://www.wildelake.org/single-cal-event/rac-meeting-may-27/
LOCATION:Zoom
CATEGORIES:Meetings
END:VEVENT
BEGIN:VEVENT
DTSTART;TZID=America/New_York:20250521T100000
DTEND;TZID=America/New_York:20250521T110000
DTSTAMP:20260421T103138
CREATED:20250508T171504Z
LAST-MODIFIED:20250508T171504Z
UID:8241-1747821600-1747825200@www.wildelake.org
SUMMARY:"Shades of Black & White III" Gallery Talk\, May 21
DESCRIPTION:Join Wilde Lake Community Association and the talented artists whose work hangs in our current exhibit\, Shades of Black & White III\, for a gallery talk on Wednesday\, May 21 from 10-11AM. There is no cost to attend this event\, but advance registration is requested: Gallery Talk Registration [Google Form]. \n  \n 
URL:https://www.wildelake.org/single-cal-event/shades-of-black-white-iii-gallery-talk-may-21/
LOCATION:Bernice Kish Gallery at Slayton House\, 10400 Cross Fox Lane\, Columbia\, MD\, 21044
CATEGORIES:Exhibits
END:VEVENT
BEGIN:VEVENT
DTSTART;TZID=America/New_York:20250519T183000
DTEND;TZID=America/New_York:20250519T203000
DTSTAMP:20260421T103138
CREATED:20250509T001002Z
LAST-MODIFIED:20250509T001002Z
UID:8247-1747679400-1747686600@www.wildelake.org
SUMMARY:Wilde Lake Village Board Orientation
DESCRIPTION:
URL:https://www.wildelake.org/single-cal-event/wilde-lake-village-board-orientation/
LOCATION:MD
CATEGORIES:Meetings
END:VEVENT
BEGIN:VEVENT
DTSTART;TZID=America/New_York:20250518T090000
DTEND;TZID=America/New_York:20250518T110000
DTSTAMP:20260421T103138
CREATED:20250304T154329Z
LAST-MODIFIED:20250304T154553Z
UID:8042-1747558800-1747566000@www.wildelake.org
SUMMARY:Adopt-a-Spot Cleanup with Wilde Lake CARES - Bryant Woods
DESCRIPTION:Join the Wilde Lake CARES team for some spring maintenance at its newest Adopt-a-Spot in Bryant Woods. Meet behind the 10290 block of Wilde Lake Terrace on Sunday\, May 18 at 9AM. Follow the pathway behind the townhomes to find the spot. Please dress appropriately for pulling weeds and working outdoors. This is a family friendly event so bring the whole gang! \nRegistration is not required\, but feel free to respond to and share CARES’ Facebook Event!
URL:https://www.wildelake.org/single-cal-event/adopt-a-spot-cleanup-with-wilde-lake-cares-bryant-woods/
LOCATION:Wilde Lake Terrace Adopt-a-Spot\, Wilde Lake Terrace\, Columbia\, MD\, 21044\, United States
CATEGORIES:Events
END:VEVENT
BEGIN:VEVENT
DTSTART;TZID=America/New_York:20250513T190000
DTEND;TZID=America/New_York:20250513T200000
DTSTAMP:20260421T103138
CREATED:20250408T170019Z
LAST-MODIFIED:20250408T170019Z
UID:8154-1747162800-1747166400@www.wildelake.org
SUMMARY:RAC Meeting\, May 13
DESCRIPTION:Applications for the Resident Architectural Committee (RAC) meeting on Tuesday\, May 13 are due by 4:30PM on Tuesday\, May 6. The Application for Exterior Alteration form and additional information about the application process can be found at https://wildelake.org/covenants. \nRAC meetings are currently held virtually and are open to the public. Up to date agendas can always be found on our website: RAC Agenda. \nFor Zoom information or to offer input on any pending application\, please email Lexi Levy Milani\, covenant advisor\, at covenants@wildelake.org. Input must be received by 4:30PM the day prior to the meeting. Thank you!
URL:https://www.wildelake.org/single-cal-event/rac-meeting-may-13/
LOCATION:Zoom
CATEGORIES:Meetings
END:VEVENT
BEGIN:VEVENT
DTSTART;TZID=America/New_York:20250510T090000
DTEND;TZID=America/New_York:20250510T110000
DTSTAMP:20260421T103138
CREATED:20250304T153741Z
LAST-MODIFIED:20250410T155037Z
UID:8039-1746867600-1746874800@www.wildelake.org
SUMMARY:Adopt-a-Spot Cleanup with Wilde Lake CARES - Faulkner Ridge
DESCRIPTION:Join Wilde Lake CARES at its Faulkner Ridge Adopt-a-Spot for a spring clean up. Meet at 10738 Faulkner Ridge Circle on Saturday\, May 10 at 9AM. Please dress appropriately for pulling weeds and working outdoors. This is a family friendly event so bring the whole gang! \nRegistration is not required for this event\, but please feel free to respond to and share CARES’ Facebook Event!
URL:https://www.wildelake.org/single-cal-event/adopt-a-spot-cleanup-with-wilde-lake-cares-faulkner-ridge/
LOCATION:Faulkner Ridge Circle Adopt-a-Spot\, 10738 Faulkner Ridge Circle\, Columbia\, MD\, 21044\, United States
CATEGORIES:Events
END:VEVENT
BEGIN:VEVENT
DTSTART;TZID=America/New_York:20250504T150000
DTEND;TZID=America/New_York:20250504T170000
DTSTAMP:20260421T103139
CREATED:20250319T175120Z
LAST-MODIFIED:20250321T164542Z
UID:8102-1746370800-1746378000@www.wildelake.org
SUMMARY:"Shades of B&W: III" Art Reception
DESCRIPTION:Please join us the Bernice Kish Gallery at Slayton House for the opening art reception showcasing seven visions of Black and White photography by a group of award-winning photographers. Light refreshments will be served. Please click here to register for this event. \nChristophe Casamassima\, Between Light \nChristopher Frisone\, The Allure of Water \nTom Gisriel\, World of Jazz \nCharles Levie\, The Beauty of India \nWalter Levy\, Eight Portraits \nJennifer Smutek\, Abstraction in Nature \nJim Voeglein\, Echoes in Stillness
URL:https://www.wildelake.org/single-cal-event/shades-of-bw-iii-art-reception-may-2025/
LOCATION:Bernice Kish Gallery at Slayton House\, 10400 Cross Fox Lane\, Columbia\, MD\, 21044
CATEGORIES:Events
END:VEVENT
BEGIN:VEVENT
DTSTART;TZID=America/New_York:20250504T090000
DTEND;TZID=America/New_York:20250504T110000
DTSTAMP:20260421T103139
CREATED:20250304T153224Z
LAST-MODIFIED:20250304T153224Z
UID:8035-1746349200-1746356400@www.wildelake.org
SUMMARY:Adopt-a-Spot Cleanup with Wilde Lake CARES - Rouse Rock
DESCRIPTION:Join the Wilde Lake CARES team for some spring maintenance at its signature Adopt a Spot in Wilde Lake Park. Meet in the main parking lot off Hyla Brook Road by the dock on Sunday\, May 4 at 9AM. Please dress appropriately for pulling weeds and working outdoors. This is a family friendly event so bring the whole gang! \nRegistration is not required\, but please feel free to respond to and share CARES’ Facebook Event!
URL:https://www.wildelake.org/single-cal-event/adopt-a-spot-cleanup-with-wilde-lake-cares-rouse-rock/
LOCATION:Wilde Lake Park Adopt-a-Spot\, 10027 Hyla Brook Road\, Columbia\, MD\, 21044\, United States
END:VEVENT
BEGIN:VEVENT
DTSTART;TZID=America/New_York:20250503T180000
DTEND;TZID=America/New_York:20250503T200000
DTSTAMP:20260421T103139
CREATED:20250421T141856Z
LAST-MODIFIED:20250421T141933Z
UID:8188-1746295200-1746302400@www.wildelake.org
SUMMARY:Kalinka Dance Ensemble Spring Performance\, May 3
DESCRIPTION:Kalinka Dance Ensemble is celebrating its 2025 Heritage Award by presenting a family-friendly program of the vibrant dances of Europe and Asia\, including Italy\, Greece\, Moldova\, Tatarstan\, Russia\, Belarus\, and more! The performance begins at 6PM on Saturday\, May 3 at the Slayton House Theatre (10400 Cross Fox Lane). \nTickets are $25 each and available online: https://ticketstripe.com/events/2248107033969317 \nChildren sitting in their parents’ laps do not require tickets. Questions? Contact Kalinka at kdenisova@gmail.com.
URL:https://www.wildelake.org/single-cal-event/kalinka-dance-ensemble-spring-performance-may-3/
LOCATION:Slayton House\, 10400 Cross Fox Lane\, Columbia\, MD\, 21044
CATEGORIES:Events
END:VEVENT
BEGIN:VEVENT
DTSTART;TZID=America/New_York:20250430T183000
DTEND;TZID=America/New_York:20250430T193000
DTSTAMP:20260421T103139
CREATED:20250424T232231Z
LAST-MODIFIED:20250424T232231Z
UID:8214-1746037800-1746041400@www.wildelake.org
SUMMARY:Village Board Meeting (Virtual)
DESCRIPTION:
URL:https://www.wildelake.org/single-cal-event/village-board-meeting-virtual/
LOCATION:MD
CATEGORIES:Meetings
END:VEVENT
BEGIN:VEVENT
DTSTART;TZID=America/New_York:20250427T150000
DTEND;TZID=America/New_York:20250427T173000
DTSTAMP:20260421T103139
CREATED:20250421T163431Z
LAST-MODIFIED:20250421T163533Z
UID:8192-1745766000-1745775000@www.wildelake.org
SUMMARY:Raw Element Dance Company Presents: 2B Continued\, April 27
DESCRIPTION:Join Raw Element for a one-of-a-kind event at the Slayton House Theater (10400 Cross Fox Lane) on Sunday\, April 27\, 2025 that will leave you wanting more! Experience live performances from talented artists\, interactive moments\, and a vibrant atmosphere that celebrates the Raw Element season. Whether you’re a music lover\, art enthusiast\, or just looking for a fun time\, this event is not to be missed. \nDoors open at 2:30PM and the show starts at 3PM. Tickets are $25/each online. Remaining tickets will be available at the door for $35/each on the day of the performance. \n 
URL:https://www.wildelake.org/single-cal-event/raw-element-dance-company-presents-2b-continued-april-27/
LOCATION:Slayton House\, 10400 Cross Fox Lane\, Columbia\, MD\, 21044
CATEGORIES:Events
END:VEVENT
BEGIN:VEVENT
DTSTART;TZID=America/New_York:20250427T090000
DTEND;TZID=America/New_York:20250427T110000
DTSTAMP:20260421T103139
CREATED:20250304T152909Z
LAST-MODIFIED:20250304T153249Z
UID:8032-1745744400-1745751600@www.wildelake.org
SUMMARY:Adopt-a-Spot Cleanup with Wilde Lake CARES - Snowy Reach
DESCRIPTION:Join the Wilde Lake CARES team for some spring maintenance at the Snowy Reach Adopt a Spot in the Running Brook neighborhood. Meet at the Open Space parcel at the bottom of Snowy Reach off West Running Brook Road on Sunday\, April 27 at 9AM. Please dress appropriately for pulling weeds and working outdoors. This is a family friendly event so bring the whole gang! \nRegistration is not required\, but feel free to respond to and share CARES’ Facebook Event!
URL:https://www.wildelake.org/single-cal-event/adopt-a-spot-cleanup-with-wilde-lake-cares-snowy-reach/
LOCATION:Snowy Reach Adopt-a-Spot\, 4951 Snowy Reach\, Columbia\, MD\, 21044\, United States
CATEGORIES:Events
END:VEVENT
BEGIN:VEVENT
DTSTART;TZID=America/New_York:20250426T100000
DTEND;TZID=America/New_York:20250426T140000
DTSTAMP:20260421T103139
CREATED:20250319T134346Z
LAST-MODIFIED:20250421T182425Z
UID:8092-1745661600-1745676000@www.wildelake.org
SUMMARY:Village Election Day
DESCRIPTION:For all the information about this year’s elections\, visit our Village Elections page! \nIf you’d like to vote in person in this year’s Wilde Lake Village election\, please mark Saturday\, April 26 on your calendar! Our polling place for in person voting will be open at Slayton House (10400 Cross Fox Lane) from 10AM – 2PM.  \nAbsentee and online voting will also be available. Look for your absentee ballot mailing in late March. It will include candidate statements and details about options for voting.
URL:https://www.wildelake.org/single-cal-event/village-election-day/
LOCATION:Slayton House\, 10400 Cross Fox Lane\, Columbia\, MD\, 21044
CATEGORIES:Events
END:VEVENT
BEGIN:VEVENT
DTSTART;TZID=America/New_York:20250426T100000
DTEND;TZID=America/New_York:20250426T140000
DTSTAMP:20260421T103139
CREATED:20250129T180139Z
LAST-MODIFIED:20250425T124525Z
UID:7785-1745661600-1745676000@www.wildelake.org
SUMMARY:Earth Day Festival & Plant Exchange
DESCRIPTION:Please note that the Earth Day Festival scheduled for Saturday\, April 26 has been canceled due to the weather forecast. The Wilde Lake CARES Plant Exchange and HC DrugFree drive-thru medication and sharps disposal events will take place as scheduled\, rain or shine. Please see below for details on those events. Thank you! \n 
URL:https://www.wildelake.org/single-cal-event/earth-day-festival/
LOCATION:Slayton House Green\, 10400 Cross Fox Lane\, Columbia\, MD\, 21044
CATEGORIES:Events
END:VEVENT
BEGIN:VEVENT
DTSTART;TZID=America/New_York:20250426T100000
DTEND;TZID=America/New_York:20250426T120000
DTSTAMP:20260421T103139
CREATED:20250304T155851Z
LAST-MODIFIED:20250319T132105Z
UID:8045-1745661600-1745668800@www.wildelake.org
SUMMARY:BWES Spring Cleanup with BWES PTA and Wilde Lake CARES
DESCRIPTION:Join the Bryant Woods Elementary School PTA and Wilde Lake CARES to help clean up the BWES schoolyard and surrounding community on Saturday\, April 26 starting at 10AM. Please dress appropriately for pulling weeds and working outdoors. This is a family friendly event so bring the whole gang! \nNo registration or RSVP required. Questions? Contact pta.bryantwoods@gmail.com. \n 
URL:https://www.wildelake.org/single-cal-event/bwes-spring-cleanup-with-bwes-pta-and-wilde-lake-cares/
LOCATION:Bryant Woods Elementary School\, 5450 Blue Heron Lane\, Columbia\, MD\, 21044\, United States
CATEGORIES:Events
END:VEVENT
BEGIN:VEVENT
DTSTART;TZID=America/New_York:20250422T190000
DTEND;TZID=America/New_York:20250422T200000
DTSTAMP:20260421T103139
CREATED:20250408T165849Z
LAST-MODIFIED:20250408T165849Z
UID:8152-1745348400-1745352000@www.wildelake.org
SUMMARY:RAC Meeting\, April 22
DESCRIPTION:Applications for the Resident Architectural Committee (RAC) meeting on Tuesday\, April 22 are due by 4:30PM on Tuesday\, April 15. The Application for Exterior Alteration form and additional information about the application process can be found at https://wildelake.org/covenants. \nRAC meetings are currently held virtually and are open to the public. Up to date agendas can always be found on our website: RAC Agenda. \nFor Zoom information or to offer input on any pending application\, please email Lexi Levy Milani\, covenant advisor\, at covenants@wildelake.org. Input must be received by 4:30PM the day prior to the meeting. Thank you!
URL:https://www.wildelake.org/single-cal-event/rac-meeting-april-22/
LOCATION:Zoom
CATEGORIES:Meetings
END:VEVENT
BEGIN:VEVENT
DTSTART;TZID=America/New_York:20250418T150000
DTEND;TZID=America/New_York:20250418T233000
DTSTAMP:20260421T103139
CREATED:20250418T161021Z
LAST-MODIFIED:20250418T161053Z
UID:8185-1744988400-1745019000@www.wildelake.org
SUMMARY:WLCA Offices + Slayton House Closing at 3PM
DESCRIPTION:WLCA offices and Slayton House will be closing at 3PM on Friday\, April 18 for the Good Friday holiday. Happy Easter to all who celebrate!
URL:https://www.wildelake.org/single-cal-event/wlca-offices-slayton-house-closing-at-3pm/
LOCATION:Slayton House\, 10400 Cross Fox Lane\, Columbia\, MD\, 21044
CATEGORIES:Closings
END:VEVENT
BEGIN:VEVENT
DTSTART;TZID=America/New_York:20250416T100000
DTEND;TZID=America/New_York:20250416T110000
DTSTAMP:20260421T103139
CREATED:20250414T131924Z
LAST-MODIFIED:20250414T131924Z
UID:8172-1744797600-1744801200@www.wildelake.org
SUMMARY:First Quarter Report and Seniors Discussion with Senator Angela Alsobrooks\, April 16
DESCRIPTION:
URL:https://www.wildelake.org/single-cal-event/first-quarter-report-and-seniors-discussion-with-senator-angela-alsobrooks-april-16/
LOCATION:Slayton House\, 10400 Cross Fox Lane\, Columbia\, MD\, 21044
CATEGORIES:Events
END:VEVENT
BEGIN:VEVENT
DTSTART;TZID=America/New_York:20250414T183000
DTEND;TZID=America/New_York:20250414T210000
DTSTAMP:20260421T103139
CREATED:20240518T015142Z
LAST-MODIFIED:20241119T011236Z
UID:7042-1744655400-1744664400@www.wildelake.org
SUMMARY:Wilde Lake Village Board Meeting\, April 14\, 2025
DESCRIPTION:
URL:https://www.wildelake.org/single-cal-event/wilde-lake-village-board-meeting-april-14-2025/
LOCATION:Slayton House\, 10400 Cross Fox Lane\, Columbia\, MD\, 21044
CATEGORIES:Meetings
END:VEVENT
BEGIN:VEVENT
DTSTART;TZID=America/New_York:20250408T190000
DTEND;TZID=America/New_York:20250408T200000
DTSTAMP:20260421T103139
CREATED:20250408T165652Z
LAST-MODIFIED:20250408T165652Z
UID:8150-1744138800-1744142400@www.wildelake.org
SUMMARY:RAC Meeting\, April 8
DESCRIPTION:Applications for the Resident Architectural Committee (RAC) meeting on Tuesday\, April 8 are due by 4:30PM on Tuesday\, April 1. The Application for Exterior Alteration form and additional information about the application process can be found at https://wildelake.org/covenants. \nRAC meetings are currently held virtually and are open to the public. Up to date agendas can always be found on our website: RAC Agenda. \nFor Zoom information or to offer input on any pending application\, please email Lexi Levy Milani\, covenant advisor\, at covenants@wildelake.org. Input must be received by 4:30PM the day prior to the meeting. Thank you!
URL:https://www.wildelake.org/single-cal-event/rac-meeting-april-8/
LOCATION:Zoom
CATEGORIES:Meetings
END:VEVENT
BEGIN:VEVENT
DTSTART;TZID=America/New_York:20250407T183000
DTEND;TZID=America/New_York:20250407T203000
DTSTAMP:20260421T103139
CREATED:20240518T015055Z
LAST-MODIFIED:20241119T011207Z
UID:7040-1744050600-1744057800@www.wildelake.org
SUMMARY:Wilde Lake Village Board Meeting\, April 7\, 2025
DESCRIPTION:
URL:https://www.wildelake.org/single-cal-event/wilde-lake-village-board-meeting-april-7-2025/
LOCATION:Slayton House\, 10400 Cross Fox Lane\, Columbia\, MD\, 21044
CATEGORIES:Meetings
END:VEVENT
BEGIN:VEVENT
DTSTART;TZID=America/New_York:20250405T090000
DTEND;TZID=America/New_York:20250405T110000
DTSTAMP:20260421T103139
CREATED:20250211T154153Z
LAST-MODIFIED:20250321T165300Z
UID:7944-1743843600-1743850800@www.wildelake.org
SUMMARY:Columbia Cleans Day 2025
DESCRIPTION:Columbia Cleans Day is a community-wide volunteer event where residents across Columbia come together to clean up parks\, pathways\, and public spaces. This annual initiative with Columbia Association and Wilde Lake CARES fosters community pride\, environmental stewardship\, and a cleaner\, greener community for all. We hope you will volunteer at our event! Please register before 3/26/25 to give our team a headcount for supplies. Trash bags\, trash pickers\, gloves\, sanitizer\, and vests will be provided. Register here!
URL:https://www.wildelake.org/single-cal-event/columbia-cleans-day-2025/
LOCATION:Running Brook Pool\, 5730 Columbia Rd\, Columbia\, MD\, 21044\, United States
CATEGORIES:Events
END:VEVENT
BEGIN:VEVENT
DTSTART;TZID=America/New_York:20250403T183000
DTEND;TZID=America/New_York:20250403T193000
DTSTAMP:20260421T103139
CREATED:20250321T133721Z
LAST-MODIFIED:20250321T133800Z
UID:8120-1743705000-1743708600@www.wildelake.org
SUMMARY:Wilde Lake Candidates' Forum\, April 3
DESCRIPTION:Meet the candidates for Wilde Lake representative to the Columbia Council! WLCA’s 2025 candidates’ forum will be held on Thursday\, April 3 at 6:30PM in a hybrid setting at Slayton House (10400 Cross Fox Lane) and via Zoom. To register\, visit the Zoom link for the event. \nThe Wilde Lake Village Election Candidates’ Forum is your opportunity to hear what the Wilde Lake representative for the Columbia Council candidates think about issues of concern in the Village and Columbia. Scroll down to see the candidates’ statements before the forum. \nElection Co-Chairs Steve Campbell and Linda Odum would like your suggestions for questions for the candidates during the event. Please send your suggestions to Wlelectionchair@wildelake.org or submit them when you register. We look forward to seeing you!
URL:https://www.wildelake.org/single-cal-event/wilde-lake-candidates-forum-april-3/
LOCATION:Slayton House\, 10400 Cross Fox Lane\, Columbia\, MD\, 21044
CATEGORIES:Events
END:VEVENT
BEGIN:VEVENT
DTSTART;TZID=America/New_York:20250325T190000
DTEND;TZID=America/New_York:20250325T200000
DTSTAMP:20260421T103139
CREATED:20241120T171935Z
LAST-MODIFIED:20241120T172034Z
UID:7678-1742929200-1742932800@www.wildelake.org
SUMMARY:RAC Meeting\, March 25
DESCRIPTION:Applications for the RAC meeting on Tuesday\, March 25 are due by 4:30PM on Tuesday\, March 18. The Application for Exterior Alteration form and additional information about the application process can be found at https://wildelake.org/covenants. \nRAC meetings are currently held virtually and are open to the public. Up to date agendas can always be found on our website: RAC Agenda. \nFor Zoom information or to offer input on any pending application\, please email Lexi Levy Milani\, covenant advisor\, at covenants@wildelake.org. Input must be received by 4:30PM the day prior to the meeting. Thank you!
URL:https://www.wildelake.org/single-cal-event/rac-meeting-march-25/
LOCATION:Zoom
CATEGORIES:Meetings
END:VEVENT
BEGIN:VEVENT
DTSTART;TZID=America/New_York:20250325T090000
DTEND;TZID=America/New_York:20250325T110000
DTSTAMP:20260421T103139
CREATED:20250131T173811Z
LAST-MODIFIED:20250131T173937Z
UID:7893-1742893200-1742900400@www.wildelake.org
SUMMARY:Coffee with a Cop\, March 25
DESCRIPTION:Join your neighbors and Howard County police officers for coffee and conversation on Tuesday\, March 25\, 2025 starting at 9AM at Starbucks (5400 Lynx Lane). Ask questions\, voice concerns\, and get to know the officers who work here in Wilde Lake! \nThis event is open to all\, no pre-registration required. Please contact the Howard County Police Department with any questions at HCPDOutreach@howardcountymd.gov or at 410-313-2207.
URL:https://www.wildelake.org/single-cal-event/coffee-with-a-cop-march-25/
LOCATION:Wilde Lake Starbucks\, 5400 Lynx Lane\, Columbia\, MD\, 21044\, United States
CATEGORIES:Events
ORGANIZER;CN="Howard County Police Department":MAILTO:HCPDOutreach@howardcountymd.gov
END:VEVENT
END:VCALENDAR