BEGIN:VCALENDAR
VERSION:2.0
PRODID:-//Wilde Lake Community Association - ECPv6.15.3//NONSGML v1.0//EN
CALSCALE:GREGORIAN
METHOD:PUBLISH
X-WR-CALNAME:Wilde Lake Community Association
X-ORIGINAL-URL:https://www.wildelake.org
X-WR-CALDESC:Events for Wilde Lake Community Association
REFRESH-INTERVAL;VALUE=DURATION:PT1H
X-Robots-Tag:noindex
X-PUBLISHED-TTL:PT1H
BEGIN:VTIMEZONE
TZID:America/New_York
BEGIN:DAYLIGHT
TZOFFSETFROM:-0500
TZOFFSETTO:-0400
TZNAME:EDT
DTSTART:20230312T070000
END:DAYLIGHT
BEGIN:STANDARD
TZOFFSETFROM:-0400
TZOFFSETTO:-0500
TZNAME:EST
DTSTART:20231105T060000
END:STANDARD
END:VTIMEZONE
BEGIN:VEVENT
DTSTART;TZID=America/New_York:20231112T090000
DTEND;TZID=America/New_York:20231112T110000
DTSTAMP:20260422T200937
CREATED:20231106T183934Z
LAST-MODIFIED:20231106T183956Z
UID:6347-1699779600-1699786800@www.wildelake.org
SUMMARY:Wilde Lake CARES Adopt-a-Spot Cleanup
DESCRIPTION:Join Wilde Lake CARES for its next Adopt-a-Spot cleanup! Meet at 9AM on Sunday\, Nov. 12 at the main parking area in Wilde Lake Park to work at the Rouse Rock. Families are welcome!
URL:https://www.wildelake.org/single-cal-event/wilde-lake-cares-adopt-a-spot-cleanup-2/
LOCATION:Wilde Lake Park\, 10002 Hyla Brook Rd.
CATEGORIES:Events
END:VEVENT
BEGIN:VEVENT
DTSTART;TZID=America/New_York:20231110T180000
DTEND;TZID=America/New_York:20231110T210000
DTSTAMP:20260422T200937
CREATED:20231027T161012Z
LAST-MODIFIED:20231027T161012Z
UID:6302-1699639200-1699650000@www.wildelake.org
SUMMARY:Pie and Play at Slayton House
DESCRIPTION:Ever been to a pie and play event? Now’s your chance! Join us at Slayton House on Friday\, Nov. 10 from 6-9PM for a family-friendly night of bingo and a pie-making contest. Play a few cards and get inspired for your own holiday baking! \nThis event is free and appropriate for all ages\, but advance registration is requested. If you wish to enter a pie in the contest\, you must register by Nov. 4\, 2023. For full contest rules and to register\, visit Eventbrite: Pie and Play at Slayton House. \nParticipation in the contest is not required to attend. Many thanks to event sponsors Cleaveland Smith\, Carli Steiner\, Rich Augustt\, and Kondi Walters-Smith!
URL:https://www.wildelake.org/single-cal-event/pie-and-play-at-slayton-house/
LOCATION:Slayton House\, 10400 Cross Fox Lane\, Columbia\, MD\, 21044
CATEGORIES:Events
END:VEVENT
BEGIN:VEVENT
DTSTART;TZID=America/New_York:20231106T183000
DTEND;TZID=America/New_York:20231106T203000
DTSTAMP:20260422T200937
CREATED:20230816T140509Z
LAST-MODIFIED:20231103T192418Z
UID:460-1699295400-1699302600@www.wildelake.org
SUMMARY:Village Board Meeting\, November 6\, 2023
DESCRIPTION:Wilde Lake Village Board Agenda
URL:https://www.wildelake.org/single-cal-event/village-board-meeting-november-6-2023/
LOCATION:Slayton House\, 10400 Cross Fox Lane\, Columbia\, MD\, 21044
CATEGORIES:Meetings
END:VEVENT
BEGIN:VEVENT
DTSTART;TZID=America/New_York:20231104T160000
DTEND;TZID=America/New_York:20231104T200000
DTSTAMP:20260422T200937
CREATED:20231025T151826Z
LAST-MODIFIED:20231025T151948Z
UID:6283-1699113600-1699128000@www.wildelake.org
SUMMARY:Who Sung It? A Barbershop Murder Mystery\, Nov. 4
DESCRIPTION:Join the Heart of Maryland Chorus for its 2023 Annual Show at the Slayton House Theatre! This year’s show is Who Sung It? A Barbershop Murder Mystery.General Admission tickets are $25 each. Doors open at 3:30pm. \nJoin the chorus for the Afterglow — the party and show\, after the show! — to follow the show at 7pm! Afterglow tickets are $15 each. \nFor tickets and additional information\, visit https://heartofmaryland.org/tickets. 
URL:https://www.wildelake.org/single-cal-event/who-sung-it-a-barbershop-murder-mystery-nov-4/
LOCATION:Slayton House\, 10400 Cross Fox Lane\, Columbia\, MD\, 21044
END:VEVENT
BEGIN:VEVENT
DTSTART;TZID=America/New_York:20231101T100000
DTEND;TZID=America/New_York:20231101T110000
DTSTAMP:20260422T200937
CREATED:20231031T162124Z
LAST-MODIFIED:20231031T162124Z
UID:6308-1698832800-1698836400@www.wildelake.org
SUMMARY:Gallery Talk
DESCRIPTION:Meet artists Sandy Cummings and Shailaja Didolkar in this intimate setting and discuss their creative process and inspiration. \nSandy K Cummings’ new collection of colorful and expressive collages features flowers from her garden and a series of images inspired by travel to Cambodia and Iceland. From a distance the collages convey as paintings\, but upon closer inspection\, the keen observer will discover that the images are made of detailed\, multi-layered paper. Sandy’s collages capture the emotional essence of the image\, offering a glimpse into the artist’s joy and compassion for everyday living.  \nSandy says\, “My work is a blend of realism and imagination. When constructing collages\, I select paper pieces by color and texture as though I were choosing paint from a palette. Sometimes I find just the paper I have in mind\, but most often I improvise which lends itself to intuitive and unexpected effects.”  \nSandy K Cummings was born in Washington\, DC. She received a B.A. in Studio Art at the University of Maryland and continued her art education at the Maryland Institute College of Art and the Provincetown Art Association and Museum School. She has been a member of several artists’ groups over the years and has exhibited widely in the Baltimore/Washington area. Most recently\, her collages were on display at A Gallery of Art in Ellicott City\, MD. Sandy works out of her home studio in Columbia\, Maryland. \n———————————- \nSince her Childhood\, Shailaja has been interested in Art. At that time\, she was not sure which kind of art she wanted to pursue. As she grew up\, her interest shifted to Medicine. She enjoyed the medical profession immensely . Her dream profession as a fine art artist was on the back burner but not forgotten.  \nShe practiced successfully as an academician training undergraduates and graduate students\, and a physician practicing OB/Gyn with special interest in high-risk pregnancy MFM (Maternal -Fetal – Medicine). She married during her medical career and has two beautiful children and to top it have five wonderful grand kids\, which compelled her to retire from medicine. So\, with great enthusiasm\, the day she retired\, she looked for a fine art studio. Luckily\, she found a great fine art studio nearby. Zoll studio was and is exactly what she was looking for. \nAt Zoll studio\, she started learning fine art from scratch\, it not only gave her art training but new friends & social life. She still goes to the studio twice a week which gives her great pleasure. At Zoll studio\, she started all basic skills related to art. She even tried sculpting and plein-air. She enjoys oil painting; still life and portraiture & She is still a student of art and loves it.
URL:https://www.wildelake.org/single-cal-event/gallery-talk/
LOCATION:Slayton House\, 10400 Cross Fox Lane\, Columbia\, MD\, 21044
END:VEVENT
BEGIN:VEVENT
DTSTART;TZID=America/New_York:20231029T090000
DTEND;TZID=America/New_York:20231029T110000
DTSTAMP:20260422T200937
CREATED:20231023T164505Z
LAST-MODIFIED:20231023T165151Z
UID:6273-1698570000-1698577200@www.wildelake.org
SUMMARY:Wilde Lake CARES Adopt-a-Spot Cleanup
DESCRIPTION:Join Wilde Lake CARES to do some weeding and clean up of the Snowy Reach Adopt a Spot location on Sunday\, October 29th\, from 9-11AM. Volunteers of all ages and experiences are welcome! \nTools and work gloves will be provided for this event. Please dress in long sleeves and pants\, and park near the cul-de-sac on Snowy Reach\, which is off of West Running Brook Road. \nRSVP on our Facebook event page or to wildelakecares@gmail.com.    
URL:https://www.wildelake.org/single-cal-event/wilde-lake-cares-adopt-a-spot-cleanup/
LOCATION:MD
CATEGORIES:Events
END:VEVENT
BEGIN:VEVENT
DTSTART;TZID=America/New_York:20231028T090000
DTEND;TZID=America/New_York:20231028T120000
DTSTAMP:20260422T200937
CREATED:20231019T163736Z
LAST-MODIFIED:20231020T162107Z
UID:6255-1698483600-1698494400@www.wildelake.org
SUMMARY:Shredding Event for Village Residents
DESCRIPTION:Open to residents of the Villages of Dorsey’s Search\, Harper’s Choice\, Wilde Lake\, and Town Center to shred documents with Personally Identifying Information (PII) only. Please bring proof of residency. This is not a drive-through event; boxes and bags will be returned to you. 
URL:https://www.wildelake.org/single-cal-event/shredding-event-for-village-residents/
LOCATION:Faulkner Ridge Neighborhood Center\, 10598 Marble Faun Court\, Columbia\, MD\, 21044\, United States
CATEGORIES:Events
END:VEVENT
BEGIN:VEVENT
DTSTART;TZID=America/New_York:20231025T090000
DTEND;TZID=America/New_York:20231215T163000
DTSTAMP:20260422T200937
CREATED:20231103T175607Z
LAST-MODIFIED:20231103T175608Z
UID:6325-1698224400-1702657800@www.wildelake.org
SUMMARY:Sandy K. Cummings + Shailaja Didolkar
DESCRIPTION:
URL:https://www.wildelake.org/single-cal-event/sandy-k-cummings-shailaja-didolkar/
LOCATION:MD
CATEGORIES:Exhibits
END:VEVENT
BEGIN:VEVENT
DTSTART;TZID=America/New_York:20231002T183000
DTEND;TZID=America/New_York:20231002T203000
DTSTAMP:20260422T200937
CREATED:20230816T140111Z
LAST-MODIFIED:20230816T140111Z
UID:455-1696271400-1696278600@www.wildelake.org
SUMMARY:Village Board Meeting\, October 2\, 2023
DESCRIPTION:
URL:https://www.wildelake.org/single-cal-event/village-board-meeting-october-2-2023/
LOCATION:Slayton House\, 10400 Cross Fox Lane\, Columbia\, MD\, 21044
CATEGORIES:Meetings
END:VEVENT
BEGIN:VEVENT
DTSTART;TZID=America/New_York:20230926T190000
DTEND;TZID=America/New_York:20230926T200000
DTSTAMP:20260422T200937
CREATED:20230816T140035Z
LAST-MODIFIED:20230816T140035Z
UID:453-1695754800-1695758400@www.wildelake.org
SUMMARY:RAC Meeting - September 26\, 2023
DESCRIPTION:Via Zoom
URL:https://www.wildelake.org/single-cal-event/rac-meeting-september-26-2023/
LOCATION:MD
CATEGORIES:Meetings
END:VEVENT
BEGIN:VEVENT
DTSTART;TZID=America/New_York:20230923T110000
DTEND;TZID=America/New_York:20230923T150000
DTSTAMP:20260422T200937
CREATED:20230816T135937Z
LAST-MODIFIED:20230816T135952Z
UID:449-1695466800-1695481200@www.wildelake.org
SUMMARY:Annual Wilde Lake Fall Festival
DESCRIPTION:Save the date for our Annual Wilde Lake Fall Festival! For more information and to register\, click the image below!
URL:https://www.wildelake.org/single-cal-event/annual-wilde-lake-fall-festival/
LOCATION:Wilde Lake Park\, 10002 Hyla Brook Rd.
CATEGORIES:Events
END:VEVENT
BEGIN:VEVENT
DTSTART;TZID=America/New_York:20230912T190000
DTEND;TZID=America/New_York:20230912T200000
DTSTAMP:20260422T200937
CREATED:20230816T135236Z
LAST-MODIFIED:20230816T135422Z
UID:447-1694545200-1694548800@www.wildelake.org
SUMMARY:RAC Meeting - September 12\, 2023
DESCRIPTION:via Zoom
URL:https://www.wildelake.org/single-cal-event/rac-meeting-september-12-2023/
LOCATION:MD
CATEGORIES:Meetings
END:VEVENT
BEGIN:VEVENT
DTSTART;TZID=America/New_York:20230911T183000
DTEND;TZID=America/New_York:20230911T203000
DTSTAMP:20260422T200937
CREATED:20230816T135158Z
LAST-MODIFIED:20230816T135158Z
UID:444-1694457000-1694464200@www.wildelake.org
SUMMARY:Village Board Meeting\, September 11\, 2023
DESCRIPTION:
URL:https://www.wildelake.org/single-cal-event/village-board-meeting-september-11-2023/
LOCATION:Slayton House\, 10400 Cross Fox Lane\, Columbia\, MD\, 21044
CATEGORIES:Meetings
END:VEVENT
BEGIN:VEVENT
DTSTART;VALUE=DATE:20230830
DTEND;VALUE=DATE:20231021
DTSTAMP:20260422T200937
CREATED:20230816T134858Z
LAST-MODIFIED:20230816T134858Z
UID:442-1693353600-1697846399@www.wildelake.org
SUMMARY:Errol McKinson - Modern Art Meets Cubism
DESCRIPTION:
URL:https://www.wildelake.org/single-cal-event/errol-mckinson-modern-art-meets-cubism/
LOCATION:MD
CATEGORIES:Exhibits
END:VEVENT
BEGIN:VEVENT
DTSTART;TZID=America/New_York:20230822T190000
DTEND;TZID=America/New_York:20230822T200000
DTSTAMP:20260422T200937
CREATED:20230816T134520Z
LAST-MODIFIED:20230816T134520Z
UID:440-1692730800-1692734400@www.wildelake.org
SUMMARY:RAC Meeting - August 22\, 2023
DESCRIPTION:via Zoom
URL:https://www.wildelake.org/single-cal-event/rac-meeting-august-22-2023/
LOCATION:MD
CATEGORIES:Meetings
END:VEVENT
BEGIN:VEVENT
DTSTART;VALUE=DATE:20230614
DTEND;VALUE=DATE:20230826
DTSTAMP:20260422T200937
CREATED:20230816T132854Z
LAST-MODIFIED:20230816T140225Z
UID:438-1686700800-1693007999@www.wildelake.org
SUMMARY:Christopher B. Fowler Presents "Painted with Light"
DESCRIPTION:
URL:https://www.wildelake.org/single-cal-event/christopher-b-fowler-presents-painted-with-light/
LOCATION:MD
CATEGORIES:Exhibits
END:VEVENT
END:VCALENDAR