BEGIN:VCALENDAR
VERSION:2.0
PRODID:-//Wilde Lake Community Association - ECPv6.15.3//NONSGML v1.0//EN
CALSCALE:GREGORIAN
METHOD:PUBLISH
X-WR-CALNAME:Wilde Lake Community Association
X-ORIGINAL-URL:https://www.wildelake.org
X-WR-CALDESC:Events for Wilde Lake Community Association
REFRESH-INTERVAL;VALUE=DURATION:PT1H
X-Robots-Tag:noindex
X-PUBLISHED-TTL:PT1H
BEGIN:VTIMEZONE
TZID:America/New_York
BEGIN:DAYLIGHT
TZOFFSETFROM:-0500
TZOFFSETTO:-0400
TZNAME:EDT
DTSTART:20230312T070000
END:DAYLIGHT
BEGIN:STANDARD
TZOFFSETFROM:-0400
TZOFFSETTO:-0500
TZNAME:EST
DTSTART:20231105T060000
END:STANDARD
BEGIN:DAYLIGHT
TZOFFSETFROM:-0500
TZOFFSETTO:-0400
TZNAME:EDT
DTSTART:20240310T070000
END:DAYLIGHT
BEGIN:STANDARD
TZOFFSETFROM:-0400
TZOFFSETTO:-0500
TZNAME:EST
DTSTART:20241103T060000
END:STANDARD
END:VTIMEZONE
BEGIN:VEVENT
DTSTART;TZID=America/New_York:20240409T191500
DTEND;TZID=America/New_York:20240409T201500
DTSTAMP:20260422T104854
CREATED:20240329T184227Z
LAST-MODIFIED:20240405T153032Z
UID:6829-1712690100-1712693700@www.wildelake.org
SUMMARY:RAC Meeting\, April 9
DESCRIPTION:Applications for the RAC meeting on Tuesday\, April 9 are due by the end of the day on Tuesday\, April 2. The Application for Exterior Alteration form and additional information about the application process can be found at https://wildelake.org/covenants. \nRAC meetings are open to the public and are currently held virtually. Up to date agendas can always be found on our website: RAC Agenda. \nFor Zoom information or to offer input on any pending application\, please email Lexi Levy Milani\, covenant advisor\, at covenants@wildelake.org. Thank you!
URL:https://www.wildelake.org/single-cal-event/rac-meeting-april-9/
LOCATION:Zoom
CATEGORIES:Meetings
END:VEVENT
BEGIN:VEVENT
DTSTART;TZID=America/New_York:20240409T180000
DTEND;TZID=America/New_York:20240409T190000
DTSTAMP:20260422T104854
CREATED:20240318T171957Z
LAST-MODIFIED:20240318T171957Z
UID:6797-1712685600-1712689200@www.wildelake.org
SUMMARY:Wilde Lake Candidates Forum\, April 9
DESCRIPTION:A Candidates Forum has been scheduled for Tuesday\, April 9\, 2024\, from 6-7PM. The forum will be led by Wilde Lake Election Chair Susan Tucker in conversation with the candidates running for the Wilde Lake Representative for the Columbia Council position. \nThe candidates forum will be held in a hybrid format; attendees may choose to attend in-person at Slayton House (10400 Cross Fox Lane\, Columbia\, 21044) or virtually via Zoom. Please click here to register: 2024 Wilde Lake Candidates Forum. \nWilde Lake Representative to the Columbia Council \nTwo candidates for one open position: \nBill Santos \nKathleen Uy \nWilde Lake Village Board \nTwo candidates for five open positions*: \nTina Horn \nKevin McAliley \n(*These candidates are deemed elected since there are fewer candidates than open positions.) \nQuestions? Contact Village Election Chair Susan Tucker at Electionchair@wildelake.org or Sharon Cooper-Kerr\, Executive Director/Village Manager\, at scooperkerr@wildelake.org.
URL:https://www.wildelake.org/single-cal-event/wilde-lake-candidates-forum-april-9/
LOCATION:Slayton House\, 10400 Cross Fox Lane\, Columbia\, MD\, 21044
CATEGORIES:Events
END:VEVENT
BEGIN:VEVENT
DTSTART;TZID=America/New_York:20240330T183000
DTEND;TZID=America/New_York:20240330T203000
DTSTAMP:20260422T104854
CREATED:20240216T154828Z
LAST-MODIFIED:20240216T154828Z
UID:6716-1711823400-1711830600@www.wildelake.org
SUMMARY:Revive Awakening\, March 30
DESCRIPTION:This free Revive Awakening Event is going to be so exciting — you are not going to want to miss this. Are you tired of bad news and concerned about what tomorrow brings? Are you living your full potential in life? You will hear and see good news\, not bad news. This good news will help you get through anything in life to ensure you are truly living an abundant life\, full of peace\, and joy. DON’T MISS IT! You will be healed\, set free\, and revived! We will be giving away items like gift cards\, shoes\, and more. Please register with the QR code on the flyer and tell your neighbors\, family\, and friends to register and come. Seats are limited! All ages are welcome to attend. If under 18 please ensure you have a parent or guardian with you.
URL:https://www.wildelake.org/single-cal-event/revive-awakening-march-30/
LOCATION:Slayton House\, 10400 Cross Fox Lane\, Columbia\, MD\, 21044
CATEGORIES:Events
ORGANIZER;CN="Fire International":MAILTO:ReviveAwakeningministries@gmail.com
END:VEVENT
BEGIN:VEVENT
DTSTART;TZID=America/New_York:20240329T183000
DTEND;TZID=America/New_York:20240329T203000
DTSTAMP:20260422T104854
CREATED:20240216T153142Z
LAST-MODIFIED:20240216T154629Z
UID:6709-1711737000-1711744200@www.wildelake.org
SUMMARY:Revive Awakening\, March 29
DESCRIPTION:This free Revive Awakening Event is going to be so exciting — you are not going to want to miss this. Are you tired of bad news and concerned about what tomorrow brings? Are you living your full potential in life? You will hear and see good news\, not bad news. This good news will help you get through anything in life to ensure you are truly living an abundant life\, full of peace\, and joy. DON’T MISS IT! You will be healed\, set free\, and revived! \nWe will be giving away items like gift cards\, shoes\, and more. Please register with the QR code on the flyer and tell your neighbors\, family\, and friends to register and come. Seats are limited! All ages are welcome to attend. If under 18 please ensure you have a parent or guardian with you.
URL:https://www.wildelake.org/single-cal-event/revive-awakening-march-29/
LOCATION:Slayton House\, 10400 Cross Fox Lane\, Columbia\, MD\, 21044
CATEGORIES:Events
ORGANIZER;CN="Fire International":MAILTO:ReviveAwakeningministries@gmail.com
END:VEVENT
BEGIN:VEVENT
DTSTART;TZID=America/New_York:20240326T190000
DTEND;TZID=America/New_York:20240326T200000
DTSTAMP:20260422T104854
CREATED:20240227T213024Z
LAST-MODIFIED:20240227T214731Z
UID:6729-1711479600-1711483200@www.wildelake.org
SUMMARY:RAC Meeting\, March 26
DESCRIPTION:Applications for the RAC meeting on Tuesday\, March 26 are due by the end of the day on Tuesday\, March 19. The Application for Exterior Alteration form and additional information about the application process can be found at https://wildelake.org/covenants. \nRAC meetings are open to the public and are currently held virtually. Up to date agendas can always be found on our website: RAC Agenda. \nFor Zoom information or to offer input on any pending application\, please email Lexi Levy Milani\, covenant advisor\, at covenants@wildelake.org. Thank you!
URL:https://www.wildelake.org/single-cal-event/rac-meeting-march-26/
LOCATION:Zoom
CATEGORIES:Meetings
END:VEVENT
BEGIN:VEVENT
DTSTART;TZID=America/New_York:20240316T100000
DTEND;TZID=America/New_York:20240316T120000
DTSTAMP:20260422T104854
CREATED:20240126T150833Z
LAST-MODIFIED:20240126T150833Z
UID:6610-1710583200-1710590400@www.wildelake.org
SUMMARY:Adopt-a-Spot Vine Cutting with Wilde Lake CARES
DESCRIPTION:
URL:https://www.wildelake.org/single-cal-event/adopt-a-spot-vine-cutting-with-wilde-lake-cares/
LOCATION:Wilde Lake Terrace Adopt-a-Spot\, Wilde Lake Terrace\, Columbia\, MD\, 21044\, United States
CATEGORIES:Events
END:VEVENT
BEGIN:VEVENT
DTSTART;TZID=America/New_York:20240313T100000
DTEND;TZID=America/New_York:20240313T110000
DTSTAMP:20260422T104854
CREATED:20240306T175132Z
LAST-MODIFIED:20240306T175132Z
UID:6760-1710324000-1710327600@www.wildelake.org
SUMMARY:Shades of Black and White II Gallery Talk\, March 13
DESCRIPTION:Join the Wilde Lake Community Association and the talented photographers whose work is part of Shades of Black and White II for a gallery talk on Wednesday\, March 13 at 10AM! The talk will take place at the Bernice Kish Gallery at Slayton House (10400 Cross Fox Lane\, Columbia\, MD 21044). There is no cost to attend\, but advance registration is requested. To register\, click the image above or visit WLCA’s Eventbrite page. We look forward to seeing you!
URL:https://www.wildelake.org/single-cal-event/shades-of-black-and-white-ii-gallery-talk-march-13/
LOCATION:Slayton House\, 10400 Cross Fox Lane\, Columbia\, MD\, 21044
CATEGORIES:Exhibits
END:VEVENT
BEGIN:VEVENT
DTSTART;TZID=America/New_York:20240312T190000
DTEND;TZID=America/New_York:20240312T200000
DTSTAMP:20260422T104854
CREATED:20240227T212843Z
LAST-MODIFIED:20240227T212843Z
UID:6727-1710270000-1710273600@www.wildelake.org
SUMMARY:RAC Meeting\, March 12
DESCRIPTION:Applications for the RAC meeting on Tuesday\, March 12 are due by the end of the day on Tuesday\, March 5. The Application for Exterior Alteration form and additional information about the application process can be found at https://wildelake.org/covenants. \nRAC meetings are open to the public and are currently held virtually. Up to date agendas can always be found on our website: RAC Agenda. \nFor Zoom information or to offer input on any pending application\, please email Lexi Levy Milani\, covenant advisor\, at covenants@wildelake.org. Thank you!
URL:https://www.wildelake.org/single-cal-event/rac-meeting-march-12/
LOCATION:Zoom
CATEGORIES:Meetings
END:VEVENT
BEGIN:VEVENT
DTSTART;TZID=America/New_York:20240310T150000
DTEND;TZID=America/New_York:20240310T170000
DTSTAMP:20260422T104854
CREATED:20240306T152242Z
LAST-MODIFIED:20240306T175841Z
UID:6754-1710082800-1710090000@www.wildelake.org
SUMMARY:Shades of Black and White II Opening Reception\, March 10
DESCRIPTION:
URL:https://www.wildelake.org/single-cal-event/shades-of-black-and-white-ii-opening-reception-march-10/
LOCATION:Slayton House\, 10400 Cross Fox Lane\, Columbia\, MD\, 21044
CATEGORIES:Exhibits
END:VEVENT
BEGIN:VEVENT
DTSTART;TZID=America/New_York:20240308T200000
DTEND;TZID=America/New_York:20240308T220000
DTSTAMP:20260422T104854
CREATED:20240131T144213Z
LAST-MODIFIED:20240131T144213Z
UID:6650-1709928000-1709935200@www.wildelake.org
SUMMARY:Opening Night! Silhouette Stages Presents: Puffs
DESCRIPTION:For seven years a certain boy wizard went to a certain Wizard School and conquered evil. This\, however\, is not his story. This is the story of the Puffs… who just happened to be there too. A tale for anyone who has never been destined to save the world. See above poster for all dates and times! For more and to buy tickets\, visit Silhouette’s online box office.
URL:https://www.wildelake.org/single-cal-event/opening-night-silhouette-stages-presents-puffs/
LOCATION:Slayton House\, 10400 Cross Fox Lane\, Columbia\, MD\, 21044
CATEGORIES:Theatrical Productions
END:VEVENT
BEGIN:VEVENT
DTSTART;TZID=America/New_York:20240308T090000
DTEND;TZID=America/New_York:20240308T100000
DTSTAMP:20260422T104854
CREATED:20240201T180337Z
LAST-MODIFIED:20240201T180424Z
UID:6654-1709888400-1709892000@www.wildelake.org
SUMMARY:Wilde Lake Neighborhood Reps Coffee Hour
DESCRIPTION:Calling all Neighborhood Reps! The Wilde Lake Community Association invites you to our first ever Reps Coffee Hour. \nJoin WLCA board members and staff on Friday\, March 8 at 9AM at Slayton House (10400 Cross Fox Lane) to enjoy a continental breakfast\, chat about upcoming WLCA and Reps activities\, and get a behind-the-scenes tour of Slayton House. \nWe invite you to bring a neighbor or friend who might be interested in joining the Neighborhood Reps (Wilde Lake residents only\, please). There is no charge to attend\, but we do ask that you RSVP no later than March 1\, 2024. To RSVP\, click the image above or visit our Eventbrite page. \nPlease contact Lexi Levy Milani at covenants@wildelake.org if you have questions or need special accommodations. We look forward to seeing you at Slayton House!
URL:https://www.wildelake.org/single-cal-event/wilde-lake-neighborhood-reps-coffee-hour/
LOCATION:Slayton House\, 10400 Cross Fox Lane\, Columbia\, MD\, 21044
CATEGORIES:Events
END:VEVENT
BEGIN:VEVENT
DTSTART;TZID=America/New_York:20240306T093000
DTEND;TZID=America/New_York:20240306T133000
DTSTAMP:20260422T104854
CREATED:20240214T144819Z
LAST-MODIFIED:20240214T145102Z
UID:6700-1709717400-1709731800@www.wildelake.org
SUMMARY:Landscapes: Working with Photographs Workshop\, March 6
DESCRIPTION:
URL:https://www.wildelake.org/single-cal-event/landscapes-working-with-photographs-workshop-march-6/
LOCATION:Slayton House\, 10400 Cross Fox Lane\, Columbia\, MD\, 21044
CATEGORIES:Classes
END:VEVENT
BEGIN:VEVENT
DTSTART;VALUE=DATE:20240306
DTEND;VALUE=DATE:20240427
DTSTAMP:20260422T104854
CREATED:20240320T170306Z
LAST-MODIFIED:20240320T170306Z
UID:6805-1709683200-1714175999@www.wildelake.org
SUMMARY:Shades of Black and White II Exhibit
DESCRIPTION:
URL:https://www.wildelake.org/single-cal-event/shades-of-black-and-white-ii-exhibit/
LOCATION:Slayton House\, 10400 Cross Fox Lane\, Columbia\, MD\, 21044
CATEGORIES:Exhibits
END:VEVENT
BEGIN:VEVENT
DTSTART;TZID=America/New_York:20240229T150000
DTEND;TZID=America/New_York:20240229T170000
DTSTAMP:20260422T104854
CREATED:20240209T143018Z
LAST-MODIFIED:20240209T143018Z
UID:6680-1709218800-1709226000@www.wildelake.org
SUMMARY:Love is Respect Workshop for Teens\, Feb. 29
DESCRIPTION:Join Fish Out Of Water Career Development / Anchors Up for an informative\, fun workshop about healthy relationships for teens! Teens and parents are welcome\, and refreshments will be served. There is no charge to attend\, but registration via Eventbrite is requested: Love is Respect Registration.
URL:https://www.wildelake.org/single-cal-event/love-is-respect-workshop-for-teens-feb-29/
LOCATION:Slayton House\, 10400 Cross Fox Lane\, Columbia\, MD\, 21044
CATEGORIES:Events
END:VEVENT
BEGIN:VEVENT
DTSTART;TZID=America/New_York:20240227T190000
DTEND;TZID=America/New_York:20240227T200000
DTSTAMP:20260422T104854
CREATED:20240104T172716Z
LAST-MODIFIED:20240104T172716Z
UID:6520-1709060400-1709064000@www.wildelake.org
SUMMARY:RAC Meeting\, Feb. 27
DESCRIPTION:Applications for the RAC meeting on Tuesday\, Feb. 27 are due by the end of the day on Tuesday\, Feb. 20. The Application for Exterior Alteration form and additional information about the application process can be found at https://wildelake.org/covenants. \nRAC meetings are open to the public and are currently held virtually. Up to date agendas can always be found on our website: RAC Agenda. \nFor Zoom information or to offer input on any pending application\, please email Lexi Levy Milani\, covenant advisor\, at covenants@wildelake.org. Thank you!
URL:https://www.wildelake.org/single-cal-event/rac-meeting-feb-27/
LOCATION:Zoom
CATEGORIES:Meetings
END:VEVENT
BEGIN:VEVENT
DTSTART;TZID=America/New_York:20240224T173000
DTEND;TZID=America/New_York:20240224T210000
DTSTAMP:20260422T104854
CREATED:20231025T182818Z
LAST-MODIFIED:20231025T183102Z
UID:6297-1708795800-1708808400@www.wildelake.org
SUMMARY:Let The Music Play: The Musical\, Feb. 24
DESCRIPTION:Join H & H Productions/Sisters In Sync at Slayton House on Saturday\, Feb. 24 at 5:30PM for their production of Let The Music Play\, starring Jourdan Carroll as Barry White\, the maestro of love! \nBarry White left a legacy of more than 100 million albums sold\, over 106 platinum\, gold albums\, singles\, 2 Grammy Awards and now a star on the Hollywood Walk of Fame. Now phenomenal vocalist/song stylist Jourdan Carroll will portray Barry in the Broadway-style musical Let The Music Play. From the beginning Carroll was always compared to Barry White with his massive vocal range in the low octaves and striking physical features. He honed those skills to become one of the most recognizable Barry White tribute artists in the country.  \nThis event will also celebrate the release of Adrienne Lillette Harris’s new memoir Native New Yorker: Telling My Truth — I Did It My Way. Doors will open at 4:30PM. \nTickets are $45 general admission and $60 VIP. For tickets\, visit https://www.paypal.com/donate/?hosted_button_id=RL3YDN88L5K3N. \nProceeds From This Event Will Benefit Lillette’s Foundation For The Arts Inc.
URL:https://www.wildelake.org/single-cal-event/let-the-music-play-the-musical-feb-24/
LOCATION:Slayton House\, 10400 Cross Fox Lane\, Columbia\, MD\, 21044
CATEGORIES:Events
ORGANIZER;CN="H&H Productions":MAILTO:harrisandharrisproductions@gmail.com
END:VEVENT
BEGIN:VEVENT
DTSTART;VALUE=DATE:20240219
DTEND;VALUE=DATE:20240220
DTSTAMP:20260422T104854
CREATED:20240209T155125Z
LAST-MODIFIED:20240213T212740Z
UID:6685-1708300800-1708387199@www.wildelake.org
SUMMARY:WLCA Closed for Presidents Day Holiday\, Feb. 19
DESCRIPTION:
URL:https://www.wildelake.org/single-cal-event/wlca-closed-for-presidents-day-feb-19/
LOCATION:Slayton House\, 10400 Cross Fox Lane\, Columbia\, MD\, 21044
CATEGORIES:Closings
END:VEVENT
BEGIN:VEVENT
DTSTART;TZID=America/New_York:20240217T200000
DTEND;TZID=America/New_York:20240217T223000
DTSTAMP:20260422T104854
CREATED:20240103T192740Z
LAST-MODIFIED:20240104T191151Z
UID:6507-1708200000-1708209000@www.wildelake.org
SUMMARY:Silhouette Stages Cabaret Series: Comedy Cavalcade
DESCRIPTION:Silhouette Stages is pleased to announce its Winter Cabaret Series event\, Comedy Cavalcade: An Evening of Comedy Through Song\, on Saturday\, February 17 at 8PM. Comedy Cavalcade will be a cabaret event featuring songs\, skits\, dance numbers and other types of comedic performances. You don’t want to miss it! For tickets\, visit Silhouette’s online box office: https://ci.ovationtix.com/35499
URL:https://www.wildelake.org/single-cal-event/silhouette-stages-cabaret-series-comedy-cavalcade/
LOCATION:Slayton House\, 10400 Cross Fox Lane\, Columbia\, MD\, 21044
CATEGORIES:Events
END:VEVENT
BEGIN:VEVENT
DTSTART;TZID=America/New_York:20240217T123000
DTEND;TZID=America/New_York:20240217T143000
DTSTAMP:20260422T104854
CREATED:20240205T193542Z
LAST-MODIFIED:20240205T193740Z
UID:6674-1708173000-1708180200@www.wildelake.org
SUMMARY:Black History Pop-Up Art Celebration\, Feb. 17
DESCRIPTION:
URL:https://www.wildelake.org/single-cal-event/black-history-pop-up-art-celebration-feb-17/
LOCATION:Slayton House\, 10400 Cross Fox Lane\, Columbia\, MD\, 21044
CATEGORIES:Events
END:VEVENT
BEGIN:VEVENT
DTSTART;TZID=America/New_York:20240213T190000
DTEND;TZID=America/New_York:20240213T200000
DTSTAMP:20260422T104854
CREATED:20240104T172558Z
LAST-MODIFIED:20240104T172558Z
UID:6518-1707850800-1707854400@www.wildelake.org
SUMMARY:RAC Meeting\, Feb. 13
DESCRIPTION:Applications for the RAC meeting on Tuesday\, Feb. 13 are due by the end of the day on Tuesday\, Feb. 6. The Application for Exterior Alteration form and additional information about the application process can be found at https://wildelake.org/covenants. \nRAC meetings are open to the public and are currently held virtually. Up to date agendas can always be found on our website: RAC Agenda. \nFor Zoom information or to offer input on any pending application\, please email Lexi Levy Milani\, covenant advisor\, at covenants@wildelake.org. Thank you!
URL:https://www.wildelake.org/single-cal-event/rac-meeting-feb-13/
LOCATION:Zoom
CATEGORIES:Meetings
END:VEVENT
BEGIN:VEVENT
DTSTART;TZID=America/New_York:20240208T150000
DTEND;TZID=America/New_York:20240208T173000
DTSTAMP:20260422T104854
CREATED:20240202T141410Z
LAST-MODIFIED:20240202T143431Z
UID:6662-1707404400-1707413400@www.wildelake.org
SUMMARY:Love is Respect Workshop for Teens\, Feb. 8
DESCRIPTION:Click the image above for more information about this free workshop for high school students presented by Fish Out of Water Career Development Center / Anchors Up. Attendees are welcome to attend one or both sessions. Refreshments will be served\, and parents are welcome. \nFull flier also available as a PDF file: Love is Respect Teen Dating Violence Awareness Workshop.
URL:https://www.wildelake.org/single-cal-event/love-is-respect-workshop-for-teens-feb-8/
LOCATION:Slayton House\, 10400 Cross Fox Lane\, Columbia\, MD\, 21044
CATEGORIES:Events
END:VEVENT
BEGIN:VEVENT
DTSTART;TZID=America/New_York:20240123T190000
DTEND;TZID=America/New_York:20240123T200000
DTSTAMP:20260422T104854
CREATED:20240104T172102Z
LAST-MODIFIED:20240104T172102Z
UID:6516-1706036400-1706040000@www.wildelake.org
SUMMARY:RAC Meeting\, Jan. 23
DESCRIPTION:Applications for the RAC meeting on Tuesday\, Jan. 23 are due by the end of the day on Tuesday\, Jan. 16. The Application for Exterior Alteration form and additional information about the application process can be found at https://wildelake.org/covenants. \nRAC meetings are open to the public and are currently held virtually. Up to date agendas can always be found on our website: RAC Agenda. \nFor Zoom information or to offer input on any pending application\, please email Lexi Levy Milani\, covenant advisor\, at covenants@wildelake.org. Thank you!
URL:https://www.wildelake.org/single-cal-event/rac-meeting-jan-23/
LOCATION:Zoom
CATEGORIES:Meetings
END:VEVENT
BEGIN:VEVENT
DTSTART;TZID=America/New_York:20240121T150000
DTEND;TZID=America/New_York:20240121T170000
DTSTAMP:20260422T104854
CREATED:20231206T194419Z
LAST-MODIFIED:20240112T160422Z
UID:6435-1705849200-1705856400@www.wildelake.org
SUMMARY:Gallery Reception and Artists' Talk: Elad\, Nazariyan\, and Hill
DESCRIPTION:Join the Wilde Lake Community Association for a gallery reception and artists’ talk with the three talented artists featured in our first show of 2024: Evanson Elad\, Homeira Nazariyan\, and Steele Hill. This event is open to the public and there is no charge to attend\, but advance registration at Eventbrite is requested. We look forward to seeing  you!
URL:https://www.wildelake.org/single-cal-event/gallery-reception-and-artists-talk-elad-nazariyan-hill/
LOCATION:Slayton House\, 10400 Cross Fox Lane\, Columbia\, MD\, 21044
CATEGORIES:Exhibits
END:VEVENT
BEGIN:VEVENT
DTSTART;VALUE=DATE:20240112
DTEND;VALUE=DATE:20240302
DTSTAMP:20260422T104854
CREATED:20231206T193649Z
LAST-MODIFIED:20231206T193649Z
UID:6433-1705017600-1709337599@www.wildelake.org
SUMMARY:Art Exhibit: Elad + Nazariyan + Hill
DESCRIPTION:
URL:https://www.wildelake.org/single-cal-event/art-exhibit-elad-nazariyan-hill/
LOCATION:Slayton House\, 10400 Cross Fox Lane\, Columbia\, MD\, 21044
CATEGORIES:Exhibits
END:VEVENT
BEGIN:VEVENT
DTSTART;TZID=America/New_York:20240109T190000
DTEND;TZID=America/New_York:20240109T200000
DTSTAMP:20260422T104854
CREATED:20231107T191551Z
LAST-MODIFIED:20231107T191551Z
UID:6355-1704826800-1704830400@www.wildelake.org
SUMMARY:RAC Meeting\, Jan. 9
DESCRIPTION:Applications for the RAC meeting on Tuesday\, Jan. 9 are due by the end of the day on Tuesday\, Jan. 2. The Application for Exterior Alteration form and additional information about the application process can be found at https://wildelake.org/covenants. \nRAC meetings are open to the public and are currently held virtually. Up to date agendas can always be found on our website: RAC Agenda. \nFor Zoom information or to offer input on any pending application\, please email Lexi Levy Milani\, covenant advisor\, at covenants@wildelake.org. Thank you!
URL:https://www.wildelake.org/single-cal-event/rac-meeting-jan-9/
LOCATION:Zoom
CATEGORIES:Meetings
END:VEVENT
BEGIN:VEVENT
DTSTART;TZID=America/New_York:20240105T183000
DTEND;TZID=America/New_York:20240105T210000
DTSTAMP:20260422T104854
CREATED:20231107T205518Z
LAST-MODIFIED:20231113T155728Z
UID:6363-1704479400-1704488400@www.wildelake.org
SUMMARY:Wilde Puzzle Challenge
DESCRIPTION:Please click the image to register! Or click HERE
URL:https://www.wildelake.org/single-cal-event/wilde-puzzle-challenge/
LOCATION:Slayton House\, 10400 Cross Fox Lane\, Columbia\, MD\, 21044
CATEGORIES:Events
END:VEVENT
BEGIN:VEVENT
DTSTART;VALUE=DATE:20231223
DTEND;VALUE=DATE:20240102
DTSTAMP:20260422T104854
CREATED:20231204T212325Z
LAST-MODIFIED:20231204T212351Z
UID:6422-1703289600-1704153599@www.wildelake.org
SUMMARY:Slayton House Closed for Annual Break
DESCRIPTION:Slayton House and WLCA offices will be closed starting Saturday\, Dec. 23 for our annual break. The building and WLCA offices will reopen at 9AM on Tuesday\, Jan. 2. Happy holidays!
URL:https://www.wildelake.org/single-cal-event/slayton-house-closed-for-annual-break/
LOCATION:Slayton House\, 10400 Cross Fox Lane\, Columbia\, MD\, 21044
CATEGORIES:Closings
END:VEVENT
BEGIN:VEVENT
DTSTART;TZID=America/New_York:20231218T190000
DTEND;TZID=America/New_York:20231218T210000
DTSTAMP:20260422T104854
CREATED:20231214T144710Z
LAST-MODIFIED:20231214T144819Z
UID:6466-1702926000-1702933200@www.wildelake.org
SUMMARY:Wilde Lake Village Board Meeting
DESCRIPTION:Wilde Lake Village Board Meeting Agenda
URL:https://www.wildelake.org/single-cal-event/wilde-lake-village-board-meeting/
LOCATION:Slayton House\, 10400 Cross Fox Lane\, Columbia\, MD\, 21044
END:VEVENT
BEGIN:VEVENT
DTSTART;TZID=America/New_York:20231212T190000
DTEND;TZID=America/New_York:20231212T200000
DTSTAMP:20260422T104854
CREATED:20231025T170613Z
LAST-MODIFIED:20231025T170613Z
UID:6293-1702407600-1702411200@www.wildelake.org
SUMMARY:RAC Meeting\, Dec. 12
DESCRIPTION:Applications for the RAC meeting on Tuesday\, Dec. 12 are due by the end of the day on Tuesday\, Dec. 5. Please note that this is the only RAC meeting in December; meetings will resume in January 2024. The Application for Exterior Alteration form and additional information about the application process can be found at https://wildelake.org/covenants. \nRAC meetings are open to the public and are currently held virtually. Up to date agendas can always be found on our website: RAC Agenda. \nFor Zoom information or to offer input on any pending application\, please email Lexi Levy Milani\, covenant advisor\, at covenants@wildelake.org. Thank you!
URL:https://www.wildelake.org/single-cal-event/rac-meeting-dec-12/
LOCATION:Zoom
CATEGORIES:Meetings
END:VEVENT
BEGIN:VEVENT
DTSTART;TZID=America/New_York:20231204T183000
DTEND;TZID=America/New_York:20231204T203000
DTSTAMP:20260422T104854
CREATED:20230816T140842Z
LAST-MODIFIED:20230816T140842Z
UID:467-1701714600-1701721800@www.wildelake.org
SUMMARY:Village Board Meeting\, December 4\, 2023
DESCRIPTION:
URL:https://www.wildelake.org/single-cal-event/village-board-meeting-december-4-2023/
LOCATION:Slayton House\, 10400 Cross Fox Lane\, Columbia\, MD\, 21044
CATEGORIES:Meetings
END:VEVENT
END:VCALENDAR