BEGIN:VCALENDAR
VERSION:2.0
PRODID:-//Wilde Lake Community Association - ECPv6.15.3//NONSGML v1.0//EN
CALSCALE:GREGORIAN
METHOD:PUBLISH
X-WR-CALNAME:Wilde Lake Community Association
X-ORIGINAL-URL:https://www.wildelake.org
X-WR-CALDESC:Events for Wilde Lake Community Association
REFRESH-INTERVAL;VALUE=DURATION:PT1H
X-Robots-Tag:noindex
X-PUBLISHED-TTL:PT1H
BEGIN:VTIMEZONE
TZID:America/New_York
BEGIN:DAYLIGHT
TZOFFSETFROM:-0500
TZOFFSETTO:-0400
TZNAME:EDT
DTSTART:20240310T070000
END:DAYLIGHT
BEGIN:STANDARD
TZOFFSETFROM:-0400
TZOFFSETTO:-0500
TZNAME:EST
DTSTART:20241103T060000
END:STANDARD
END:VTIMEZONE
BEGIN:VEVENT
DTSTART;TZID=America/New_York:20240529T103000
DTEND;TZID=America/New_York:20240529T113000
DTSTAMP:20260422T072826
CREATED:20240506T181957Z
LAST-MODIFIED:20240506T182547Z
UID:6952-1716978600-1716982200@www.wildelake.org
SUMMARY:Learn About The Village in Howard\, May 29
DESCRIPTION:Join the Wilde Lake Community Association and The Village in Howard on Wednesday\, May 29 at 10:30AM at Slayton House (10400 Cross Fox Lane) to learn more about this vibrant organization for seniors 55+! There is no cost to attend\, but advance registration is requested. To register\, visit TVIH’s online calendar: Wilde Lake Outreach Presentation.
URL:https://www.wildelake.org/single-cal-event/learn-about-the-village-in-howard-may-29/
LOCATION:Slayton House\, 10400 Cross Fox Lane\, Columbia\, MD\, 21044
CATEGORIES:Events
END:VEVENT
BEGIN:VEVENT
DTSTART;TZID=America/New_York:20240528T190000
DTEND;TZID=America/New_York:20240528T200000
DTSTAMP:20260422T072826
CREATED:20240329T184908Z
LAST-MODIFIED:20240528T173919Z
UID:6837-1716922800-1716926400@www.wildelake.org
SUMMARY:CANCELED: RAC Meeting\, May 28
DESCRIPTION:This meeting has been canceled. \nApplications for the RAC meeting on Tuesday\, May 28 are due by the end of the day on Tuesday\, May 21. The Application for Exterior Alteration form and additional information about the application process can be found at https://wildelake.org/covenants. \nRAC meetings are open to the public. Up to date agendas can always be found on our website: RAC Agenda. \nFor Zoom information or to offer input on any pending application\, please email Lexi Levy Milani\, covenant advisor\, at covenants@wildelake.org. Thank you!
URL:https://www.wildelake.org/single-cal-event/rac-meeting-may-28/
LOCATION:Slayton House\, 10400 Cross Fox Lane\, Columbia\, MD\, 21044
CATEGORIES:Meetings
END:VEVENT
BEGIN:VEVENT
DTSTART;VALUE=DATE:20240527
DTEND;VALUE=DATE:20240528
DTSTAMP:20260422T072826
CREATED:20240419T185435Z
LAST-MODIFIED:20240419T185519Z
UID:6896-1716768000-1716854399@www.wildelake.org
SUMMARY:WLCA + Slayton House Closed for Memorial Day
DESCRIPTION:
URL:https://www.wildelake.org/single-cal-event/wlca-slayton-house-closed-for-memorial-day/
LOCATION:Slayton House\, 10400 Cross Fox Lane\, Columbia\, MD\, 21044
CATEGORIES:Closings
END:VEVENT
BEGIN:VEVENT
DTSTART;VALUE=DATE:20240524
DTEND;VALUE=DATE:20240525
DTSTAMP:20260422T072826
CREATED:20240523T135032Z
LAST-MODIFIED:20240523T135032Z
UID:7096-1716508800-1716595199@www.wildelake.org
SUMMARY:Slayton House Closed
DESCRIPTION:Slayton House will be closed on Friday\, May 24. WLCA staff will be working remotely. Have a great Memorial Day weekend!
URL:https://www.wildelake.org/single-cal-event/slayton-house-closed/
LOCATION:Slayton House\, 10400 Cross Fox Lane\, Columbia\, MD\, 21044
CATEGORIES:Closings
END:VEVENT
BEGIN:VEVENT
DTSTART;TZID=America/New_York:20240520T183000
DTEND;TZID=America/New_York:20240520T203000
DTSTAMP:20260422T072826
CREATED:20240518T010129Z
LAST-MODIFIED:20240518T010129Z
UID:6984-1716229800-1716237000@www.wildelake.org
SUMMARY:Wilde Lake Village Board Meeting\, May 20\, 2024
DESCRIPTION:
URL:https://www.wildelake.org/single-cal-event/wilde-lake-village-board-meeting-may-20-2024/
LOCATION:MD
CATEGORIES:Meetings
END:VEVENT
BEGIN:VEVENT
DTSTART;TZID=America/New_York:20240519T153000
DTEND;TZID=America/New_York:20240519T170000
DTSTAMP:20260422T072826
CREATED:20240516T144622Z
LAST-MODIFIED:20240516T144731Z
UID:6971-1716132600-1716138000@www.wildelake.org
SUMMARY:Kinetics Dance Theatre Presents: Spectrum 2024\, May 19
DESCRIPTION:Slayton House is pleased to host Spectrum 2024\, Kinetics Dance Theatre’s annual repertory dance concert! Performances will take place on Sunday\, May 19 at 3:30PM and 7PM\, and run approximately 90 minutes including intermission. Appropriate for ages 7+. To buy tickets\, click on the image above or visit KDT’s website: Spectrum 2024 Tickets.
URL:https://www.wildelake.org/single-cal-event/kinetics-dance-theatre-presents-spectrum-2024-may-19/
LOCATION:Slayton House\, 10400 Cross Fox Lane\, Columbia\, MD\, 21044
CATEGORIES:Events
END:VEVENT
BEGIN:VEVENT
DTSTART;TZID=America/New_York:20240518T200000
DTEND;TZID=America/New_York:20240518T220000
DTSTAMP:20260422T072826
CREATED:20240419T184029Z
LAST-MODIFIED:20240419T184105Z
UID:6893-1716062400-1716069600@www.wildelake.org
SUMMARY:Silhouette Stages Spring Cabaret: Silhouette Unplugged
DESCRIPTION:Silhouette Stages’ Spring Cabaret has been announced! Join Silhouette for an evening of fantastic unplugged local talent presented cabaret style. The show begins at 8PM and tickets are $15/ea\, general admission. For more\, visit Silhouette’s online box office.
URL:https://www.wildelake.org/single-cal-event/silhouette-stages-spring-cabaret-silhouette-unplugged/
LOCATION:Slayton House\, 10400 Cross Fox Lane\, Columbia\, MD\, 21044
CATEGORIES:Theatrical Productions
END:VEVENT
BEGIN:VEVENT
DTSTART;TZID=America/New_York:20240514T190000
DTEND;TZID=America/New_York:20240514T200000
DTSTAMP:20260422T072826
CREATED:20240329T184734Z
LAST-MODIFIED:20240329T184734Z
UID:6835-1715713200-1715716800@www.wildelake.org
SUMMARY:RAC Meeting\, May 14
DESCRIPTION:Applications for the RAC meeting on Tuesday\, May 14 are due by the end of the day on Tuesday\, May 7. The Application for Exterior Alteration form and additional information about the application process can be found at https://wildelake.org/covenants. \nRAC meetings are open to the public. Up to date agendas can always be found on our website: RAC Agenda. \nFor Zoom information or to offer input on any pending application\, please email Lexi Levy Milani\, covenant advisor\, at covenants@wildelake.org. Thank you!
URL:https://www.wildelake.org/single-cal-event/rac-meeting-may-14/
LOCATION:Slayton House\, 10400 Cross Fox Lane\, Columbia\, MD\, 21044
CATEGORIES:Meetings
END:VEVENT
BEGIN:VEVENT
DTSTART;TZID=America/New_York:20240505T150000
DTEND;TZID=America/New_York:20240505T170000
DTSTAMP:20260422T072826
CREATED:20240426T134446Z
LAST-MODIFIED:20240426T134513Z
UID:6914-1714921200-1714928400@www.wildelake.org
SUMMARY:Another Time Opening Reception and Gallery Talk\, May 5
DESCRIPTION:Join the Wilde Lake Community Association for a reception and gallery talk with painter Kevin Peddicord on Sunday\, May 5 from 3-5PM. 
URL:https://www.wildelake.org/single-cal-event/another-time-opening-reception-and-gallery-talk-may-5/
LOCATION:Bernice Kish Gallery at Slayton House\, 10400 Cross Fox Lane\, Columbia\, MD\, 21044
CATEGORIES:Exhibits
END:VEVENT
BEGIN:VEVENT
DTSTART;TZID=America/New_York:20240505T090000
DTEND;TZID=America/New_York:20240505T110000
DTSTAMP:20260422T072826
CREATED:20240131T142944Z
LAST-MODIFIED:20240131T142944Z
UID:6643-1714899600-1714906800@www.wildelake.org
SUMMARY:Adopt-a-Spot Spring Cleaning with Wilde Lake CARES\, May 5
DESCRIPTION:
URL:https://www.wildelake.org/single-cal-event/adopt-a-spot-spring-cleaning-with-wilde-lake-cares-may-5/
LOCATION:Wilde Lake Park Adopt-a-Spot\, 10027 Hyla Brook Road\, Columbia\, MD\, 21044\, United States
CATEGORIES:Events
END:VEVENT
BEGIN:VEVENT
DTSTART;TZID=America/New_York:20240504T080000
DTEND;TZID=America/New_York:20240504T100000
DTSTAMP:20260422T072826
CREATED:20240131T142427Z
LAST-MODIFIED:20240131T142427Z
UID:6640-1714809600-1714816800@www.wildelake.org
SUMMARY:Wilde Lake CARES Baltimore Oriole Bird Walk\, May 4
DESCRIPTION:
URL:https://www.wildelake.org/single-cal-event/wilde-lake-cares-baltimore-oriole-bird-walk-may-4/
LOCATION:Wilde Lake Park\, 10002 Hyla Brook Rd.
CATEGORIES:Events
END:VEVENT
BEGIN:VEVENT
DTSTART;TZID=America/New_York:20240503T190000
DTEND;TZID=America/New_York:20240503T210000
DTSTAMP:20260422T072826
CREATED:20240503T163533Z
LAST-MODIFIED:20240503T163550Z
UID:6938-1714762800-1714770000@www.wildelake.org
SUMMARY:Stagelight Productions Presents: Annie
DESCRIPTION:Join Stagelight Productions for its spring 2024 production of Annie! General admission tickets are $15/each. Showtimes include: \n\n7PM Friday\, May 3\n2PM Saturday\, May 4\n7PM Saturday\, May 4\n7PM Friday\, May 10\n\nClick the image above or visit Stagelight’s Seat Yourself site to purchase.
URL:https://www.wildelake.org/single-cal-event/stagelight-productions-presents-annie/
LOCATION:Slayton House\, 10400 Cross Fox Lane\, Columbia\, MD\, 21044
CATEGORIES:Theatrical Productions
END:VEVENT
BEGIN:VEVENT
DTSTART;VALUE=DATE:20240501
DTEND;VALUE=DATE:20240629
DTSTAMP:20260422T072826
CREATED:20240426T133638Z
LAST-MODIFIED:20240426T134131Z
UID:6908-1714521600-1719619199@www.wildelake.org
SUMMARY:Another Time Exhibit
DESCRIPTION:The Bernice Kish Gallery at Slayton House is pleased to present Another Time by painter Kevin Peddicord. The exhibit is free and open to the public during business hours (9AM – 4:30PM weekdays). We do suggest calling ahead to ensure that all gallery areas are open for viewing. Please join us for the reception and gallery talk on Sunday\, May 5 from 3-5PM!
URL:https://www.wildelake.org/single-cal-event/another-time-exhibit/
LOCATION:Bernice Kish Gallery at Slayton House\, 10400 Cross Fox Lane\, Columbia\, MD\, 21044
CATEGORIES:Exhibits
END:VEVENT
BEGIN:VEVENT
DTSTART;TZID=America/New_York:20240427T090000
DTEND;TZID=America/New_York:20240427T110000
DTSTAMP:20260422T072826
CREATED:20240131T142048Z
LAST-MODIFIED:20240131T142048Z
UID:6636-1714208400-1714215600@www.wildelake.org
SUMMARY:Adopt-a-Spot Spring Clean with Wilde Lake CARES\, April 27
DESCRIPTION:
URL:https://www.wildelake.org/single-cal-event/adopt-a-spot-spring-clean-with-wilde-lake-cares-april-27/
LOCATION:Snowy Reach Adopt-a-Spot\, 4951 Snowy Reach\, Columbia\, MD\, 21044\, United States
CATEGORIES:Events
END:VEVENT
BEGIN:VEVENT
DTSTART;TZID=America/New_York:20240424T190000
DTEND;TZID=America/New_York:20240424T200000
DTSTAMP:20260422T072826
CREATED:20240329T184356Z
LAST-MODIFIED:20240329T185108Z
UID:6831-1713985200-1713988800@www.wildelake.org
SUMMARY:RAC Meeting\, April 24
DESCRIPTION:Applications for the RAC meeting on Wednesday\, April 24 are due by the end of the day on Tuesday\, April 16. The Application for Exterior Alteration form and additional information about the application process can be found at https://wildelake.org/covenants. \nRAC meetings are open to the public. Up to date agendas can always be found on our website: RAC Agenda. \nFor Zoom information or to offer input on any pending application\, please email Lexi Levy Milani\, covenant advisor\, at covenants@wildelake.org. Thank you! \nPlease note: this meeting has been moved from the customary fourth Tuesday of the month to avoid any conflict with Second Seder celebrations. Thank you!
URL:https://www.wildelake.org/single-cal-event/rac-meeting-april-24/
LOCATION:Slayton House\, 10400 Cross Fox Lane\, Columbia\, MD\, 21044
CATEGORIES:Meetings
END:VEVENT
BEGIN:VEVENT
DTSTART;TZID=America/New_York:20240420T190000
DTEND;TZID=America/New_York:20240420T210000
DTSTAMP:20260422T072826
CREATED:20240416T154320Z
LAST-MODIFIED:20240416T154358Z
UID:6887-1713639600-1713646800@www.wildelake.org
SUMMARY:CCTA Presents: Descendants the Musical\, April 20
DESCRIPTION:The Columbia Center for Theatrical Arts (CCTA) presents its Broadway Prep Jr. students in Descendants The Musical! Join CCTA family and friends at Slayton House (10400 Cross Fox Lane) for two performances of this fun show\, April 19th and 20th at 7PM. For tickets\, visit CCTA’s website.
URL:https://www.wildelake.org/single-cal-event/ccta-presents-descendants-the-musical-april-20/
LOCATION:Slayton House\, 10400 Cross Fox Lane\, Columbia\, MD\, 21044
CATEGORIES:Theatrical Productions
END:VEVENT
BEGIN:VEVENT
DTSTART;TZID=America/New_York:20240420T113000
DTEND;TZID=America/New_York:20240420T130000
DTSTAMP:20260422T072826
CREATED:20240129T172848Z
LAST-MODIFIED:20240130T174530Z
UID:6622-1713612600-1713618000@www.wildelake.org
SUMMARY:Plant Exchange at Wilde Lake\, April 20
DESCRIPTION:Wilde Lake CARES is pleased to present its Plant Exchange at Wilde Lake for the 7th year running. This event is open to everyone. Bring your unwanted plants\, seeds\, gardening tools\, pots\, etc. and swap them for other items. We accept all kinds of non-invasive plants: house plants\, vegetable seedlings\, trees\, shrubs\, perennials. Please arrive by 11:30am with your plants\, etc. The Exchange will open promptly at noon and we expect all items to be taken immediately! We will be set up on the Village Green in Wilde Lake Village Center. For more information about how the Exchange works\, please view our flyer: Wilde Lake CARES Plant Exchange 2024 [requires Adobe Reader]. \nParking is available at 10400 Cross Fox Lane\, Columbia.
URL:https://www.wildelake.org/single-cal-event/plant-exchange-at-wilde-lake-april-20/
LOCATION:Slayton House Green\, 10400 Cross Fox Lane\, Columbia\, MD\, 21044
CATEGORIES:Events
END:VEVENT
BEGIN:VEVENT
DTSTART;TZID=America/New_York:20240420T100000
DTEND;TZID=America/New_York:20240420T150000
DTSTAMP:20260422T072826
CREATED:20240103T192036Z
LAST-MODIFIED:20240412T133457Z
UID:6501-1713607200-1713625200@www.wildelake.org
SUMMARY:Earth Day Festival
DESCRIPTION:The Wilde Lake Community Association Earth Day Festival has a goal of raising awareness of the need to preserve and protect our Earth in order for our future generations to thrive. The festival is a time to come together and celebrate our Earth through crafts and activities! It will take place Saturday\, April 20th from 10AM-3PM. 
URL:https://www.wildelake.org/single-cal-event/earth-day/
LOCATION:Slayton House Green\, 10400 Cross Fox Lane\, Columbia\, MD\, 21044
CATEGORIES:Events
END:VEVENT
BEGIN:VEVENT
DTSTART;TZID=America/New_York:20240420T100000
DTEND;TZID=America/New_York:20240420T140000
DTSTAMP:20260422T072826
CREATED:20240320T181744Z
LAST-MODIFIED:20240320T181819Z
UID:6810-1713607200-1713621600@www.wildelake.org
SUMMARY:Village Election 2024
DESCRIPTION:Save the date! Wilde Lake’s village elections will be held on Saturday\, April 20\, 2024. For more information\, visit https://www.wildelake.org/2024-elections/.
URL:https://www.wildelake.org/single-cal-event/village-election-2024/
LOCATION:Slayton House Green\, 10400 Cross Fox Lane\, Columbia\, MD\, 21044
CATEGORIES:Events
END:VEVENT
BEGIN:VEVENT
DTSTART;TZID=America/New_York:20240419T190000
DTEND;TZID=America/New_York:20240419T210000
DTSTAMP:20260422T072826
CREATED:20240416T153944Z
LAST-MODIFIED:20240416T154140Z
UID:6881-1713553200-1713560400@www.wildelake.org
SUMMARY:CCTA Presents: Descendants the Musical\, April 19
DESCRIPTION:The Columbia Center for Theatrical Arts (CCTA) presents its Broadway Prep Jr. students in Descendants The Musical! Join CCTA family and friends at Slayton House (10400 Cross Fox Lane) for two performances of this fun show\, April 19th and 20th at 7PM. For tickets\, visit CCTA’s website.
URL:https://www.wildelake.org/single-cal-event/ccta-presents-descendants-the-musical-april-19/
LOCATION:Slayton House\, 10400 Cross Fox Lane\, Columbia\, MD\, 21044
CATEGORIES:Theatrical Productions
END:VEVENT
BEGIN:VEVENT
DTSTART;TZID=America/New_York:20240414T140000
DTEND;TZID=America/New_York:20240414T170000
DTSTAMP:20260422T072826
CREATED:20240411T183513Z
LAST-MODIFIED:20240411T183607Z
UID:6860-1713103200-1713114000@www.wildelake.org
SUMMARY:Shall We Dance LLC Recital\, April 14
DESCRIPTION:Shall We Dance\, LLC’s ballroom dance performance will take place Sunday\, April 14 at 2PM at Slayton House\, featuring 18 different show dances by children age 4-16. Tickets will be available at the door\, cash only. Get a preview of Sunday’s performance from Baltimore’s Fox45: https://foxbaltimore.com/morning/ballroom-dancing-at-its-finest-shall-we-dance\n 
URL:https://www.wildelake.org/single-cal-event/shall-we-dance-llc-recital-april-14/
LOCATION:Slayton House\, 10400 Cross Fox Lane\, Columbia\, MD\, 21044
CATEGORIES:Theatrical Productions
ORGANIZER;CN="Shall We Dance%2C LLC":MAILTO:shallwedancellc2@gmail.com
END:VEVENT
BEGIN:VEVENT
DTSTART;TZID=America/New_York:20240413T180000
DTEND;TZID=America/New_York:20240413T200000
DTSTAMP:20260422T072826
CREATED:20240409T202847Z
LAST-MODIFIED:20240409T202918Z
UID:6852-1713031200-1713038400@www.wildelake.org
SUMMARY:Capital Kapustnik Presents: Cherchez la Femme\, or Con Men
DESCRIPTION:Join Capital Kapustnik on Saturday\, April 13 starting at 6PM for the premiere of “Cherchez la Femme\, or Con Men.” This show is presented in Russian without subtitles. For tickets\, visit Eventbrite.
URL:https://www.wildelake.org/single-cal-event/capital-kapustnik-presents-cherchez-la-femme-or-con-men/
LOCATION:Slayton House\, 10400 Cross Fox Lane\, Columbia\, MD\, 21044
CATEGORIES:Theatrical Productions
END:VEVENT
BEGIN:VEVENT
DTSTART;TZID=America/New_York:20240413T100000
DTEND;TZID=America/New_York:20240413T150000
DTSTAMP:20260422T072826
CREATED:20240129T174435Z
LAST-MODIFIED:20240129T174435Z
UID:6625-1713002400-1713020400@www.wildelake.org
SUMMARY:Wilde Lake CARES at Howard County Greenfest\, April 13
DESCRIPTION:Visit Wilde Lake CARES at Howard County’s GreenFest\, Saturday\, April 13 from 10AM – 3PM! More details coming soon on the county’s website: GreenFest 2024.
URL:https://www.wildelake.org/single-cal-event/wilde-lake-cares-at-howard-county-greenfest-april-13/
LOCATION:Howard Community College\, 10901 Little Patuxent Parkway\, Columbia\, Maryland\, 21044
CATEGORIES:Events
END:VEVENT
BEGIN:VEVENT
DTSTART;TZID=America/New_York:20240413T090000
DTEND;TZID=America/New_York:20240413T110000
DTSTAMP:20260422T072826
CREATED:20240129T170840Z
LAST-MODIFIED:20240129T170840Z
UID:6618-1712998800-1713006000@www.wildelake.org
SUMMARY:Columbia Cleans Day\, April 13
DESCRIPTION:
URL:https://www.wildelake.org/single-cal-event/columbia-cleans-day-april-13/
LOCATION:Faulkner Ridge Neighborhood Center\, 10598 Marble Faun Court\, Columbia\, MD\, 21044\, United States
CATEGORIES:Events
END:VEVENT
BEGIN:VEVENT
DTSTART;TZID=America/New_York:20240409T191500
DTEND;TZID=America/New_York:20240409T201500
DTSTAMP:20260422T072826
CREATED:20240329T184227Z
LAST-MODIFIED:20240405T153032Z
UID:6829-1712690100-1712693700@www.wildelake.org
SUMMARY:RAC Meeting\, April 9
DESCRIPTION:Applications for the RAC meeting on Tuesday\, April 9 are due by the end of the day on Tuesday\, April 2. The Application for Exterior Alteration form and additional information about the application process can be found at https://wildelake.org/covenants. \nRAC meetings are open to the public and are currently held virtually. Up to date agendas can always be found on our website: RAC Agenda. \nFor Zoom information or to offer input on any pending application\, please email Lexi Levy Milani\, covenant advisor\, at covenants@wildelake.org. Thank you!
URL:https://www.wildelake.org/single-cal-event/rac-meeting-april-9/
LOCATION:Zoom
CATEGORIES:Meetings
END:VEVENT
BEGIN:VEVENT
DTSTART;TZID=America/New_York:20240409T180000
DTEND;TZID=America/New_York:20240409T190000
DTSTAMP:20260422T072826
CREATED:20240318T171957Z
LAST-MODIFIED:20240318T171957Z
UID:6797-1712685600-1712689200@www.wildelake.org
SUMMARY:Wilde Lake Candidates Forum\, April 9
DESCRIPTION:A Candidates Forum has been scheduled for Tuesday\, April 9\, 2024\, from 6-7PM. The forum will be led by Wilde Lake Election Chair Susan Tucker in conversation with the candidates running for the Wilde Lake Representative for the Columbia Council position. \nThe candidates forum will be held in a hybrid format; attendees may choose to attend in-person at Slayton House (10400 Cross Fox Lane\, Columbia\, 21044) or virtually via Zoom. Please click here to register: 2024 Wilde Lake Candidates Forum. \nWilde Lake Representative to the Columbia Council \nTwo candidates for one open position: \nBill Santos \nKathleen Uy \nWilde Lake Village Board \nTwo candidates for five open positions*: \nTina Horn \nKevin McAliley \n(*These candidates are deemed elected since there are fewer candidates than open positions.) \nQuestions? Contact Village Election Chair Susan Tucker at Electionchair@wildelake.org or Sharon Cooper-Kerr\, Executive Director/Village Manager\, at scooperkerr@wildelake.org.
URL:https://www.wildelake.org/single-cal-event/wilde-lake-candidates-forum-april-9/
LOCATION:Slayton House\, 10400 Cross Fox Lane\, Columbia\, MD\, 21044
CATEGORIES:Events
END:VEVENT
BEGIN:VEVENT
DTSTART;TZID=America/New_York:20240330T183000
DTEND;TZID=America/New_York:20240330T203000
DTSTAMP:20260422T072826
CREATED:20240216T154828Z
LAST-MODIFIED:20240216T154828Z
UID:6716-1711823400-1711830600@www.wildelake.org
SUMMARY:Revive Awakening\, March 30
DESCRIPTION:This free Revive Awakening Event is going to be so exciting — you are not going to want to miss this. Are you tired of bad news and concerned about what tomorrow brings? Are you living your full potential in life? You will hear and see good news\, not bad news. This good news will help you get through anything in life to ensure you are truly living an abundant life\, full of peace\, and joy. DON’T MISS IT! You will be healed\, set free\, and revived! We will be giving away items like gift cards\, shoes\, and more. Please register with the QR code on the flyer and tell your neighbors\, family\, and friends to register and come. Seats are limited! All ages are welcome to attend. If under 18 please ensure you have a parent or guardian with you.
URL:https://www.wildelake.org/single-cal-event/revive-awakening-march-30/
LOCATION:Slayton House\, 10400 Cross Fox Lane\, Columbia\, MD\, 21044
CATEGORIES:Events
ORGANIZER;CN="Fire International":MAILTO:ReviveAwakeningministries@gmail.com
END:VEVENT
BEGIN:VEVENT
DTSTART;TZID=America/New_York:20240329T183000
DTEND;TZID=America/New_York:20240329T203000
DTSTAMP:20260422T072826
CREATED:20240216T153142Z
LAST-MODIFIED:20240216T154629Z
UID:6709-1711737000-1711744200@www.wildelake.org
SUMMARY:Revive Awakening\, March 29
DESCRIPTION:This free Revive Awakening Event is going to be so exciting — you are not going to want to miss this. Are you tired of bad news and concerned about what tomorrow brings? Are you living your full potential in life? You will hear and see good news\, not bad news. This good news will help you get through anything in life to ensure you are truly living an abundant life\, full of peace\, and joy. DON’T MISS IT! You will be healed\, set free\, and revived! \nWe will be giving away items like gift cards\, shoes\, and more. Please register with the QR code on the flyer and tell your neighbors\, family\, and friends to register and come. Seats are limited! All ages are welcome to attend. If under 18 please ensure you have a parent or guardian with you.
URL:https://www.wildelake.org/single-cal-event/revive-awakening-march-29/
LOCATION:Slayton House\, 10400 Cross Fox Lane\, Columbia\, MD\, 21044
CATEGORIES:Events
ORGANIZER;CN="Fire International":MAILTO:ReviveAwakeningministries@gmail.com
END:VEVENT
BEGIN:VEVENT
DTSTART;TZID=America/New_York:20240326T190000
DTEND;TZID=America/New_York:20240326T200000
DTSTAMP:20260422T072826
CREATED:20240227T213024Z
LAST-MODIFIED:20240227T214731Z
UID:6729-1711479600-1711483200@www.wildelake.org
SUMMARY:RAC Meeting\, March 26
DESCRIPTION:Applications for the RAC meeting on Tuesday\, March 26 are due by the end of the day on Tuesday\, March 19. The Application for Exterior Alteration form and additional information about the application process can be found at https://wildelake.org/covenants. \nRAC meetings are open to the public and are currently held virtually. Up to date agendas can always be found on our website: RAC Agenda. \nFor Zoom information or to offer input on any pending application\, please email Lexi Levy Milani\, covenant advisor\, at covenants@wildelake.org. Thank you!
URL:https://www.wildelake.org/single-cal-event/rac-meeting-march-26/
LOCATION:Zoom
CATEGORIES:Meetings
END:VEVENT
BEGIN:VEVENT
DTSTART;TZID=America/New_York:20240316T100000
DTEND;TZID=America/New_York:20240316T120000
DTSTAMP:20260422T072826
CREATED:20240126T150833Z
LAST-MODIFIED:20240126T150833Z
UID:6610-1710583200-1710590400@www.wildelake.org
SUMMARY:Adopt-a-Spot Vine Cutting with Wilde Lake CARES
DESCRIPTION:
URL:https://www.wildelake.org/single-cal-event/adopt-a-spot-vine-cutting-with-wilde-lake-cares/
LOCATION:Wilde Lake Terrace Adopt-a-Spot\, Wilde Lake Terrace\, Columbia\, MD\, 21044\, United States
CATEGORIES:Events
END:VEVENT
END:VCALENDAR