BEGIN:VCALENDAR
VERSION:2.0
PRODID:-//Wilde Lake Community Association - ECPv6.15.3//NONSGML v1.0//EN
CALSCALE:GREGORIAN
METHOD:PUBLISH
X-WR-CALNAME:Wilde Lake Community Association
X-ORIGINAL-URL:https://www.wildelake.org
X-WR-CALDESC:Events for Wilde Lake Community Association
REFRESH-INTERVAL;VALUE=DURATION:PT1H
X-Robots-Tag:noindex
X-PUBLISHED-TTL:PT1H
BEGIN:VTIMEZONE
TZID:America/New_York
BEGIN:DAYLIGHT
TZOFFSETFROM:-0500
TZOFFSETTO:-0400
TZNAME:EDT
DTSTART:20240310T070000
END:DAYLIGHT
BEGIN:STANDARD
TZOFFSETFROM:-0400
TZOFFSETTO:-0500
TZNAME:EST
DTSTART:20241103T060000
END:STANDARD
END:VTIMEZONE
BEGIN:VEVENT
DTSTART;TZID=America/New_York:20241203T173000
DTEND;TZID=America/New_York:20241203T190000
DTSTAMP:20260422T184455
CREATED:20241120T153950Z
LAST-MODIFIED:20241120T153950Z
UID:7656-1733247000-1733252400@www.wildelake.org
SUMMARY:A Garden for the Growing of People\, Dec. 3
DESCRIPTION: 
URL:https://www.wildelake.org/single-cal-event/a-garden-for-the-growing-of-people-dec-3/
LOCATION:Slayton House\, 10400 Cross Fox Lane\, Columbia\, MD\, 21044
CATEGORIES:Events
END:VEVENT
BEGIN:VEVENT
DTSTART;TZID=America/New_York:20241202T183000
DTEND;TZID=America/New_York:20241202T203000
DTSTAMP:20260422T184455
CREATED:20240518T012431Z
LAST-MODIFIED:20241119T010853Z
UID:7014-1733164200-1733171400@www.wildelake.org
SUMMARY:Wilde Lake Village Board Meeting\, December 2\, 2024
DESCRIPTION:*as needed for work sessions\, special meetings\, etc.
URL:https://www.wildelake.org/single-cal-event/wilde-lake-village-board-meeting-december-2-2024/
LOCATION:Slayton House\, 10400 Cross Fox Lane\, Columbia\, MD\, 21044
CATEGORIES:Meetings
END:VEVENT
BEGIN:VEVENT
DTSTART;VALUE=DATE:20241128
DTEND;VALUE=DATE:20241130
DTSTAMP:20260422T184455
CREATED:20241010T193728Z
LAST-MODIFIED:20241010T193831Z
UID:7546-1732752000-1732924799@www.wildelake.org
SUMMARY:WLCA Offices + Slayton House Closed for Thanksgiving Holiday
DESCRIPTION:Wilde Lake Community Association (WLCA) offices and Slayton House will be closed Thursday\, Nov. 28 – Friday\, Nov. 29 for the Thanksgiving holiday. We will reopen on Monday\, Dec. 2 at 9AM. Have a safe and happy holiday!
URL:https://www.wildelake.org/single-cal-event/wlca-offices-slayton-house-closed-for-thanksgiving-holiday/
LOCATION:Slayton House\, 10400 Cross Fox Lane\, Columbia\, MD\, 21044
CATEGORIES:Closings
END:VEVENT
BEGIN:VEVENT
DTSTART;TZID=America/New_York:20241126T190000
DTEND;TZID=America/New_York:20241126T200000
DTSTAMP:20260422T184455
CREATED:20240924T182253Z
LAST-MODIFIED:20240924T182253Z
UID:7481-1732647600-1732651200@www.wildelake.org
SUMMARY:RAC Meeting\, November 26
DESCRIPTION:Applications for the RAC meeting on Tuesday\, November 26 are due by 4:30PM on Tuesday\, November 19. The Application for Exterior Alteration form and additional information about the application process can be found at https://wildelake.org/covenants. \nRAC meetings are open to the public. Up to date agendas can always be found on our website: RAC Agenda. \nFor Zoom information or to offer input on any pending application\, please email Lexi Levy Milani\, covenant advisor\, at covenants@wildelake.org. Thank you!
URL:https://www.wildelake.org/single-cal-event/rac-meeting-november-26/
LOCATION:Zoom
CATEGORIES:Meetings
END:VEVENT
BEGIN:VEVENT
DTSTART;TZID=America/New_York:20241122T180000
DTEND;TZID=America/New_York:20241122T210000
DTSTAMP:20260422T184455
CREATED:20241104T180055Z
LAST-MODIFIED:20241104T180055Z
UID:7624-1732298400-1732309200@www.wildelake.org
SUMMARY:Cleaveland Smith + SDS Compass Present: A Family Fun Night
DESCRIPTION:
URL:https://www.wildelake.org/single-cal-event/cleaveland-smith-sds-compass-present-a-family-fun-night/
LOCATION:Slayton House\, 10400 Cross Fox Lane\, Columbia\, MD\, 21044
CATEGORIES:Events
END:VEVENT
BEGIN:VEVENT
DTSTART;TZID=America/New_York:20241121T110000
DTEND;TZID=America/New_York:20241121T163000
DTSTAMP:20260422T184455
CREATED:20241120T173347Z
LAST-MODIFIED:20241120T174949Z
UID:7680-1732186800-1732206600@www.wildelake.org
SUMMARY:WLCA Offices + Slayton House Opening at 11AM
DESCRIPTION:Please note that WLCA offices + Slayton House will be opening at 11AM on Thursday\, Nov. 21 in order to allow our team to attend the grand opening of Wilde Lake’s new Grocery Outlet. Join us at 5410 Lynx Lane at 10AM if your schedule permits! See below for more information about this exciting event.
URL:https://www.wildelake.org/single-cal-event/wlca-offices-slayton-house-opening-at-11am/
LOCATION:Slayton House\, 10400 Cross Fox Lane\, Columbia\, MD\, 21044
CATEGORIES:Closings
END:VEVENT
BEGIN:VEVENT
DTSTART;TZID=America/New_York:20241116T170000
DTEND;TZID=America/New_York:20241116T183000
DTSTAMP:20260422T184455
CREATED:20241111T213807Z
LAST-MODIFIED:20241111T213818Z
UID:7631-1731776400-1731781800@www.wildelake.org
SUMMARY:Maryland Dance Project Presents: The Tour I
DESCRIPTION:Join MDDP’s talented adult dancers as they take you on an unforgettable journey through the U.S. in The Tour I. Experience a captivating showcase of diverse dance styles\, each inspired by the vibrant culture and iconic landmarks of America. \nThe Tour I will be performed at Slayton House Theater on November 16th\, with shows at 5 PM and 7 PM. Don’t miss your chance to be part of this thrilling dance adventure—reserve your seats today! Tickets are $35 each and available on MDDP’s website: https://www.marylanddanceproject.com/the-tour-tickets.
URL:https://www.wildelake.org/single-cal-event/maryland-dance-project-presents-the-tour-i/
LOCATION:Slayton House\, 10400 Cross Fox Lane\, Columbia\, MD\, 21044
CATEGORIES:Theatrical Productions
END:VEVENT
BEGIN:VEVENT
DTSTART;TZID=America/New_York:20241114T190000
DTEND;TZID=America/New_York:20241114T200000
DTSTAMP:20260422T184455
CREATED:20241101T135417Z
LAST-MODIFIED:20241101T135417Z
UID:7619-1731610800-1731614400@www.wildelake.org
SUMMARY:Wilde Lake CARES Presents: All About Recycling in Howard County\, Nov. 14
DESCRIPTION:Join Wilde Lake CARES and other Wilde Lake Village residents on Thursday\, Nov. 14 at 7PM at Slayton House to get your recycling questions answered! Enjoy a presentation from Kim Reichart\, Howard County Environmental Services\, along with a Q&A. Bring samples of items you have questions about. This presentation will be both informative and entertaining. \n \nNo RSVP required; to keep up with Wilde Lake CARES’s events and activities\, follow them on Facebook.
URL:https://www.wildelake.org/single-cal-event/wilde-lake-cares-presents-all-about-recycling-in-howard-county-nov-14/
LOCATION:Slayton House\, 10400 Cross Fox Lane\, Columbia\, MD\, 21044
CATEGORIES:Events
END:VEVENT
BEGIN:VEVENT
DTSTART;TZID=America/New_York:20241112T190000
DTEND;TZID=America/New_York:20241112T200000
DTSTAMP:20260422T184455
CREATED:20240924T182148Z
LAST-MODIFIED:20240924T182148Z
UID:7479-1731438000-1731441600@www.wildelake.org
SUMMARY:RAC Meeting\, November 12
DESCRIPTION:Applications for the RAC meeting on Tuesday\, November 12 are due by 4:30PM on Wednesday\, November 6. The Application for Exterior Alteration form and additional information about the application process can be found at https://wildelake.org/covenants. \nRAC meetings are open to the public. Up to date agendas can always be found on our website: RAC Agenda. \nFor Zoom information or to offer input on any pending application\, please email Lexi Levy Milani\, covenant advisor\, at covenants@wildelake.org. Thank you!
URL:https://www.wildelake.org/single-cal-event/rac-meeting-november-12/
LOCATION:Zoom
CATEGORIES:Meetings
END:VEVENT
BEGIN:VEVENT
DTSTART;TZID=America/New_York:20241109T160000
DTEND;TZID=America/New_York:20241109T180000
DTSTAMP:20260422T184455
CREATED:20241028T172855Z
LAST-MODIFIED:20241028T172855Z
UID:7600-1731168000-1731175200@www.wildelake.org
SUMMARY:Heart of Maryland Presents: Back to Barbershop
DESCRIPTION:Join the Heart of Maryland Chorus for its annual performance at Slayton House! Tickets to the show and to the “Afterglow” reception are available at Heart of Maryland’s website.
URL:https://www.wildelake.org/single-cal-event/heart-of-maryland-presents-back-to-barbershop/
LOCATION:Slayton House\, 10400 Cross Fox Lane\, Columbia\, MD\, 21044
CATEGORIES:Theatrical Productions
END:VEVENT
BEGIN:VEVENT
DTSTART;TZID=America/New_York:20241104T183000
DTEND;TZID=America/New_York:20241104T203000
DTSTAMP:20260422T184455
CREATED:20240518T011913Z
LAST-MODIFIED:20240518T011913Z
UID:7008-1730745000-1730752200@www.wildelake.org
SUMMARY:Wilde Lake Village Board Meeting\, November 4\, 2024
DESCRIPTION:
URL:https://www.wildelake.org/single-cal-event/wilde-lake-village-board-meeting-november-4-2024/
CATEGORIES:Meetings
END:VEVENT
BEGIN:VEVENT
DTSTART;TZID=America/New_York:20241103T090000
DTEND;TZID=America/New_York:20241103T110000
DTSTAMP:20260422T184455
CREATED:20241030T200135Z
LAST-MODIFIED:20241030T200323Z
UID:7609-1730624400-1730631600@www.wildelake.org
SUMMARY:Faulkner Ridge Adopt-a-Spot Spruce Up\, Nov. 3
DESCRIPTION:Join Wilde Lake CARES at its newest Adopt-a-Spot on Faulkner Ridge Circle. We will plant several trees and lots of small plants to get this newest Adopt-a-Spot a big fall spruce up! Meet at 10738 Faulkner Ridge Circle; gloves and gardening tools provided. We need lots of volunteers so please consider helping out! \nRSVPs are not required\, but follow CARES on Facebook for updates and announcements: https://www.facebook.com/WildeLakeCARES.
URL:https://www.wildelake.org/single-cal-event/faulkner-ridge-adopt-a-spot-spruce-up-nov-3/
LOCATION:Faulkner Ridge Circle Adopt-a-Spot\, 10738 Faulkner Ridge Circle\, Columbia\, MD\, 21044\, United States
CATEGORIES:Events
END:VEVENT
BEGIN:VEVENT
DTSTART;TZID=America/New_York:20241026T090000
DTEND;TZID=America/New_York:20241026T110000
DTSTAMP:20260422T184455
CREATED:20240903T185456Z
LAST-MODIFIED:20240903T185456Z
UID:7396-1729933200-1729940400@www.wildelake.org
SUMMARY:Snowy Reach Adopt-a-Spot Cleanup with Wilde Lake CARES\, Oct. 26
DESCRIPTION:It’s fall Adopt-a-Spot cleanup time! \nJoin the Wilde Lake CARES team for some fall maintenance at its Snowy Reach Adopt-a-Spot in Running Brook. Meet at the Open Space parcel at the bottom of Snowy Reach on Saturday\, Oct. 26 at 9AM. Please dress appropriately for pulling weeds and working outdoors. This is a family friendly event so bring the whole gang! No registration required. \nWant to share on Facebook? Visit the Facebook event for this activity.
URL:https://www.wildelake.org/single-cal-event/snowy-reach-adopt-a-spot-cleanup-with-wilde-lake-cares-oct-26/
LOCATION:Snowy Reach Adopt-a-Spot\, 4951 Snowy Reach\, Columbia\, MD\, 21044\, United States
CATEGORIES:Events
END:VEVENT
BEGIN:VEVENT
DTSTART;TZID=America/New_York:20241022T190000
DTEND;TZID=America/New_York:20241022T200000
DTSTAMP:20260422T184455
CREATED:20240924T182024Z
LAST-MODIFIED:20240924T182024Z
UID:7477-1729623600-1729627200@www.wildelake.org
SUMMARY:RAC Meeting\, October 22
DESCRIPTION:Applications for the RAC meeting on Tuesday\, October 22 are due by 4:30PM on Tuesday\, October 15. The Application for Exterior Alteration form and additional information about the application process can be found at https://wildelake.org/covenants. \nRAC meetings are open to the public. Up to date agendas can always be found on our website: RAC Agenda. \nFor Zoom information or to offer input on any pending application\, please email Lexi Levy Milani\, covenant advisor\, at covenants@wildelake.org. Thank you!
URL:https://www.wildelake.org/single-cal-event/rac-meeting-october-22/
LOCATION:Zoom
CATEGORIES:Meetings
END:VEVENT
BEGIN:VEVENT
DTSTART;TZID=America/New_York:20241021T183000
DTEND;TZID=America/New_York:20241021T203000
DTSTAMP:20260422T184455
CREATED:20240518T011826Z
LAST-MODIFIED:20240518T011826Z
UID:7006-1729535400-1729542600@www.wildelake.org
SUMMARY:Wilde Lake Village Board Meeting\, October 21\, 2024*
DESCRIPTION:*as needed for work sessions\, special meetings\, etc.
URL:https://www.wildelake.org/single-cal-event/wilde-lake-village-board-meeting-october-21-2024/
CATEGORIES:Meetings
END:VEVENT
BEGIN:VEVENT
DTSTART;TZID=America/New_York:20241020T160000
DTEND;TZID=America/New_York:20241020T170000
DTSTAMP:20260422T184455
CREATED:20240920T161057Z
LAST-MODIFIED:20240924T181344Z
UID:7466-1729440000-1729443600@www.wildelake.org
SUMMARY:Wilde Lake Walktober\, Oct. 20
DESCRIPTION:Join the Wilde Lake Neighborhood Reps for a friendly walk around Wilde Lake or a “share a bench” chat on Sunday\, Oct. 20 at 4PM at Wilde Lake Park!
URL:https://www.wildelake.org/single-cal-event/wilde-lake-walktober-oct-20/
LOCATION:Wilde Lake Park\, 10002 Hyla Brook Rd.
CATEGORIES:Events
END:VEVENT
BEGIN:VEVENT
DTSTART;TZID=America/New_York:20241020T120000
DTEND;TZID=America/New_York:20241020T160000
DTSTAMP:20260422T184455
CREATED:20240801T202425Z
LAST-MODIFIED:20241017T174727Z
UID:7285-1729425600-1729440000@www.wildelake.org
SUMMARY:Wilde Lake Fall Festival
DESCRIPTION:Join us for a fantastic day of fun at the Wilde Lake Fall Festival! Celebrate the season with the community on Sunday\, October 20\, 2024\, from 12:00 PM – 4:00 PM at Wilde Lake Park. There’s something for everyone: live music\, local vendors\, delicious food\, trick-or-treating\, and family-friendly activities. Kids will love the moonbounces\, scarecrow spoon craft\, and exciting games! It’s the perfect way to kick off the fall season. Don’t miss out—be part of the #VibrantWildeLake fun! RSVP HERE!Questions? Contact Karly Maroney at events@wildelake.org. \n 
URL:https://www.wildelake.org/single-cal-event/wilde-lake-fall-festival-oct-20/
LOCATION:Wilde Lake Park\, 10002 Hyla Brook Rd.
CATEGORIES:Events
END:VEVENT
BEGIN:VEVENT
DTSTART;TZID=America/New_York:20241020T090000
DTEND;TZID=America/New_York:20241020T110000
DTSTAMP:20260422T184455
CREATED:20240903T184953Z
LAST-MODIFIED:20240903T185531Z
UID:7392-1729414800-1729422000@www.wildelake.org
SUMMARY:Bryant Woods Adopt-a-Spot Cleanup with Wilde Lake CARES\, Oct. 20
DESCRIPTION:It’s fall Adopt-a-Spot cleanup time! \nJoin the Wilde Lake CARES team for some fall maintenance at its newest Adopt-a-Spot in Bryant Woods. Meet in the 10290 block of Wilde Lake Terrace on Sunday\, Oct. 20 at 9AM. Please dress appropriately for pulling weeds and working outdoors. This is a family friendly event so bring the whole gang! No registration required. \nWant to share on Facebook? Visit the Facebook event for this activity.
URL:https://www.wildelake.org/single-cal-event/bryant-woods-adopt-a-spot-cleanup-with-wilde-lake-cares-oct-20/
LOCATION:Wilde Lake Terrace Adopt-a-Spot\, Wilde Lake Terrace\, Columbia\, MD\, 21044\, United States
CATEGORIES:Events
END:VEVENT
BEGIN:VEVENT
DTSTART;VALUE=DATE:20241018
DTEND;VALUE=DATE:20241104
DTSTAMP:20260422T184455
CREATED:20240912T202613Z
LAST-MODIFIED:20241007T205457Z
UID:7448-1729209600-1730678399@www.wildelake.org
SUMMARY:Silhouette Stages Presents: Evita\, Opening Night Oct. 18!
DESCRIPTION:Join Silhouette Stages for its production of Evita\, set to open at Slayton House on Friday\, Oct. 18 at 8PM! \nAbout the show: Evita charts the young and ambitious Eva Peron’s meteoric rise to sainthood. Set in Argentina between 1934-1952\, the Tony-winning musical follows Eva Duarte on her journey from poor illegitimate child to ambitious actress to\, as wife of military leader-turned-president Juan Peron\, the most powerful woman in Latin America\, before her death from cancer at age 33. The events in Evita’s life are presented in song and commented on by the show’s narrator\, Che. Well-known numbers from Tim Rice and Andrew Lloyd Webber’s musical masterpiece include “Don’t Cry for Me Argentina\,” “Oh What a Circus\,” “Buenos Aires” and “Another Suitcase in Another Hall.” \nThis production runs weekends through Nov. 3\, 2024. For more information and to buy tickets\, visit Silhouette Stages’ online box office. \n 
URL:https://www.wildelake.org/single-cal-event/silhouette-stages-presents-evita-opening-night-oct-18/
LOCATION:Slayton House\, 10400 Cross Fox Lane\, Columbia\, MD\, 21044
CATEGORIES:Theatrical Productions
END:VEVENT
BEGIN:VEVENT
DTSTART;TZID=America/New_York:20241013T140000
DTEND;TZID=America/New_York:20241013T170000
DTSTAMP:20260422T184455
CREATED:20240927T170637Z
LAST-MODIFIED:20241002T151557Z
UID:7502-1728828000-1728838800@www.wildelake.org
SUMMARY:"Visual Meditations" Art Reception & Gallery Talk by Renee Sandell
DESCRIPTION:RSVP HERE! \nJoin us for an inspiring afternoon at the “Visual Meditations” Art Reception featuring the work of acclaimed artist Renee Sandell. This event offers a unique opportunity to explore the themes of tranquility and introspection captured in Renee’s artwork. \nDuring the reception\, attendees will have the chance to engage with the artist through an insightful gallery talk where she will discuss her creative process\, the inspiration behind her pieces\, and the significance of art as a medium for meditation and reflection. \nEnjoy light refreshments while mingling with fellow art enthusiasts and immersing yourself in a serene artistic environment. \n 
URL:https://www.wildelake.org/single-cal-event/visual-meditations-art-reception-gallery-talk-by-renee-sandell/
LOCATION:Bernice Kish Gallery at Slayton House\, 10400 Cross Fox Lane\, Columbia\, MD\, 21044
CATEGORIES:Events,Exhibits
END:VEVENT
BEGIN:VEVENT
DTSTART;TZID=America/New_York:20241013T090000
DTEND;TZID=America/New_York:20241013T110000
DTSTAMP:20260422T184455
CREATED:20240903T184313Z
LAST-MODIFIED:20240903T185606Z
UID:7388-1728810000-1728817200@www.wildelake.org
SUMMARY:Rouse Rock Adopt-a-Spot Cleanup with Wilde Lake CARES\, Oct. 13
DESCRIPTION:It’s fall Adopt-a-Spot cleanup time! \nJoin the Wilde Lake CARES team for some fall maintenance at its signature Adopt-a-Spot in Wilde Lake Park near the boat dock. Meet in the main parking lot off Hyla Brook Road on Sunday\, Oct. 13 at 9AM. Please dress appropriately for pulling weeds and working outdoors. This is a family friendly event so bring the whole gang! No registration required. \nWant to share on Facebook? Visit the Facebook event for this activity.
URL:https://www.wildelake.org/single-cal-event/rouse-rock-adopt-a-spot-cleanup-with-wilde-lake-cares-oct-13/
LOCATION:Wilde Lake Park Adopt-a-Spot\, 10027 Hyla Brook Road\, Columbia\, MD\, 21044\, United States
CATEGORIES:Events
END:VEVENT
BEGIN:VEVENT
DTSTART;TZID=America/New_York:20241008T190000
DTEND;TZID=America/New_York:20241008T200000
DTSTAMP:20260422T184455
CREATED:20240924T181913Z
LAST-MODIFIED:20241002T145907Z
UID:7475-1728414000-1728417600@www.wildelake.org
SUMMARY:CANCELED: RAC Meeting\, October 8
DESCRIPTION:This meeting has been canceled for lack of applications. Applications for the RAC meeting on Tuesday\, October 22 are due by 4:30PM on Tuesday\, October 15. Thank you! \nApplications for the RAC meeting on Tuesday\, October 8 are due by 4:30PM on Tuesday\, October 1. The Application for Exterior Alteration form and additional information about the application process can be found at https://wildelake.org/covenants. \nRAC meetings are open to the public. Up to date agendas can always be found on our website: RAC Agenda. \nFor Zoom information or to offer input on any pending application\, please email Lexi Levy Milani\, covenant advisor\, at covenants@wildelake.org. Thank you!
URL:https://www.wildelake.org/single-cal-event/rac-meeting-october-8/
LOCATION:Zoom
CATEGORIES:Meetings
END:VEVENT
BEGIN:VEVENT
DTSTART;TZID=America/New_York:20241007T183000
DTEND;TZID=America/New_York:20241007T203000
DTSTAMP:20260422T184455
CREATED:20240518T011656Z
LAST-MODIFIED:20240518T011656Z
UID:7004-1728325800-1728333000@www.wildelake.org
SUMMARY:Wilde Lake Village Board Meeting\, October 7\, 2024
DESCRIPTION:
URL:https://www.wildelake.org/single-cal-event/wilde-lake-village-board-meeting-october-7-2024/
CATEGORIES:Meetings
END:VEVENT
BEGIN:VEVENT
DTSTART;TZID=America/New_York:20241005T090000
DTEND;TZID=America/New_York:20241005T120000
DTSTAMP:20260422T184455
CREATED:20240930T154250Z
LAST-MODIFIED:20240930T154350Z
UID:7511-1728118800-1728129600@www.wildelake.org
SUMMARY:Combined Village Shredding Event
DESCRIPTION:The Combined Village Shredding Event will take place on Saturday\, October 5\, 2024\, from 9 AM to 12 PM at the Faulkner Ridge Neighborhood Center (10518 Marble Faun Ln\, Columbia\, MD 21044). This event is for residents of Wilde Lake\, Harper’s Choice\, Town Center\, and Dorsey’s Search only. Please bring proof of residency. \nParticipants can bring paper documents to be shredded\, and staples are permitted. However\, binder clips\, notebooks\, and microfilm will not be accepted. For more information\, contact events@wildelake.org or call 410-730-3987. \nDon’t miss this opportunity to safely dispose of sensitive documents!
URL:https://www.wildelake.org/single-cal-event/combined-village-shredding-event/
LOCATION:Faulkner Ridge Neighborhood Center\, 10598 Marble Faun Court\, Columbia\, MD\, 21044\, United States
CATEGORIES:Events
END:VEVENT
BEGIN:VEVENT
DTSTART;TZID=America/New_York:20240924T190000
DTEND;TZID=America/New_York:20240924T200000
DTSTAMP:20260422T184455
CREATED:20240729T161925Z
LAST-MODIFIED:20240924T210247Z
UID:7276-1727204400-1727208000@www.wildelake.org
SUMMARY:CANCELED: RAC Meeting\, September 24
DESCRIPTION:The RAC meeting for Tuesday\, September 24 has been canceled. Applicants will receive final paperwork no later than Monday\, September 30. \nApplications for the RAC meeting on Tuesday\, September 24 are due by 4:30PM on Tuesday\, September 17. The Application for Exterior Alteration form and additional information about the application process can be found at https://wildelake.org/covenants. \nRAC meetings are open to the public. Up to date agendas can always be found on our website: RAC Agenda. \nFor Zoom information or to offer input on any pending application\, please email Lexi Levy Milani\, covenant advisor\, at covenants@wildelake.org. Thank you!
URL:https://www.wildelake.org/single-cal-event/rac-meeting-september-24/
LOCATION:Slayton House\, 10400 Cross Fox Lane\, Columbia\, MD\, 21044
CATEGORIES:Meetings
END:VEVENT
BEGIN:VEVENT
DTSTART;TZID=America/New_York:20240923T183000
DTEND;TZID=America/New_York:20240923T203000
DTSTAMP:20260422T184455
CREATED:20240518T012230Z
LAST-MODIFIED:20240518T014656Z
UID:7012-1727116200-1727123400@www.wildelake.org
SUMMARY:Wilde Lake Village Board Meeting\, September 23\, 2024*
DESCRIPTION:*as needed for work sessions\, special meetings\, etc.
URL:https://www.wildelake.org/single-cal-event/wilde-lake-village-board-meeting-september-23-2024-2/
CATEGORIES:Meetings
END:VEVENT
BEGIN:VEVENT
DTSTART;TZID=America/New_York:20240922T080000
DTEND;TZID=America/New_York:20240922T093000
DTSTAMP:20260422T184455
CREATED:20240903T183453Z
LAST-MODIFIED:20240903T183743Z
UID:7381-1726992000-1726997400@www.wildelake.org
SUMMARY:Wilde Lake CARES Fall Bird Walk with Kurt Schwarz\, Sept. 22
DESCRIPTION:Join Wilde Lake CARES for its fall bird walk on Sunday\, September 22 at Wilde Lake Park\, starting at 8AM!\n \nCARES’s guest birder for this walk is Kurt Schwarz\, member and former chair of the Maryland Ornithological Society. Participants will meet by the Wilde Lake dock and walk around the lake to seek migrating warblers and other songbirds as well as ducks.\n \nThere is no cost to attend\, but attendance is limited so advance registration is appreciated. For additional details and to register\, visit the Google Form for this event: CARES Fall Bird Walk Registration Form.\n \n \n 
URL:https://www.wildelake.org/single-cal-event/wilde-lake-cares-fall-bird-walk-with-kurt-schwarz-sept-22/
LOCATION:Wilde Lake Park\, 10002 Hyla Brook Rd.
CATEGORIES:Events
END:VEVENT
BEGIN:VEVENT
DTSTART;TZID=America/New_York:20240917T180000
DTEND;TZID=America/New_York:20240917T200000
DTSTAMP:20260422T184455
CREATED:20240911T184837Z
LAST-MODIFIED:20240911T192903Z
UID:7431-1726596000-1726603200@www.wildelake.org
SUMMARY:Howard County NAACP Presents: 13th Viewing and Discussion\, Sept. 17
DESCRIPTION:Join the Howard County Branch of the NAACP for a screening and discussion of Ava DuVernay’s thought-provoking documentary\, 13th\, on Tuesday\, Sept. 17 at 6PM at Slayton House (10400 Cross Fox Lane). This in-person event offers a unique opportunity to watch the film together and engage in a lively discussion afterward. Don’t miss out on this chance to connect with like-minded individuals and explore the impact of storytelling on our society. Reserve your spot now! \n \n 
URL:https://www.wildelake.org/single-cal-event/howard-county-naacp-presents-the-13th-viewing-and-discussion/
LOCATION:Slayton House\, 10400 Cross Fox Lane\, Columbia\, MD\, 21044
CATEGORIES:Events
END:VEVENT
BEGIN:VEVENT
DTSTART;TZID=America/New_York:20240915T150000
DTEND;TZID=America/New_York:20240915T170000
DTSTAMP:20260422T184455
CREATED:20240904T173823Z
LAST-MODIFIED:20240911T152056Z
UID:7405-1726412400-1726419600@www.wildelake.org
SUMMARY:Art Gallery Reception\, "Always Revealing Truth"
DESCRIPTION:  \nJoin us on Sunday\, September 15\, 2024 from 3pm-5pm for a captivating art reception filled with music that was created for the artwork\, refreshments\, and community. Immerse yourself in the beauty of diverse creations\, created by artists Ralph Massella\, Judith Weber\, Julie and Gabriella Pistorio. Registration is required\, click here.
URL:https://www.wildelake.org/single-cal-event/art-gallery-always-revealing-truth/
LOCATION:Bernice Kish Gallery at Slayton House\, 10400 Cross Fox Lane\, Columbia\, MD\, 21044
CATEGORIES:Exhibits
END:VEVENT
BEGIN:VEVENT
DTSTART;TZID=America/New_York:20240910T190000
DTEND;TZID=America/New_York:20240910T200000
DTSTAMP:20260422T184455
CREATED:20240729T161825Z
LAST-MODIFIED:20240729T161825Z
UID:7274-1725994800-1725998400@www.wildelake.org
SUMMARY:RAC Meeting\, September 10
DESCRIPTION:Applications for the RAC meeting on Tuesday\, September 10 are due by 4:30PM on Tuesday\, September 3. The Application for Exterior Alteration form and additional information about the application process can be found at https://wildelake.org/covenants. \nRAC meetings are open to the public. Up to date agendas can always be found on our website: RAC Agenda. \nFor Zoom information or to offer input on any pending application\, please email Lexi Levy Milani\, covenant advisor\, at covenants@wildelake.org. Thank you!
URL:https://www.wildelake.org/single-cal-event/rac-meeting-september-10/
LOCATION:Slayton House\, 10400 Cross Fox Lane\, Columbia\, MD\, 21044
CATEGORIES:Meetings
END:VEVENT
END:VCALENDAR