BEGIN:VCALENDAR
VERSION:2.0
PRODID:-//Wilde Lake Community Association - ECPv6.15.3//NONSGML v1.0//EN
CALSCALE:GREGORIAN
METHOD:PUBLISH
X-WR-CALNAME:Wilde Lake Community Association
X-ORIGINAL-URL:https://www.wildelake.org
X-WR-CALDESC:Events for Wilde Lake Community Association
REFRESH-INTERVAL;VALUE=DURATION:PT1H
X-Robots-Tag:noindex
X-PUBLISHED-TTL:PT1H
BEGIN:VTIMEZONE
TZID:America/New_York
BEGIN:DAYLIGHT
TZOFFSETFROM:-0500
TZOFFSETTO:-0400
TZNAME:EDT
DTSTART:20240310T070000
END:DAYLIGHT
BEGIN:STANDARD
TZOFFSETFROM:-0400
TZOFFSETTO:-0500
TZNAME:EST
DTSTART:20241103T060000
END:STANDARD
BEGIN:DAYLIGHT
TZOFFSETFROM:-0500
TZOFFSETTO:-0400
TZNAME:EDT
DTSTART:20250309T070000
END:DAYLIGHT
BEGIN:STANDARD
TZOFFSETFROM:-0400
TZOFFSETTO:-0500
TZNAME:EST
DTSTART:20251102T060000
END:STANDARD
END:VTIMEZONE
BEGIN:VEVENT
DTSTART;TZID=America/New_York:20250519T183000
DTEND;TZID=America/New_York:20250519T203000
DTSTAMP:20260421T160932
CREATED:20250509T001002Z
LAST-MODIFIED:20250509T001002Z
UID:8247-1747679400-1747686600@www.wildelake.org
SUMMARY:Wilde Lake Village Board Orientation
DESCRIPTION:
URL:https://www.wildelake.org/single-cal-event/wilde-lake-village-board-orientation/
CATEGORIES:Meetings
END:VEVENT
BEGIN:VEVENT
DTSTART;TZID=America/New_York:20250513T190000
DTEND;TZID=America/New_York:20250513T200000
DTSTAMP:20260421T160932
CREATED:20250408T170019Z
LAST-MODIFIED:20250408T170019Z
UID:8154-1747162800-1747166400@www.wildelake.org
SUMMARY:RAC Meeting\, May 13
DESCRIPTION:Applications for the Resident Architectural Committee (RAC) meeting on Tuesday\, May 13 are due by 4:30PM on Tuesday\, May 6. The Application for Exterior Alteration form and additional information about the application process can be found at https://wildelake.org/covenants. \nRAC meetings are currently held virtually and are open to the public. Up to date agendas can always be found on our website: RAC Agenda. \nFor Zoom information or to offer input on any pending application\, please email Lexi Levy Milani\, covenant advisor\, at covenants@wildelake.org. Input must be received by 4:30PM the day prior to the meeting. Thank you!
URL:https://www.wildelake.org/single-cal-event/rac-meeting-may-13/
LOCATION:Zoom
CATEGORIES:Meetings
END:VEVENT
BEGIN:VEVENT
DTSTART;TZID=America/New_York:20250430T183000
DTEND;TZID=America/New_York:20250430T193000
DTSTAMP:20260421T160932
CREATED:20250424T232231Z
LAST-MODIFIED:20250424T232231Z
UID:8214-1746037800-1746041400@www.wildelake.org
SUMMARY:Village Board Meeting (Virtual)
DESCRIPTION:
URL:https://www.wildelake.org/single-cal-event/village-board-meeting-virtual/
CATEGORIES:Meetings
END:VEVENT
BEGIN:VEVENT
DTSTART;TZID=America/New_York:20250422T190000
DTEND;TZID=America/New_York:20250422T200000
DTSTAMP:20260421T160932
CREATED:20250408T165849Z
LAST-MODIFIED:20250408T165849Z
UID:8152-1745348400-1745352000@www.wildelake.org
SUMMARY:RAC Meeting\, April 22
DESCRIPTION:Applications for the Resident Architectural Committee (RAC) meeting on Tuesday\, April 22 are due by 4:30PM on Tuesday\, April 15. The Application for Exterior Alteration form and additional information about the application process can be found at https://wildelake.org/covenants. \nRAC meetings are currently held virtually and are open to the public. Up to date agendas can always be found on our website: RAC Agenda. \nFor Zoom information or to offer input on any pending application\, please email Lexi Levy Milani\, covenant advisor\, at covenants@wildelake.org. Input must be received by 4:30PM the day prior to the meeting. Thank you!
URL:https://www.wildelake.org/single-cal-event/rac-meeting-april-22/
LOCATION:Zoom
CATEGORIES:Meetings
END:VEVENT
BEGIN:VEVENT
DTSTART;TZID=America/New_York:20250414T183000
DTEND;TZID=America/New_York:20250414T210000
DTSTAMP:20260421T160932
CREATED:20240518T015142Z
LAST-MODIFIED:20241119T011236Z
UID:7042-1744655400-1744664400@www.wildelake.org
SUMMARY:Wilde Lake Village Board Meeting\, April 14\, 2025
DESCRIPTION:
URL:https://www.wildelake.org/single-cal-event/wilde-lake-village-board-meeting-april-14-2025/
LOCATION:Slayton House\, 10400 Cross Fox Lane\, Columbia\, MD\, 21044
CATEGORIES:Meetings
END:VEVENT
BEGIN:VEVENT
DTSTART;TZID=America/New_York:20250408T190000
DTEND;TZID=America/New_York:20250408T200000
DTSTAMP:20260421T160932
CREATED:20250408T165652Z
LAST-MODIFIED:20250408T165652Z
UID:8150-1744138800-1744142400@www.wildelake.org
SUMMARY:RAC Meeting\, April 8
DESCRIPTION:Applications for the Resident Architectural Committee (RAC) meeting on Tuesday\, April 8 are due by 4:30PM on Tuesday\, April 1. The Application for Exterior Alteration form and additional information about the application process can be found at https://wildelake.org/covenants. \nRAC meetings are currently held virtually and are open to the public. Up to date agendas can always be found on our website: RAC Agenda. \nFor Zoom information or to offer input on any pending application\, please email Lexi Levy Milani\, covenant advisor\, at covenants@wildelake.org. Input must be received by 4:30PM the day prior to the meeting. Thank you!
URL:https://www.wildelake.org/single-cal-event/rac-meeting-april-8/
LOCATION:Zoom
CATEGORIES:Meetings
END:VEVENT
BEGIN:VEVENT
DTSTART;TZID=America/New_York:20250407T183000
DTEND;TZID=America/New_York:20250407T203000
DTSTAMP:20260421T160932
CREATED:20240518T015055Z
LAST-MODIFIED:20241119T011207Z
UID:7040-1744050600-1744057800@www.wildelake.org
SUMMARY:Wilde Lake Village Board Meeting\, April 7\, 2025
DESCRIPTION:
URL:https://www.wildelake.org/single-cal-event/wilde-lake-village-board-meeting-april-7-2025/
LOCATION:Slayton House\, 10400 Cross Fox Lane\, Columbia\, MD\, 21044
CATEGORIES:Meetings
END:VEVENT
BEGIN:VEVENT
DTSTART;TZID=America/New_York:20250325T190000
DTEND;TZID=America/New_York:20250325T200000
DTSTAMP:20260421T160932
CREATED:20241120T171935Z
LAST-MODIFIED:20241120T172034Z
UID:7678-1742929200-1742932800@www.wildelake.org
SUMMARY:RAC Meeting\, March 25
DESCRIPTION:Applications for the RAC meeting on Tuesday\, March 25 are due by 4:30PM on Tuesday\, March 18. The Application for Exterior Alteration form and additional information about the application process can be found at https://wildelake.org/covenants. \nRAC meetings are currently held virtually and are open to the public. Up to date agendas can always be found on our website: RAC Agenda. \nFor Zoom information or to offer input on any pending application\, please email Lexi Levy Milani\, covenant advisor\, at covenants@wildelake.org. Input must be received by 4:30PM the day prior to the meeting. Thank you!
URL:https://www.wildelake.org/single-cal-event/rac-meeting-march-25/
LOCATION:Zoom
CATEGORIES:Meetings
END:VEVENT
BEGIN:VEVENT
DTSTART;TZID=America/New_York:20250317T183000
DTEND;TZID=America/New_York:20250317T203000
DTSTAMP:20260421T160932
CREATED:20240518T014133Z
LAST-MODIFIED:20241119T011138Z
UID:7030-1742236200-1742243400@www.wildelake.org
SUMMARY:Wilde Lake Village Board Meeting\, March 17\, 2025
DESCRIPTION:
URL:https://www.wildelake.org/single-cal-event/wilde-lake-village-board-meeting-march-17-2025/
LOCATION:Slayton House\, 10400 Cross Fox Lane\, Columbia\, MD\, 21044
CATEGORIES:Meetings
END:VEVENT
BEGIN:VEVENT
DTSTART;TZID=America/New_York:20250311T190000
DTEND;TZID=America/New_York:20250311T200000
DTSTAMP:20260421T160932
CREATED:20241120T171842Z
LAST-MODIFIED:20241120T171842Z
UID:7676-1741719600-1741723200@www.wildelake.org
SUMMARY:RAC Meeting\, March 11
DESCRIPTION:Applications for the RAC meeting on Tuesday\, March 11 are due by 4:30PM on Tuesday\, March 4. The Application for Exterior Alteration form and additional information about the application process can be found at https://wildelake.org/covenants. \nRAC meetings are currently held virtually and are open to the public. Up to date agendas can always be found on our website: RAC Agenda. \nFor Zoom information or to offer input on any pending application\, please email Lexi Levy Milani\, covenant advisor\, at covenants@wildelake.org. Input must be received by 4:30PM the day prior to the meeting. Thank you!
URL:https://www.wildelake.org/single-cal-event/rac-meeting-march-11/
LOCATION:Zoom
CATEGORIES:Meetings
END:VEVENT
BEGIN:VEVENT
DTSTART;TZID=America/New_York:20250303T183000
DTEND;TZID=America/New_York:20250303T203000
DTSTAMP:20260421T160932
CREATED:20240518T014036Z
LAST-MODIFIED:20241119T011049Z
UID:7028-1741026600-1741033800@www.wildelake.org
SUMMARY:Wilde Lake Village Board Meeting\, March 3\, 2025
DESCRIPTION:
URL:https://www.wildelake.org/single-cal-event/wilde-lake-village-board-meeting-march-3-2025/
LOCATION:Slayton House\, 10400 Cross Fox Lane\, Columbia\, MD\, 21044
CATEGORIES:Meetings
END:VEVENT
BEGIN:VEVENT
DTSTART;TZID=America/New_York:20250225T190000
DTEND;TZID=America/New_York:20250225T200000
DTSTAMP:20260421T160932
CREATED:20241120T171737Z
LAST-MODIFIED:20250224T142724Z
UID:7674-1740510000-1740513600@www.wildelake.org
SUMMARY:CANCELED: RAC Meeting\, Feb. 25
DESCRIPTION:This meeting has been canceled for lack of applications requiring RAC review. Our next RAC meeting is scheduled for Tuesday\, March 11 at 7PM. Thank you! \nApplications for the RAC meeting on Tuesday\, Feb. 25 are due by 4:30PM on Tuesday\, Feb. 18. The Application for Exterior Alteration form and additional information about the application process can be found at https://wildelake.org/covenants. \nRAC meetings are currently held virtually and are open to the public. Up to date agendas can always be found on our website: RAC Agenda. \nFor Zoom information or to offer input on any pending application\, please email Lexi Levy Milani\, covenant advisor\, at covenants@wildelake.org. Input must be received by 4:30PM the day prior to the meeting. Thank you!
URL:https://www.wildelake.org/single-cal-event/rac-meeting-feb-25/
LOCATION:Zoom
CATEGORIES:Meetings
END:VEVENT
BEGIN:VEVENT
DTSTART;TZID=America/New_York:20250211T190000
DTEND;TZID=America/New_York:20250211T200000
DTSTAMP:20260421T160932
CREATED:20241120T171629Z
LAST-MODIFIED:20241120T171629Z
UID:7672-1739300400-1739304000@www.wildelake.org
SUMMARY:RAC Meeting\, Feb. 11
DESCRIPTION:Applications for the RAC meeting on Tuesday\, Feb. 11 are due by 4:30PM on Tuesday\, Feb. 4. The Application for Exterior Alteration form and additional information about the application process can be found at https://wildelake.org/covenants. \nRAC meetings are currently held virtually and are open to the public. Up to date agendas can always be found on our website: RAC Agenda. \nFor Zoom information or to offer input on any pending application\, please email Lexi Levy Milani\, covenant advisor\, at covenants@wildelake.org. Input must be received by 4:30PM the day prior to the meeting. Thank you!
URL:https://www.wildelake.org/single-cal-event/rac-meeting-feb-11/
LOCATION:Zoom
CATEGORIES:Meetings
END:VEVENT
BEGIN:VEVENT
DTSTART;TZID=America/New_York:20250203T183000
DTEND;TZID=America/New_York:20250203T203000
DTSTAMP:20260421T160932
CREATED:20240518T013752Z
LAST-MODIFIED:20241119T011024Z
UID:7024-1738607400-1738614600@www.wildelake.org
SUMMARY:Wilde Lake Village Board Meeting\, February 3\, 2025
DESCRIPTION:
URL:https://www.wildelake.org/single-cal-event/wilde-lake-village-board-meeting-february-3-2025/
LOCATION:Slayton House\, 10400 Cross Fox Lane\, Columbia\, MD\, 21044
CATEGORIES:Meetings
END:VEVENT
BEGIN:VEVENT
DTSTART;TZID=America/New_York:20250128T190000
DTEND;TZID=America/New_York:20250128T200000
DTSTAMP:20260421T160932
CREATED:20241120T171357Z
LAST-MODIFIED:20241120T171513Z
UID:7670-1738090800-1738094400@www.wildelake.org
SUMMARY:RAC Meeting\, Jan. 28
DESCRIPTION:Applications for the RAC meeting on Tuesday\, Jan. 28 are due by 4:30PM on Tuesday\, Jan. 21. The Application for Exterior Alteration form and additional information about the application process can be found at https://wildelake.org/covenants. \nRAC meetings are currently held virtually and are open to the public. Up to date agendas can always be found on our website: RAC Agenda. \nFor Zoom information or to offer input on any pending application\, please email Lexi Levy Milani\, covenant advisor\, at covenants@wildelake.org. Input must be received by 4:30PM the day prior to the meeting. Thank you!
URL:https://www.wildelake.org/single-cal-event/rac-meeting-jan-28/
LOCATION:Zoom
CATEGORIES:Meetings
END:VEVENT
BEGIN:VEVENT
DTSTART;TZID=America/New_York:20250114T190000
DTEND;TZID=America/New_York:20250114T200000
DTSTAMP:20260421T160932
CREATED:20241120T171243Z
LAST-MODIFIED:20241120T171243Z
UID:7668-1736881200-1736884800@www.wildelake.org
SUMMARY:RAC Meeting\, Jan. 14
DESCRIPTION:Applications for the RAC meeting on Tuesday\, Jan. 14 are due by 4:30PM on Tuesday\, Jan. 7. The Application for Exterior Alteration form and additional information about the application process can be found at https://wildelake.org/covenants. \nRAC meetings are currently held virtually and are open to the public. Up to date agendas can always be found on our website: RAC Agenda. \nFor Zoom information or to offer input on any pending application\, please email Lexi Levy Milani\, covenant advisor\, at covenants@wildelake.org. Input must be received by 4:30PM the day prior to the meeting. Thank you!
URL:https://www.wildelake.org/single-cal-event/rac-meeting-jan-14/
LOCATION:Zoom
CATEGORIES:Meetings
END:VEVENT
BEGIN:VEVENT
DTSTART;TZID=America/New_York:20250106T183000
DTEND;TZID=America/New_York:20250106T203000
DTSTAMP:20260421T160932
CREATED:20240518T013102Z
LAST-MODIFIED:20241119T010954Z
UID:7018-1736188200-1736195400@www.wildelake.org
SUMMARY:Wilde Lake Village Board Meeting\, January 6\, 2025
DESCRIPTION:
URL:https://www.wildelake.org/single-cal-event/wilde-lake-village-board-meeting-january-6-2024/
LOCATION:Slayton House\, 10400 Cross Fox Lane\, Columbia\, MD\, 21044
CATEGORIES:Meetings
END:VEVENT
BEGIN:VEVENT
DTSTART;TZID=America/New_York:20241210T190000
DTEND;TZID=America/New_York:20241210T200000
DTSTAMP:20260421T160932
CREATED:20240924T182533Z
LAST-MODIFIED:20240924T182732Z
UID:7483-1733857200-1733860800@www.wildelake.org
SUMMARY:RAC Meeting\, December 10
DESCRIPTION:Applications for the RAC meeting on Tuesday\, December 10 are due by 4:30PM on Tuesday\, December 3. The Application for Exterior Alteration form and additional information about the application process can be found at https://wildelake.org/covenants. Please note: this is the last RAC meeting of 2024. Applications received after December 3\, 2024 will be held for the meeting on January 7\, 2025. \nRAC meetings are open to the public. Up to date agendas can always be found on our website: RAC Agenda. \nFor Zoom information or to offer input on any pending application\, please email Lexi Levy Milani\, covenant advisor\, at covenants@wildelake.org. Thank you!
URL:https://www.wildelake.org/single-cal-event/rac-meeting-december-10/
LOCATION:Zoom
CATEGORIES:Meetings
END:VEVENT
BEGIN:VEVENT
DTSTART;TZID=America/New_York:20241202T183000
DTEND;TZID=America/New_York:20241202T203000
DTSTAMP:20260421T160932
CREATED:20240518T012431Z
LAST-MODIFIED:20241119T010853Z
UID:7014-1733164200-1733171400@www.wildelake.org
SUMMARY:Wilde Lake Village Board Meeting\, December 2\, 2024
DESCRIPTION:*as needed for work sessions\, special meetings\, etc.
URL:https://www.wildelake.org/single-cal-event/wilde-lake-village-board-meeting-december-2-2024/
LOCATION:Slayton House\, 10400 Cross Fox Lane\, Columbia\, MD\, 21044
CATEGORIES:Meetings
END:VEVENT
BEGIN:VEVENT
DTSTART;TZID=America/New_York:20241126T190000
DTEND;TZID=America/New_York:20241126T200000
DTSTAMP:20260421T160932
CREATED:20240924T182253Z
LAST-MODIFIED:20240924T182253Z
UID:7481-1732647600-1732651200@www.wildelake.org
SUMMARY:RAC Meeting\, November 26
DESCRIPTION:Applications for the RAC meeting on Tuesday\, November 26 are due by 4:30PM on Tuesday\, November 19. The Application for Exterior Alteration form and additional information about the application process can be found at https://wildelake.org/covenants. \nRAC meetings are open to the public. Up to date agendas can always be found on our website: RAC Agenda. \nFor Zoom information or to offer input on any pending application\, please email Lexi Levy Milani\, covenant advisor\, at covenants@wildelake.org. Thank you!
URL:https://www.wildelake.org/single-cal-event/rac-meeting-november-26/
LOCATION:Zoom
CATEGORIES:Meetings
END:VEVENT
BEGIN:VEVENT
DTSTART;TZID=America/New_York:20241112T190000
DTEND;TZID=America/New_York:20241112T200000
DTSTAMP:20260421T160932
CREATED:20240924T182148Z
LAST-MODIFIED:20240924T182148Z
UID:7479-1731438000-1731441600@www.wildelake.org
SUMMARY:RAC Meeting\, November 12
DESCRIPTION:Applications for the RAC meeting on Tuesday\, November 12 are due by 4:30PM on Wednesday\, November 6. The Application for Exterior Alteration form and additional information about the application process can be found at https://wildelake.org/covenants. \nRAC meetings are open to the public. Up to date agendas can always be found on our website: RAC Agenda. \nFor Zoom information or to offer input on any pending application\, please email Lexi Levy Milani\, covenant advisor\, at covenants@wildelake.org. Thank you!
URL:https://www.wildelake.org/single-cal-event/rac-meeting-november-12/
LOCATION:Zoom
CATEGORIES:Meetings
END:VEVENT
BEGIN:VEVENT
DTSTART;TZID=America/New_York:20241104T183000
DTEND;TZID=America/New_York:20241104T203000
DTSTAMP:20260421T160932
CREATED:20240518T011913Z
LAST-MODIFIED:20240518T011913Z
UID:7008-1730745000-1730752200@www.wildelake.org
SUMMARY:Wilde Lake Village Board Meeting\, November 4\, 2024
DESCRIPTION:
URL:https://www.wildelake.org/single-cal-event/wilde-lake-village-board-meeting-november-4-2024/
CATEGORIES:Meetings
END:VEVENT
BEGIN:VEVENT
DTSTART;TZID=America/New_York:20241022T190000
DTEND;TZID=America/New_York:20241022T200000
DTSTAMP:20260421T160932
CREATED:20240924T182024Z
LAST-MODIFIED:20240924T182024Z
UID:7477-1729623600-1729627200@www.wildelake.org
SUMMARY:RAC Meeting\, October 22
DESCRIPTION:Applications for the RAC meeting on Tuesday\, October 22 are due by 4:30PM on Tuesday\, October 15. The Application for Exterior Alteration form and additional information about the application process can be found at https://wildelake.org/covenants. \nRAC meetings are open to the public. Up to date agendas can always be found on our website: RAC Agenda. \nFor Zoom information or to offer input on any pending application\, please email Lexi Levy Milani\, covenant advisor\, at covenants@wildelake.org. Thank you!
URL:https://www.wildelake.org/single-cal-event/rac-meeting-october-22/
LOCATION:Zoom
CATEGORIES:Meetings
END:VEVENT
BEGIN:VEVENT
DTSTART;TZID=America/New_York:20241021T183000
DTEND;TZID=America/New_York:20241021T203000
DTSTAMP:20260421T160932
CREATED:20240518T011826Z
LAST-MODIFIED:20240518T011826Z
UID:7006-1729535400-1729542600@www.wildelake.org
SUMMARY:Wilde Lake Village Board Meeting\, October 21\, 2024*
DESCRIPTION:*as needed for work sessions\, special meetings\, etc.
URL:https://www.wildelake.org/single-cal-event/wilde-lake-village-board-meeting-october-21-2024/
CATEGORIES:Meetings
END:VEVENT
BEGIN:VEVENT
DTSTART;TZID=America/New_York:20241008T190000
DTEND;TZID=America/New_York:20241008T200000
DTSTAMP:20260421T160932
CREATED:20240924T181913Z
LAST-MODIFIED:20241002T145907Z
UID:7475-1728414000-1728417600@www.wildelake.org
SUMMARY:CANCELED: RAC Meeting\, October 8
DESCRIPTION:This meeting has been canceled for lack of applications. Applications for the RAC meeting on Tuesday\, October 22 are due by 4:30PM on Tuesday\, October 15. Thank you! \nApplications for the RAC meeting on Tuesday\, October 8 are due by 4:30PM on Tuesday\, October 1. The Application for Exterior Alteration form and additional information about the application process can be found at https://wildelake.org/covenants. \nRAC meetings are open to the public. Up to date agendas can always be found on our website: RAC Agenda. \nFor Zoom information or to offer input on any pending application\, please email Lexi Levy Milani\, covenant advisor\, at covenants@wildelake.org. Thank you!
URL:https://www.wildelake.org/single-cal-event/rac-meeting-october-8/
LOCATION:Zoom
CATEGORIES:Meetings
END:VEVENT
BEGIN:VEVENT
DTSTART;TZID=America/New_York:20241007T183000
DTEND;TZID=America/New_York:20241007T203000
DTSTAMP:20260421T160932
CREATED:20240518T011656Z
LAST-MODIFIED:20240518T011656Z
UID:7004-1728325800-1728333000@www.wildelake.org
SUMMARY:Wilde Lake Village Board Meeting\, October 7\, 2024
DESCRIPTION:
URL:https://www.wildelake.org/single-cal-event/wilde-lake-village-board-meeting-october-7-2024/
CATEGORIES:Meetings
END:VEVENT
BEGIN:VEVENT
DTSTART;TZID=America/New_York:20240924T190000
DTEND;TZID=America/New_York:20240924T200000
DTSTAMP:20260421T160932
CREATED:20240729T161925Z
LAST-MODIFIED:20240924T210247Z
UID:7276-1727204400-1727208000@www.wildelake.org
SUMMARY:CANCELED: RAC Meeting\, September 24
DESCRIPTION:The RAC meeting for Tuesday\, September 24 has been canceled. Applicants will receive final paperwork no later than Monday\, September 30. \nApplications for the RAC meeting on Tuesday\, September 24 are due by 4:30PM on Tuesday\, September 17. The Application for Exterior Alteration form and additional information about the application process can be found at https://wildelake.org/covenants. \nRAC meetings are open to the public. Up to date agendas can always be found on our website: RAC Agenda. \nFor Zoom information or to offer input on any pending application\, please email Lexi Levy Milani\, covenant advisor\, at covenants@wildelake.org. Thank you!
URL:https://www.wildelake.org/single-cal-event/rac-meeting-september-24/
LOCATION:Slayton House\, 10400 Cross Fox Lane\, Columbia\, MD\, 21044
CATEGORIES:Meetings
END:VEVENT
BEGIN:VEVENT
DTSTART;TZID=America/New_York:20240923T183000
DTEND;TZID=America/New_York:20240923T203000
DTSTAMP:20260421T160932
CREATED:20240518T012230Z
LAST-MODIFIED:20240518T014656Z
UID:7012-1727116200-1727123400@www.wildelake.org
SUMMARY:Wilde Lake Village Board Meeting\, September 23\, 2024*
DESCRIPTION:*as needed for work sessions\, special meetings\, etc.
URL:https://www.wildelake.org/single-cal-event/wilde-lake-village-board-meeting-september-23-2024-2/
CATEGORIES:Meetings
END:VEVENT
BEGIN:VEVENT
DTSTART;TZID=America/New_York:20240910T190000
DTEND;TZID=America/New_York:20240910T200000
DTSTAMP:20260421T160932
CREATED:20240729T161825Z
LAST-MODIFIED:20240729T161825Z
UID:7274-1725994800-1725998400@www.wildelake.org
SUMMARY:RAC Meeting\, September 10
DESCRIPTION:Applications for the RAC meeting on Tuesday\, September 10 are due by 4:30PM on Tuesday\, September 3. The Application for Exterior Alteration form and additional information about the application process can be found at https://wildelake.org/covenants. \nRAC meetings are open to the public. Up to date agendas can always be found on our website: RAC Agenda. \nFor Zoom information or to offer input on any pending application\, please email Lexi Levy Milani\, covenant advisor\, at covenants@wildelake.org. Thank you!
URL:https://www.wildelake.org/single-cal-event/rac-meeting-september-10/
LOCATION:Slayton House\, 10400 Cross Fox Lane\, Columbia\, MD\, 21044
CATEGORIES:Meetings
END:VEVENT
BEGIN:VEVENT
DTSTART;TZID=America/New_York:20240909T183000
DTEND;TZID=America/New_York:20240909T203000
DTSTAMP:20260421T160932
CREATED:20240518T011510Z
LAST-MODIFIED:20240518T011510Z
UID:7000-1725906600-1725913800@www.wildelake.org
SUMMARY:Wilde Lake Village Board Meeting\, September 9\, 2024
DESCRIPTION:
URL:https://www.wildelake.org/single-cal-event/wilde-lake-village-board-meeting-september-9-2024/
CATEGORIES:Meetings
END:VEVENT
END:VCALENDAR