BEGIN:VCALENDAR
VERSION:2.0
PRODID:-//Wilde Lake Community Association - ECPv6.15.3//NONSGML v1.0//EN
CALSCALE:GREGORIAN
METHOD:PUBLISH
X-WR-CALNAME:Wilde Lake Community Association
X-ORIGINAL-URL:https://www.wildelake.org
X-WR-CALDESC:Events for Wilde Lake Community Association
REFRESH-INTERVAL;VALUE=DURATION:PT1H
X-Robots-Tag:noindex
X-PUBLISHED-TTL:PT1H
BEGIN:VTIMEZONE
TZID:America/New_York
BEGIN:DAYLIGHT
TZOFFSETFROM:-0500
TZOFFSETTO:-0400
TZNAME:EDT
DTSTART:20260308T070000
END:DAYLIGHT
BEGIN:STANDARD
TZOFFSETFROM:-0400
TZOFFSETTO:-0500
TZNAME:EST
DTSTART:20261101T060000
END:STANDARD
END:VTIMEZONE
BEGIN:VEVENT
DTSTART;TZID=America/New_York:20260210T190000
DTEND;TZID=America/New_York:20260210T200000
DTSTAMP:20260422T184743
CREATED:20251203T175109Z
LAST-MODIFIED:20260205T191053Z
UID:9187-1770750000-1770753600@www.wildelake.org
SUMMARY:CANCELLED: RAC Meeting\, Feb. 10
DESCRIPTION:Please note: the Resident Architectural Committee (RAC) meeting scheduled for Feb. 10 has been cancelled due to a lack of applications. The next meeting is scheduled for Tuesday\, Feb. 24. Thank you! \nApplications for the Resident Architectural Committee (RAC) meeting on Tuesday\, Feb. 10 are due by 4:30PM on Tuesday\, Feb. 3. The Application for Exterior Alteration form and additional information about the application process can be found at https://wildelake.org/covenants.  \nRAC meetings are currently held virtually and are open to the public. Up to date agendas can always be found on our website: RAC Agenda. \nFor Zoom information or to offer input on any pending application\, please email Lexi Levy Milani\, covenant advisor\, at covenants@wildelake.org. Input must be received by 2:00PM the day prior to the meeting. Thank you!
URL:https://www.wildelake.org/single-cal-event/rac-meeting-feb-10/
LOCATION:Zoom
CATEGORIES:Meetings
END:VEVENT
BEGIN:VEVENT
DTSTART;TZID=America/New_York:20260219T170000
DTEND;TZID=America/New_York:20260219T180000
DTSTAMP:20260422T184743
CREATED:20260206T170648Z
LAST-MODIFIED:20260206T170648Z
UID:9451-1771520400-1771524000@www.wildelake.org
SUMMARY:CA Presents: Board Candidate Information Session\, Feb. 19
DESCRIPTION:From Columbia Association: \nInterested in making a bigger impact in your community? Learn how to get involved in Columbia’s decision-making by running for the Columbia Association Board of Directors or your Village board. Hear from board and village representatives and join CA leaders to learn about the election process\, candidate requirements\, and how you can serve your community. \nThis info session will be held on Zoom on Thursday\, Feb. 19 from 5-6PM. To register\, visit CA’s website. 
URL:https://www.wildelake.org/single-cal-event/ca-presents-board-candidate-information-session-feb-19/
LOCATION:Zoom
CATEGORIES:Meetings
END:VEVENT
BEGIN:VEVENT
DTSTART;TZID=America/New_York:20260224T190000
DTEND;TZID=America/New_York:20260224T200000
DTSTAMP:20260422T184743
CREATED:20251203T175220Z
LAST-MODIFIED:20251203T175220Z
UID:9189-1771959600-1771963200@www.wildelake.org
SUMMARY:RAC Meeting\, Feb. 24
DESCRIPTION:Applications for the Resident Architectural Committee (RAC) meeting on Tuesday\, Feb. 24 are due by 4:30PM on Tuesday\, Feb. 17. The Application for Exterior Alteration form and additional information about the application process can be found at https://wildelake.org/covenants.  \nRAC meetings are currently held virtually and are open to the public. Up to date agendas can always be found on our website: RAC Agenda. \nFor Zoom information or to offer input on any pending application\, please email Lexi Levy Milani\, covenant advisor\, at covenants@wildelake.org. Input must be received by 2:00PM the day prior to the meeting. Thank you!
URL:https://www.wildelake.org/single-cal-event/rac-meeting-feb-24/
LOCATION:Zoom
CATEGORIES:Meetings
END:VEVENT
BEGIN:VEVENT
DTSTART;TZID=America/New_York:20260302T183000
DTEND;TZID=America/New_York:20260302T203000
DTSTAMP:20260422T184743
CREATED:20250509T002056Z
LAST-MODIFIED:20250509T002056Z
UID:8267-1772476200-1772483400@www.wildelake.org
SUMMARY:Wilde Lake Village Board Meeting
DESCRIPTION:
URL:https://www.wildelake.org/single-cal-event/wilde-lake-village-board-meeting-11/
CATEGORIES:Meetings
END:VEVENT
BEGIN:VEVENT
DTSTART;TZID=America/New_York:20260310T190000
DTEND;TZID=America/New_York:20260310T200000
DTSTAMP:20260422T184743
CREATED:20251203T175331Z
LAST-MODIFIED:20260303T150309Z
UID:9191-1773169200-1773172800@www.wildelake.org
SUMMARY:RAC Meeting\, March 10
DESCRIPTION:Applications for the Resident Architectural Committee (RAC) meeting on Tuesday\, March 10 are due by 4:30PM on Tuesday\, March 3. The Application for Exterior Alteration form and additional information about the application process can be found at https://wildelake.org/covenants.  \nRAC meetings are currently held virtually and are open to the public. Up to date agendas can always be found on our website: RAC Agenda. \nFor Zoom information or to offer input on any pending application\, please email Lexi Levy Milani\, covenant advisor\, at covenants@wildelake.org. Input must be received by 2:00PM the day prior to the meeting. Thank you!
URL:https://www.wildelake.org/single-cal-event/rac-meeting-march-10/
LOCATION:Zoom
CATEGORIES:Meetings
END:VEVENT
BEGIN:VEVENT
DTSTART;TZID=America/New_York:20260316T183000
DTEND;TZID=America/New_York:20260316T203000
DTSTAMP:20260422T184743
CREATED:20250509T002131Z
LAST-MODIFIED:20260316T183105Z
UID:8269-1773685800-1773693000@www.wildelake.org
SUMMARY:Wilde Lake Village Board Meeting
DESCRIPTION:Update as of 10:30AM\, Monday\, March 16: \nDue to forecasted inclement weather\, the Wilde Lake Village Board meeting [agenda\, PDF file] scheduled to begin at 6:30PM on Monday\, March 16 will be held in a virtual format. To attend\, please use this Zoom link. Please stay safe this evening!
URL:https://www.wildelake.org/single-cal-event/wilde-lake-village-board-meeting-12/
LOCATION:Zoom
CATEGORIES:Meetings
END:VEVENT
BEGIN:VEVENT
DTSTART;TZID=America/New_York:20260324T190000
DTEND;TZID=America/New_York:20260324T200000
DTSTAMP:20260422T184743
CREATED:20251203T175437Z
LAST-MODIFIED:20251203T175652Z
UID:9193-1774378800-1774382400@www.wildelake.org
SUMMARY:RAC Meeting\, March 24
DESCRIPTION:Applications for the Resident Architectural Committee (RAC) meeting on Tuesday\, March 24 are due by 4:30PM on Tuesday\, March 17. The Application for Exterior Alteration form and additional information about the application process can be found at https://wildelake.org/covenants.  \nRAC meetings are currently held virtually and are open to the public. Up to date agendas can always be found on our website: RAC Agenda. \nFor Zoom information or to offer input on any pending application\, please email Lexi Levy Milani\, covenant advisor\, at covenants@wildelake.org. Input must be received by 2:00PM the day prior to the meeting. Thank you!
URL:https://www.wildelake.org/single-cal-event/rac-meeting-march-24/
LOCATION:Zoom
CATEGORIES:Meetings
END:VEVENT
BEGIN:VEVENT
DTSTART;TZID=America/New_York:20260327T140000
DTEND;TZID=America/New_York:20260327T153000
DTSTAMP:20260422T184743
CREATED:20260325T145002Z
LAST-MODIFIED:20260325T145202Z
UID:9656-1774620000-1774625400@www.wildelake.org
SUMMARY:Wilde Lake Ad Hoc Committee Meeting
DESCRIPTION:
URL:https://www.wildelake.org/single-cal-event/wilde-lake-ad-hoc-committee-meeting/
LOCATION:Slayton House\, 10400 Cross Fox Lane\, Columbia\, MD\, 21044
CATEGORIES:Meetings
END:VEVENT
BEGIN:VEVENT
DTSTART;TZID=America/New_York:20260413T183000
DTEND;TZID=America/New_York:20260413T203000
DTSTAMP:20260422T184743
CREATED:20250509T002215Z
LAST-MODIFIED:20250509T002419Z
UID:8271-1776105000-1776112200@www.wildelake.org
SUMMARY:Wilde Lake Village Board Meeting
DESCRIPTION:
URL:https://www.wildelake.org/single-cal-event/wilde-lake-village-board-meeting-13/
CATEGORIES:Meetings
END:VEVENT
BEGIN:VEVENT
DTSTART;TZID=America/New_York:20260414T190000
DTEND;TZID=America/New_York:20260414T200000
DTSTAMP:20260422T184743
CREATED:20251203T175810Z
LAST-MODIFIED:20251203T175956Z
UID:9196-1776193200-1776196800@www.wildelake.org
SUMMARY:RAC Meeting\, April 14
DESCRIPTION:Applications for the Resident Architectural Committee (RAC) meeting on Tuesday\, April 14 are due by 4:30PM on Thursday\, April 2. The Application for Exterior Alteration form and additional information about the application process can be found at https://wildelake.org/covenants.  \nRAC meetings are currently held virtually and are open to the public. Up to date agendas can always be found on our website: RAC Agenda. \nFor Zoom information or to offer input on any pending application\, please email Lexi Levy Milani\, covenant advisor\, at covenants@wildelake.org. Input must be received by 2:00PM the day prior to the meeting. Thank you!
URL:https://www.wildelake.org/single-cal-event/rac-meeting-april-14/
LOCATION:Zoom
CATEGORIES:Meetings
END:VEVENT
BEGIN:VEVENT
DTSTART;TZID=America/New_York:20260427T183000
DTEND;TZID=America/New_York:20260427T203000
DTSTAMP:20260422T184743
CREATED:20250509T002336Z
LAST-MODIFIED:20250509T002336Z
UID:8273-1777314600-1777321800@www.wildelake.org
SUMMARY:Wilde Lake Village Board Meeting
DESCRIPTION:
URL:https://www.wildelake.org/single-cal-event/wilde-lake-village-board-meeting-14/
CATEGORIES:Meetings
END:VEVENT
BEGIN:VEVENT
DTSTART;TZID=America/New_York:20260428T190000
DTEND;TZID=America/New_York:20260428T200000
DTSTAMP:20260422T184743
CREATED:20260303T145922Z
LAST-MODIFIED:20260303T145922Z
UID:9536-1777402800-1777406400@www.wildelake.org
SUMMARY:RAC Meeting\, April 28
DESCRIPTION:Applications for the Resident Architectural Committee (RAC) meeting on Tuesday\, April 28 are due by 4:30PM on Tuesday\, April 21. The Application for Exterior Alteration form and additional information about the application process can be found at https://wildelake.org/covenants.  \nRAC meetings are currently held virtually and are open to the public. Up to date agendas can always be found on our website: RAC Agenda. \nFor Zoom information or to offer input on any pending application\, please email Lexi Levy Milani\, covenant advisor\, at covenants@wildelake.org. Input must be received by 2:00PM the day prior to the meeting. Thank you!
URL:https://www.wildelake.org/single-cal-event/rac-meeting-april-28/
LOCATION:Zoom
CATEGORIES:Meetings
END:VEVENT
BEGIN:VEVENT
DTSTART;TZID=America/New_York:20260512T190000
DTEND;TZID=America/New_York:20260512T200000
DTSTAMP:20260422T184743
CREATED:20260303T150109Z
LAST-MODIFIED:20260303T150109Z
UID:9538-1778612400-1778616000@www.wildelake.org
SUMMARY:RAC Meeting\, May 12
DESCRIPTION:Applications for the Resident Architectural Committee (RAC) meeting on Tuesday\, May 12 are due by 4:30PM on Tuesday\, May 5. The Application for Exterior Alteration form and additional information about the application process can be found at https://wildelake.org/covenants.  \nRAC meetings are currently held virtually and are open to the public. Up to date agendas can always be found on our website: RAC Agenda. \nFor Zoom information or to offer input on any pending application\, please email Lexi Levy Milani\, covenant advisor\, at covenants@wildelake.org. Input must be received by 2:00PM the day prior to the meeting. Thank you!
URL:https://www.wildelake.org/single-cal-event/rac-meeting-may-12/
LOCATION:Zoom
CATEGORIES:Meetings
END:VEVENT
BEGIN:VEVENT
DTSTART;TZID=America/New_York:20260526T190000
DTEND;TZID=America/New_York:20260526T200000
DTSTAMP:20260422T184743
CREATED:20260303T150242Z
LAST-MODIFIED:20260303T150242Z
UID:9540-1779822000-1779825600@www.wildelake.org
SUMMARY:RAC Meeting\, May 26
DESCRIPTION:Applications for the Resident Architectural Committee (RAC) meeting on Tuesday\, May 26 are due by 4:30PM on Tuesday\, May 19. The Application for Exterior Alteration form and additional information about the application process can be found at https://wildelake.org/covenants.  \nRAC meetings are currently held virtually and are open to the public. Up to date agendas can always be found on our website: RAC Agenda. \nFor Zoom information or to offer input on any pending application\, please email Lexi Levy Milani\, covenant advisor\, at covenants@wildelake.org. Input must be received by 2:00PM the day prior to the meeting. Thank you!
URL:https://www.wildelake.org/single-cal-event/rac-meeting-may-26/
LOCATION:Zoom
CATEGORIES:Meetings
END:VEVENT
END:VCALENDAR