BEGIN:VCALENDAR
VERSION:2.0
PRODID:-//Wilde Lake Community Association - ECPv6.15.3//NONSGML v1.0//EN
CALSCALE:GREGORIAN
METHOD:PUBLISH
X-ORIGINAL-URL:https://www.wildelake.org
X-WR-CALDESC:Events for Wilde Lake Community Association
REFRESH-INTERVAL;VALUE=DURATION:PT1H
X-Robots-Tag:noindex
X-PUBLISHED-TTL:PT1H
BEGIN:VTIMEZONE
TZID:America/New_York
BEGIN:DAYLIGHT
TZOFFSETFROM:-0500
TZOFFSETTO:-0400
TZNAME:EDT
DTSTART:20260308T070000
END:DAYLIGHT
BEGIN:STANDARD
TZOFFSETFROM:-0400
TZOFFSETTO:-0500
TZNAME:EST
DTSTART:20261101T060000
END:STANDARD
END:VTIMEZONE
BEGIN:VEVENT
DTSTART;TZID=America/New_York:20260209T183000
DTEND;TZID=America/New_York:20260209T203000
DTSTAMP:20260422T052531
CREATED:20250620T163951Z
LAST-MODIFIED:20260209T155501Z
UID:8500-1770661800-1770669000@www.wildelake.org
SUMMARY:UPDATED: Wilde Lake Village Board Meeting
DESCRIPTION:UPDATE\, Feb. 9\, 2026: The currently scheduled Regular Meeting of the Wilde Lake Community Association Board of Directors on February 9\, 2026\, at 6:30 pm\, is now a Special Meeting to be held in closed session on Zoom. \nThis meeting will be held in closed session for the following purposes: \n1. Discussion of matters pertaining to employees and personnel: \n2. Consultation with staff personnel\, consultants\, attorneys\, board members\, or other persons\, in connection with pending or potential litigation or other legal matters. \nThe Regular Meeting of the Wilde Lake Community Association Board of Directors originally scheduled for February 9\, 2026\, is postponed to Monday February 16\, 2026\, at 6:30 pm at Slayton House. This will be a Zoom meeting\, and the link will be posted with the agenda. \nKatharine C Rathbun \nChair\, Wilde Lake Community Association Board of Directors
URL:https://www.wildelake.org/single-cal-event/wilde-lake-village-board-meeting-15/
LOCATION:Slayton House\, 10400 Cross Fox Lane\, Columbia\, MD\, 21044
CATEGORIES:Meetings
END:VEVENT
END:VCALENDAR