BEGIN:VCALENDAR
VERSION:2.0
PRODID:-//Wilde Lake Community Association - ECPv6.15.3//NONSGML v1.0//EN
CALSCALE:GREGORIAN
METHOD:PUBLISH
X-ORIGINAL-URL:https://www.wildelake.org
X-WR-CALDESC:Events for Wilde Lake Community Association
REFRESH-INTERVAL;VALUE=DURATION:PT1H
X-Robots-Tag:noindex
X-PUBLISHED-TTL:PT1H
BEGIN:VTIMEZONE
TZID:America/New_York
BEGIN:DAYLIGHT
TZOFFSETFROM:-0500
TZOFFSETTO:-0400
TZNAME:EDT
DTSTART:20250309T070000
END:DAYLIGHT
BEGIN:STANDARD
TZOFFSETFROM:-0400
TZOFFSETTO:-0500
TZNAME:EST
DTSTART:20251102T060000
END:STANDARD
END:VTIMEZONE
BEGIN:VEVENT
DTSTART;TZID=America/New_York:20251112T190000
DTEND;TZID=America/New_York:20251112T200000
DTSTAMP:20260422T183221
CREATED:20250916T181528Z
LAST-MODIFIED:20250916T181528Z
UID:8901-1762974000-1762977600@www.wildelake.org
SUMMARY:RAC Meeting\, Nov. 12
DESCRIPTION:Please note: this meeting will be held on Wednesday\, Nov. 12 due to the Veterans Day holiday. \nApplications for the Resident Architectural Committee (RAC) meeting on Wednesday\, Nov. 12 are due by 4:30PM on Tuesday\, Nov. 4. The Application for Exterior Alteration form and additional information about the application process can be found at https://wildelake.org/covenants. \nRAC meetings are currently held virtually and are open to the public. Up to date agendas can always be found on our website: RAC Agenda. \nFor Zoom information or to offer input on any pending application\, please email Lexi Levy Milani\, covenant advisor\, at covenants@wildelake.org. Input must be received by 4:30PM the day prior to the meeting. Thank you!
URL:https://www.wildelake.org/single-cal-event/rac-meeting-nov-12/
LOCATION:Zoom
CATEGORIES:Meetings
END:VEVENT
END:VCALENDAR