BEGIN:VCALENDAR
VERSION:2.0
PRODID:-//Wilde Lake Community Association - ECPv6.15.3//NONSGML v1.0//EN
CALSCALE:GREGORIAN
METHOD:PUBLISH
X-WR-CALNAME:Wilde Lake Community Association
X-ORIGINAL-URL:https://www.wildelake.org
X-WR-CALDESC:Events for Wilde Lake Community Association
REFRESH-INTERVAL;VALUE=DURATION:PT1H
X-Robots-Tag:noindex
X-PUBLISHED-TTL:PT1H
BEGIN:VTIMEZONE
TZID:America/New_York
BEGIN:DAYLIGHT
TZOFFSETFROM:-0500
TZOFFSETTO:-0400
TZNAME:EDT
DTSTART:20260308T070000
END:DAYLIGHT
BEGIN:STANDARD
TZOFFSETFROM:-0400
TZOFFSETTO:-0500
TZNAME:EST
DTSTART:20261101T060000
END:STANDARD
END:VTIMEZONE
BEGIN:VEVENT
DTSTART;TZID=America/New_York:20260105T183000
DTEND;TZID=America/New_York:20260105T203000
DTSTAMP:20260421T175550
CREATED:20250509T001935Z
LAST-MODIFIED:20260105T150632Z
UID:8263-1767637800-1767645000@www.wildelake.org
SUMMARY:Wilde Lake Village Board Meeting
DESCRIPTION:Agenda – WLVB Meeting Monday\, Jan. 5\, 2026 at 6:30PM \nNOTICE: The in-person portion of the hybrid meeting of the WLCA Board of Directors is cancelled because of the risk of influenza. The meeting will be held as scheduled on Zoom [link].
URL:https://www.wildelake.org/single-cal-event/wilde-lake-village-board-meeting-jan-5-2026/
LOCATION:Zoom
CATEGORIES:Meetings
END:VEVENT
BEGIN:VEVENT
DTSTART;TZID=America/New_York:20260113T190000
DTEND;TZID=America/New_York:20260113T200000
DTSTAMP:20260421T175550
CREATED:20251203T174851Z
LAST-MODIFIED:20251203T174851Z
UID:9183-1768330800-1768334400@www.wildelake.org
SUMMARY:RAC Meeting\, Jan. 13
DESCRIPTION:Applications for the Resident Architectural Committee (RAC) meeting on Tuesday\, January 13 are due by 4:30PM on Tuesday\, January 6. The Application for Exterior Alteration form and additional information about the application process can be found at https://wildelake.org/covenants.  \nRAC meetings are currently held virtually and are open to the public. Up to date agendas can always be found on our website: RAC Agenda. \nFor Zoom information or to offer input on any pending application\, please email Lexi Levy Milani\, covenant advisor\, at covenants@wildelake.org. Input must be received by 2:00PM the day prior to the meeting. Thank you!
URL:https://www.wildelake.org/single-cal-event/rac-meeting-jan-13/
LOCATION:Zoom
CATEGORIES:Meetings
END:VEVENT
BEGIN:VEVENT
DTSTART;TZID=America/New_York:20260122T190000
DTEND;TZID=America/New_York:20260122T210000
DTSTAMP:20260421T175550
CREATED:20260120T154934Z
LAST-MODIFIED:20260120T154934Z
UID:9387-1769108400-1769115600@www.wildelake.org
SUMMARY:CA Board Meeting Town Hall\, Jan. 22
DESCRIPTION:Join CA’s senior leadership team and Board of Directors for a Town Hall on Thursday\, January 22 at 7PM at Slayton House (10400 Cross Fox Lane). Learn more about the Fiscal Year (FY) 2027 budget and share your feedback. Resident Speakout will be a modified format consisting of conversations with Board Members\, political representatives\, and the CA Executive Team. We invite you to stick around for casual conversations and questions in the Slayton House lobby. \nNo pre-registration is required to attend\, but an RSVP is encouraged (required for complimentary childcare). To RSVP\, visit CA’s website. You can find the packet and agenda for the meeting on CA’s board of directors page.\n \nUnable to attend? A recording of the meeting will be available on the CA Live Stream YouTube page. 
URL:https://www.wildelake.org/single-cal-event/ca-board-meeting-town-hall-jan-22/
LOCATION:Slayton House\, 10400 Cross Fox Lane\, Columbia\, MD\, 21044
CATEGORIES:Meetings
END:VEVENT
BEGIN:VEVENT
DTSTART;TZID=America/New_York:20260127T190000
DTEND;TZID=America/New_York:20260127T200000
DTSTAMP:20260421T175550
CREATED:20251203T175005Z
LAST-MODIFIED:20251203T180021Z
UID:9185-1769540400-1769544000@www.wildelake.org
SUMMARY:RAC Meeting\, Jan. 27
DESCRIPTION:Applications for the Resident Architectural Committee (RAC) meeting on Tuesday\, January 27 are due by 4:30PM on Tuesday\, January 20. The Application for Exterior Alteration form and additional information about the application process can be found at https://wildelake.org/covenants.  \nRAC meetings are currently held virtually and are open to the public. Up to date agendas can always be found on our website: RAC Agenda. \nFor Zoom information or to offer input on any pending application\, please email Lexi Levy Milani\, covenant advisor\, at covenants@wildelake.org. Input must be received by 2:00PM the day prior to the meeting. Thank you!
URL:https://www.wildelake.org/single-cal-event/rac-meeting-jan-27/
LOCATION:Zoom
CATEGORIES:Meetings
END:VEVENT
END:VCALENDAR