BEGIN:VCALENDAR
VERSION:2.0
PRODID:-//Wilde Lake Community Association - ECPv6.15.3//NONSGML v1.0//EN
CALSCALE:GREGORIAN
METHOD:PUBLISH
X-ORIGINAL-URL:https://www.wildelake.org
X-WR-CALDESC:Events for Wilde Lake Community Association
REFRESH-INTERVAL;VALUE=DURATION:PT1H
X-Robots-Tag:noindex
X-PUBLISHED-TTL:PT1H
BEGIN:VTIMEZONE
TZID:America/New_York
BEGIN:DAYLIGHT
TZOFFSETFROM:-0500
TZOFFSETTO:-0400
TZNAME:EDT
DTSTART:20250309T070000
END:DAYLIGHT
BEGIN:STANDARD
TZOFFSETFROM:-0400
TZOFFSETTO:-0500
TZNAME:EST
DTSTART:20251102T060000
END:STANDARD
END:VTIMEZONE
BEGIN:VEVENT
DTSTART;TZID=America/New_York:20250908T183000
DTEND;TZID=America/New_York:20250908T203000
DTSTAMP:20260422T163525
CREATED:20250509T001408Z
LAST-MODIFIED:20250509T001408Z
UID:8255-1757356200-1757363400@www.wildelake.org
SUMMARY:Wilde Lake Village Board Meeting
DESCRIPTION:
URL:https://www.wildelake.org/single-cal-event/wilde-lake-village-board-meeting-5/
LOCATION:MD
CATEGORIES:Meetings
END:VEVENT
BEGIN:VEVENT
DTSTART;TZID=America/New_York:20250909T190000
DTEND;TZID=America/New_York:20250909T200000
DTSTAMP:20260422T163525
CREATED:20250611T174240Z
LAST-MODIFIED:20250611T174240Z
UID:8456-1757444400-1757448000@www.wildelake.org
SUMMARY:RAC Meeting\, September 9
DESCRIPTION:Applications for the Resident Architectural Committee (RAC) meeting on Tuesday\, September 9 are due by 4:30PM on Tuesday\, September 2. The Application for Exterior Alteration form and additional information about the application process can be found at https://wildelake.org/covenants. \nRAC meetings are currently held virtually and are open to the public. Up to date agendas can always be found on our website: RAC Agenda. \nFor Zoom information or to offer input on any pending application\, please email Lexi Levy Milani\, covenant advisor\, at covenants@wildelake.org. Input must be received by 4:30PM the day prior to the meeting. Thank you!
URL:https://www.wildelake.org/single-cal-event/rac-meeting-september-9/
LOCATION:Zoom
CATEGORIES:Meetings
END:VEVENT
BEGIN:VEVENT
DTSTART;TZID=America/New_York:20250911T190000
DTEND;TZID=America/New_York:20250911T210000
DTSTAMP:20260422T163525
CREATED:20250826T170703Z
LAST-MODIFIED:20250826T171038Z
UID:8800-1757617200-1757624400@www.wildelake.org
SUMMARY:Columbia Association Board Meeting Town Hall\, Sept. 11
DESCRIPTION:Join CA’s senior leadership team for a Town Hall on Thursday\, September 11 at 7pm at Slayton House. Learn more about the Fiscal Year (FY) 2027 budget\, Community Operations\, Community Programs and Services and Board goals from: \n\nPresident/CEO Shawn MacInnes\nSenior Vice President of Administration/CFO Shon McCollum\nVice President of Community Programs and Services Dan Burns\nVice President of Community Operations Jeremy Scharfenberg\n\nQ&A and open discussion will follow each presentation. We invite you to stick around for casual conversations in the Slayton House lobby.  \nRSVP is encouraged (required for complimentary childcare). \nFind the packet and agenda for the meeting on CA’s board of directors page. \nSign up to speak at the monthly meeting by visiting CA’s resident speak-out page. Please note\, all resident speak-out participants must be in-person for this meeting. \nA recording of the meeting will be available on the CA Live Stream YouTube page.
URL:https://www.wildelake.org/single-cal-event/columbia-association-board-meeting-town-hall-sept-11/
LOCATION:Slayton House\, 10400 Cross Fox Lane\, Columbia\, MD\, 21044
CATEGORIES:Meetings
END:VEVENT
BEGIN:VEVENT
DTSTART;TZID=America/New_York:20250930T190000
DTEND;TZID=America/New_York:20250930T200000
DTSTAMP:20260422T163525
CREATED:20250611T174458Z
LAST-MODIFIED:20250930T171828Z
UID:8458-1759258800-1759262400@www.wildelake.org
SUMMARY:RAC Meeting\, September 30
DESCRIPTION:Please note: there will be no Zoom meeting on this date as the RAC reached quorum via email. Residents with input about any of the applications on the agenda should email Lexi Levy Milani (see below). Thank you! \nApplications for the Resident Architectural Committee (RAC) meeting on Tuesday\, September 30 are due by 4:30PM on Tuesday\, September 23. The Application for Exterior Alteration form and additional information about the application process can be found at https://wildelake.org/covenants. \nRAC meetings are currently held virtually and are open to the public. Up to date agendas can always be found on our website: RAC Agenda. \nFor Zoom information or to offer input on any pending application\, please email Lexi Levy Milani\, covenant advisor\, at covenants@wildelake.org. Input must be received by 4:30PM the day prior to the meeting. Thank you!
URL:https://www.wildelake.org/single-cal-event/rac-meeting-september-30/
LOCATION:Zoom
CATEGORIES:Meetings
END:VEVENT
END:VCALENDAR