BEGIN:VCALENDAR
VERSION:2.0
PRODID:-//Wilde Lake Community Association - ECPv6.15.3//NONSGML v1.0//EN
CALSCALE:GREGORIAN
METHOD:PUBLISH
X-ORIGINAL-URL:https://www.wildelake.org
X-WR-CALDESC:Events for Wilde Lake Community Association
REFRESH-INTERVAL;VALUE=DURATION:PT1H
X-Robots-Tag:noindex
X-PUBLISHED-TTL:PT1H
BEGIN:VTIMEZONE
TZID:America/New_York
BEGIN:DAYLIGHT
TZOFFSETFROM:-0500
TZOFFSETTO:-0400
TZNAME:EDT
DTSTART:20260308T070000
END:DAYLIGHT
BEGIN:STANDARD
TZOFFSETFROM:-0400
TZOFFSETTO:-0500
TZNAME:EST
DTSTART:20261101T060000
END:STANDARD
END:VTIMEZONE
BEGIN:VEVENT
DTSTART;TZID=America/New_York:20260503T150000
DTEND;TZID=America/New_York:20260503T170000
DTSTAMP:20260421T113802
CREATED:20260419T134213Z
LAST-MODIFIED:20260419T134213Z
UID:9806-1777820400-1777827600@www.wildelake.org
SUMMARY:Fariba Ghisor | Reception: Sunday\, May 3\, 2026 | 3:00 PM – 5:00 PM
DESCRIPTION:Peace and tranquility flow through life\, allowing the world—despite all its hardships—to become a more beautiful place to live. \nHistory\, ever repeating itself\, carries us forward each time with renewed hope. Like grains of sand in the river of life\, we move along this path without question; yet it is hope for the future that continues to sustain and strengthen us. \nAnd once again\, it is with hope that we embrace life. \nReception: Sunday\, May 3\, 2026 | 3:00 PM – 5:00 PM | RSVP \nGallery Talk: Saturday\, June 13\, 2026 | 11:00 AM – 12:00 PM | RSVP
URL:https://www.wildelake.org/single-cal-event/fariba-ghisor-reception-sunday-may-3-2026-300-pm-500-pm/
CATEGORIES:Art Reception,Exhibits
END:VEVENT
END:VCALENDAR