BEGIN:VCALENDAR
VERSION:2.0
PRODID:-//Wilde Lake Community Association - ECPv6.15.3//NONSGML v1.0//EN
CALSCALE:GREGORIAN
METHOD:PUBLISH
X-WR-CALNAME:Wilde Lake Community Association
X-ORIGINAL-URL:https://www.wildelake.org
X-WR-CALDESC:Events for Wilde Lake Community Association
REFRESH-INTERVAL;VALUE=DURATION:PT1H
X-Robots-Tag:noindex
X-PUBLISHED-TTL:PT1H
BEGIN:VTIMEZONE
TZID:America/New_York
BEGIN:DAYLIGHT
TZOFFSETFROM:-0500
TZOFFSETTO:-0400
TZNAME:EDT
DTSTART:20250309T070000
END:DAYLIGHT
BEGIN:STANDARD
TZOFFSETFROM:-0400
TZOFFSETTO:-0500
TZNAME:EST
DTSTART:20251102T060000
END:STANDARD
BEGIN:DAYLIGHT
TZOFFSETFROM:-0500
TZOFFSETTO:-0400
TZNAME:EDT
DTSTART:20260308T070000
END:DAYLIGHT
BEGIN:STANDARD
TZOFFSETFROM:-0400
TZOFFSETTO:-0500
TZNAME:EST
DTSTART:20261101T060000
END:STANDARD
END:VTIMEZONE
BEGIN:VEVENT
DTSTART;VALUE=DATE:20251223
DTEND;VALUE=DATE:20260103
DTSTAMP:20260422T180120
CREATED:20251219T141554Z
LAST-MODIFIED:20251219T141554Z
UID:9305-1766448000-1767398399@www.wildelake.org
SUMMARY:WLCA Offices + Slayton House Closed\, Dec. 23 - Jan. 2
DESCRIPTION:Wilde Lake Community Association offices and Slayton House will be closed for our annual winter break starting Tuesday\, Dec. 23. We will reopen at 9AM on Monday\, Jan. 5. Happy holidays!
URL:https://www.wildelake.org/single-cal-event/wlca-offices-slayton-house-closed-dec-23-jan-2/
LOCATION:Slayton House\, 10400 Cross Fox Lane\, Columbia\, MD\, 21044
CATEGORIES:Closings
END:VEVENT
END:VCALENDAR