BEGIN:VCALENDAR
VERSION:2.0
PRODID:-//Wilde Lake Community Association - ECPv6.15.3//NONSGML v1.0//EN
CALSCALE:GREGORIAN
METHOD:PUBLISH
X-WR-CALNAME:Wilde Lake Community Association
X-ORIGINAL-URL:https://www.wildelake.org
X-WR-CALDESC:Events for Wilde Lake Community Association
REFRESH-INTERVAL;VALUE=DURATION:PT1H
X-Robots-Tag:noindex
X-PUBLISHED-TTL:PT1H
BEGIN:VTIMEZONE
TZID:America/New_York
BEGIN:DAYLIGHT
TZOFFSETFROM:-0500
TZOFFSETTO:-0400
TZNAME:EDT
DTSTART:20260308T070000
END:DAYLIGHT
BEGIN:STANDARD
TZOFFSETFROM:-0400
TZOFFSETTO:-0500
TZNAME:EST
DTSTART:20261101T060000
END:STANDARD
END:VTIMEZONE
BEGIN:VEVENT
DTSTART;TZID=America/New_York:20260409T183000
DTEND;TZID=America/New_York:20260409T200000
DTSTAMP:20260421T083152
CREATED:20260323T195240Z
LAST-MODIFIED:20260406T140347Z
UID:9630-1775759400-1775764800@www.wildelake.org
SUMMARY:2026 Candidates' Forum
DESCRIPTION:Save the date: the candidates’ forum for Wilde Lake’s 2026 village election will be held on Thursday\, April 9 at 6:30PM at Slayton House (10400 Cross Fox Lane). The forum will be held in a hybrid format\, with a virtual option available [Zoom link]. All candidates for the Wilde Lake Village Board are invited to participate. \nWant to meet the candidates for Village Board? Read each candidate’s statement to learn about why they wish to serve our village in this important role. And please mark your calendars for Election Day\, Saturday\, April 25! \n 
URL:https://www.wildelake.org/single-cal-event/2026-candidates-forum/
CATEGORIES:Village Elections
END:VEVENT
END:VCALENDAR